Workbook

Sheet Read me
A1: HOW TO USE THIS DOCUMENT
A2: Welcome to the model used to determine the transportation levy rate for the 2024 Off-site Levies Bylaw. Note: This model is in DRAFT form for discussion purposes, using the latest information and assumptions available.
A4: Last Updated: September 11, 2023
A6: Transportation Levy Tabs 1 - 8
A7: Tab number | B7: Title | C7: Description
A8: Tab 1 | B8: Assumptions | C8: This tab entails the assumptions and steps to create the financial model. It also provides some details to clarify questions around the assumptions.
A9: Tab 2 | B9: Rate Summary | C9: This tab provides a high level summary of the steps that are taken to determine the transportation levy rate calculation, and provides a look at the proposed levy rate.
A10: Tab 3 | B10: Unlevied Land | C10: This tab describes the remaining unlevied land that is included in the model.
A11: Tab 4 | B11: Infrastructure | C11: This tab provides details on transportation projects that need to be built over the model period to support the growth of communities within Calgary city limits.
A12: Tab 4a | B12: Not Included | C12: This tab provides details on transportation capital projects that are not included in the levy rate calculation.
A13: Tab 5 | B13: Forecast Data | C13: This tab provides the detailed forecast data used to calculate benefit.
A14: Tab 6 | B14: Benefit Allocation | C14: This tab provides the benefit rate allocation to the forecast population in unlevied lands within approved greenfield Area Structure Plans.
A15: Tab 7 | B15: Financial Model | C15: This tab provides the financial modelling and a detailed calculation of the proposed levy rate.
A16: Tab 8 | B16: Bylaw Continuity | C16: This tab shows a breakdown of spending from funds collected under the 2016 bylaw, funds to be collected under the 2024 bylaw, and funds from other sources, until funds from the 2016 bylaw have been depleted.

Sheet Tab 1 - Assumptions
A1: Transportation - Assumptions
A2: Summary | B2: Frequently Asked Questions
A3: The City will use this financial model to calculate a transportation off-site levy rate per hectare that incorporates investment income, capital cost escalations, and the timing of expenditures and developer contributions through the model period. The levy rate calculated ensures that the off-site levy balance at the end of the model period is zero (i.e., revenues have matched expenditures). It also incorporates, if necessary, any interest costs incurred from the use of alternative funding sources required to deliver infrastructure in a timely manner.
A6: Assumptions
A7: Escalation rate | B7: The escalation factor of 3.58% is a five-year smoothed average, determined using Non-Residential Building Construction Price Index (CPI) for Calgary.
A8: Discount rate | B8: The discount rate of 4.29% is based on the asset mix of the investments held on The City's capital deposits, and the Long-term Capital Market assumptions that The City uses in projecting returns from investment portfolios.
A9: Gross developable land | B9: Gross developable lands are calculated starting with the gross land area and deducting non-developable lands.
A10: Unlevied land | B10: Unlevied land includes all gross developable lands outside the off-site levy Established Area boundary that do not have executed development agreements. This was 14,211.1 hectares at the end of 2022, and is forecast to be 13,921.1 hectares at the end of 2023.
A11: Land absorption | B11: • All remaining unlevied hectares will sign development agreements within the forecast period (ending 2076). • The land absorption from 2023 to 2027 is based on the fall 2022 forecast by Corporate Economics. • Remaining unlevied hectares in current and future Area Structure Plans are assumed to follow a decreasing trend over the forecast period, on the expectation of higher densities supporting the same number of people.
A12: Benefit allocation | B12: Benefit allocation considers the land that will benefit from infrastructure being levied for and relates to the forecast residents and jobs in that land.
A13: Payment schedule | B13: This financial model incorporates the current levy payment schedule, where 20% of transportation levies are paid in year two after the development agreement is signed, and 80% in year three.
A14: Investment income on future value of cash flows | B14: Investment income is earned on the off-site levy beginning account balance, plus collections and minus spending through the year. Investment income on collections and spending is multiplied by a cashflow timing factor of 0.5 to reflect the fact that the timing of collection and spending varies throughout the year. If the balance of the off-site levy goes negative then interest is charged on the balance of the shortfall.
A15: Expenditures | B15: • Expenditures include: 1) high priority projects that are planned to be delivered first; 2) lower priority projects whose costs are not allocated to specific years. The latter are bundled and expenditures are managed over varying periods to ensure that the transportation off-site levy balance remains above $0 (funds will not be borrowed from other sources to cover project costs). • No additional transportation projects are approved for the 2023-26 budget cycle. Priority projects are assumed to begin in the next budget cycle, in 2027. It is recognized that additional projects may be approved during annual budget adjustments, and any new approvals will be reflected back into the model at the appropriate time. • After priority projects have been delivered, remaining spending on projects being levied for is estimated based on the availability of funds, with the goal of minimizing the off-site levy balance while keeping it above $0. This ensures that projects are delivered when funds are available. • All projects will be built within the model period.

Sheet Tab 2 - Rate Summary
A1: Transportation - Rate Summary
A2: Proposed 2024 Levy Rate | F2: Figure 1. Off-site levy rate calculation
B4: The levy rate calculation is being adjusted from the simple formula of Costs x Benefit / Land to the model described in Figure 1 to the right, and in the text below. This financial model uses the following inputs: • Total unlevied lands, and annual land absorption. • The off-site levy payment schedule. • Total capital costs of infrastructure being levied for, with the benefit allocations to determine total leviable costs. • Annual expenditures. • An escalation factor to calculate the future value of project costs. • A discount factor to calculate the discounted value of project costs, future revenue from developer contributions, and annual investment income or interest expense. The levy rate is then calculated using Excel's Goal Seek function to find the levy rate that balances all expenditures and revenues over the course of the model to result in an off-site levy balance of $0.
F21: Step 5 is iterative. | G21: Step 6 and 7 calculate automatically once annual spending is set. | I21: Step 8 must be iterated if any variables are changed. | J21: Steps 9 to 11 calculate automatically once the levy rate has been set.
B22: Step 1 | C22: Step 2 | D22: Step 3 | E22: Step 4 | F22: Step 5 | G22: Step 6 | H22: Step 7 | I22: Step 8 | J22: Step 9 | K22: Step 10 | L22: Step 11
B23: Unlevied land absorption | C23: Total capital costs | D23: Benefit allocation | E23: Leviable capital costs | F23: Annual spending | G23: Future value | H23: Discounted value | I23: Levy rate | J23: Developer contributions | K23: Investment income | L23: Ending levy fund balance
B24: Details on unlevied lands can be found in Tab 3. Remaining unlevied lands are assumed to be fully absorbed within the model period, in the slowly decreasing trend shown on Tab 7. | C24: Identify the total capital costs for projects that benefit unlevied lands. Details can be found in Tab 4. | D24: Determine the benefiting areas and benefit allocations that apply to the infrastructure identified in Step 2. Forecast details can be found in Tab 5, with benefit summary information in Tab 6. | E24: Leviable capital cost: • Apply benefit rates to the capital costs of each project to determine the developer share of costs. | F24: Set expenditures for projects benefiting unlevied lands to each year in the model period. The goal in managing spending is to minimize the annual ending account balance. | G24: Calculate the future value of capital costs over the model period. Details for this step can be found in Tab 7. | H24: Calculate the discounted value of the capital costs over the model period. Details for this step can be found in Tab 7. | I24: Use Excel's Goal Seek function to calculate the transportation off-site levy rate which ensures that developer contributions plus investment income are equal to the future value of capital cost/cash outflows by end of the model period. | J24: The levy rate is multiplied by the hectares that are forecast to sign development agreements each year to calculate the yearly contributions from the developers. | K24: The annual investment income is calculated by multiplying the balance of spending and contributions each year by the investment rate of return. | L24: The annual ending levy fund balance is calculated as the sum of spending, the starting balance, developer contributions, and investment income.
B25: A | C25: B | D25: C | E25: D | F25: E | G25: F | H25: G | I25: H | J25: I | K25: J | L25: K
B26: ='Tab 7 - Financial Model'!E83 -> 13921.103 | C26: ='Tab 4 - Infrastructure'!F115 -> 5324800000 | D26: =CONCATENATE('Tab 6 - Benefit Allocation'!A20, ": ",(ROUND('Tab 6 - Benefit Allocation'!B20*100,1)),"%") -> Greenfield: 50.9% | E26: ='Tab 7 - Financial Model'!E72 -> 1778113600 | F26: See Tab 7, rows 20 to 70. | G26: ='Tab 7 - Financial Model'!I75 -> 7.305825e+09 | H26: ='Tab 7 - Financial Model'!I76 -> 1.856146e+09 | I26: ='Tab 7 - Financial Model'!C3 -> 156386.37 | J26: ='Tab 7 - Financial Model'!I84 -> 7.2318718e+09 | K26: ='Tab 7 - Financial Model'!I90 -> 73953162 | L26: ='Tab 7 - Financial Model'!BN92 -> 0
B27: Hectares | C27: Dollars | D27: =CONCATENATE('Tab 6 - Benefit Allocation'!A21,": ",(ROUND('Tab 6 - Benefit Allocation'!B21*100,1)),"%") -> Shared Benefit: 21.4% | E27: Dollars | G27: Dollars | H27: Dollars | I27: Dollars | J27: Dollars | K27: Dollars | L27: Dollars

Sheet Tab 3 - Unlevied Land
A1: Transportation - Unlevied Land
A2: This tab provides background on different benefiting areas: the Established Area, unlevied land, and land that has already been levied. | Q2: Figure 2. Off-Site levy Established Area boundary, and unlevied lands as of the end of 2022
A5: Figure 2 to the right illustrates The City's Established Area, and Greenfield Area. The Established Area boundary was identifed in the 2016 Off-site Levies Bylaw and contains lands that are fully developed, or have excuted development agreement to allow future development. The purpose of the boundary is to determine benefiting areas in support of levy rate calculations (established or greenfield) for different parts of the city. Unlevied lands, shown in green, includes all gross developable lands outside the off-site levy Established Area boundary that do not have an excuted development agreement, as of the end of 2022. The off-site levy rate calculation excludes the forecast land absorption for 2023. Land shown in yellow includes both greenfield lands that have already been levied, and non-developable land. Non-developable land is excluded from the determination of the number of hectares that have been levied or are unlevied. This includes, for example: • The Transportation Utility Corridor (TUC), or road right-of-way for provincial expressways. • Environmental Reserve (slopes with a grade greater than 15%, natural water bodies, areas impacted by a 1:100 year flood). • Landfills. • Cemeteries.

Sheet Tab 4 - Infrastructure
A1: Transportation - Infrastructure Being Levied For
A2: This tab provides the list of projects and costs that will be eligible for levy funding in the 2024 Off-site Levies Bylaw. Refer to Figures 3-6 on Tab 6 to see maps with these project locations. Costs are current to Q2 2023.
A5: Last Updated: September 1, 2023 | G5: Lookup from Tab 6 - Benefit Allocation | H5: Calc | I5: Calc
A6: OSL TR ID | B6: Location | C6: Infrastructure type | D6: Greenfield/Shared Benefit | E6: Project stage | F6: Total cost ($) | G6: Benefit | H6: Leviable cost ($) | I6: Previously levied/City share ($) | J6: New to bylaw
A7: 285 | B7: 5A Network (greenfield pathways and bikeways) | C7: 5A Network | D7: Greenfield | E7: Split - mixed deliverables | F7: 44000000 | G7: =VLOOKUP(D7,'Tab 6 - Benefit Allocation'!$A$20:$B$21,2,FALSE) -> 0.509 | H7: =G7*F7 -> 22396000 | I7: =F7-H7 -> 21604000 | J7: Y
A8: 294 | B8: 144 Avenue N. BRT Route | C8: BRT Infrastructure | D8: Greenfield | E8: 1 - Identify | F8: 50000000 | G8: =VLOOKUP(D8,'Tab 6 - Benefit Allocation'!$A$20:$B$21,2,FALSE) -> 0.509 | H8: =G8*F8 -> 25450000 | I8: =F8-H8 -> 24550000 | J8: Y
A9: 119 | B9: 162 Avenue S.W. BRT from S.W. Ring Road to west side of Providence | C9: BRT Infrastructure | D9: Greenfield | E9: 1 - Identify | F9: 47000000 | G9: =VLOOKUP(D9,'Tab 6 - Benefit Allocation'!$A$20:$B$21,2,FALSE) -> 0.509 | H9: =G9*F9 -> 23923000 | I9: =F9-H9 -> 23077000 | J9: N
A10: 305 | B10: MAX 301 BRT from Aurora Park to 144 Avenue N. | C10: BRT Infrastructure | D10: Greenfield | E10: 1 - Identify | F10: 9000000 | G10: =VLOOKUP(D10,'Tab 6 - Benefit Allocation'!$A$20:$B$21,2,FALSE) -> 0.509 | H10: =G10*F10 -> 4581000 | I10: =F10-H10 -> 4419000 | J10: Y
A11: 309 | B11: MAX Purple BRT from 84 Street E. to city limits | C11: BRT Infrastructure | D11: Greenfield | E11: 1 - Identify | F11: 84000000 | G11: =VLOOKUP(D11,'Tab 6 - Benefit Allocation'!$A$20:$B$21,2,FALSE) -> 0.509 | H11: =G11*F11 -> 42756000 | I11: =F11-H11 -> 41244000 | J11: Y
A12: 292 | B12: MAX Purple BRT from Hubalta to 84 Street S.E. | C12: BRT Infrastructure | D12: Greenfield | E12: 1 - Identify | F12: 51000000 | G12: =VLOOKUP(D12,'Tab 6 - Benefit Allocation'!$A$20:$B$21,2,FALSE) -> 0.509 | H12: =G12*F12 -> 25959000 | I12: =F12-H12 -> 25041000 | J12: Y
A13: 332 | B13: MAX Teal extension from Douglasdale Business Park to 68 Street S.E. | C13: BRT Infrastructure | D13: Greenfield | E13: 1 - Identify | F13: 8000000 | G13: =VLOOKUP(D13,'Tab 6 - Benefit Allocation'!$A$20:$B$21,2,FALSE) -> 0.509 | H13: =G13*F13 -> 4072000 | I13: =F13-H13 -> 3928000 | J13: N
A14: 323 | B14: Greenfield Traffic Signals (539) | C14: Greenfield Traffic Signals | D14: Greenfield | E14: 1 - Identify | F14: 161700000 | G14: =VLOOKUP(D14,'Tab 6 - Benefit Allocation'!$A$20:$B$21,2,FALSE) -> 0.509 | H14: =G14*F14 -> 82305300 | I14: =F14-H14 -> 79394700 | J14: N
A15: 133 | B15: Airport Trail/36 Street N.E. Interchange | C15: Interchange | D15: Greenfield | E15: 1 - Identify | F15: 49000000 | G15: =VLOOKUP(D15,'Tab 6 - Benefit Allocation'!$A$20:$B$21,2,FALSE) -> 0.509 | H15: =G15*F15 -> 24941000 | I15: =F15-H15 -> 24059000 | J15: N
A16: 134 | B16: Airport Trail/60 Street N.E. Interchange | C16: Interchange | D16: Greenfield | E16: 2 - Assess & Select | F16: 141000000 | G16: =VLOOKUP(D16,'Tab 6 - Benefit Allocation'!$A$20:$B$21,2,FALSE) -> 0.509 | H16: =G16*F16 -> 71769000 | I16: =F16-H16 -> 69231000 | J16: N
A17: 167 | B17: Airport Trail/Stoney Trail N.E. Interchange (Ultimate) | C17: Interchange | D17: Greenfield | E17: 1 - Identify | F17: 27000000 | G17: =VLOOKUP(D17,'Tab 6 - Benefit Allocation'!$A$20:$B$21,2,FALSE) -> 0.509 | H17: =G17*F17 -> 13743000 | I17: =F17-H17 -> 13257000 | J17: N
A18: 164 | B18: Deerfoot Trail/128 Avenue N.E. Interchange | C18: Interchange | D18: Greenfield | E18: 1 - Identify | F18: 53000000 | G18: =VLOOKUP(D18,'Tab 6 - Benefit Allocation'!$A$20:$B$21,2,FALSE) -> 0.509 | H18: =G18*F18 -> 26977000 | I18: =F18-H18 -> 26023000 | J18: N
... A113: 233 | B113: Shaganappi Trail N.W. widening from Stoney Trail to Country Hills Boulevard (6-8 lanes) | C113: Road Widenings | D113: Shared Benefit | E113: 1 - Identify | F113: 7000000 | G113: =VLOOKUP(D113,'Tab 6 - Benefit Allocation'!$A$20:$B$21,2,FALSE) -> 0.214 | H113: =G113*F113 -> 1498000 | I113: =F113-H113 -> 5502000 | J113: N
E115: Transportation total | F115: =SUM(F7:F113) -> 5324800000 | H115: =SUM(H7:H113) -> 2257645700 | I115: =SUM(I7:I113) -> 3067154300
C117: This section shows the total project costs, leviable costs, and previously levied/City share of costs divided into greenfield and established benefiting areas. | E117: Sum by Benefiting Area: | F117: Total Cost | H117: Leviable Cost | I117: Previously Levied/City Share
E118: Shared Benefit | F118: =SUMIF($D$7:$D$114,$E118,F$7:F$114) -> 1534500000 | H118: =SUMIF($D$7:$D$114,$E118,H$7:H$114) -> 328383000 | I118: =SUMIF($D$7:$D$114,$E118,I$7:I$114) -> 1206117000
E119: Greenfield | F119: =SUMIF($D$7:$D$114,$E119,F$7:F$114) -> 3790300000 | H119: =SUMIF($D$7:$D$114,$E119,H$7:H$114) -> 1929262700 | I119: =SUMIF($D$7:$D$114,$E119,I$7:I$114) -> 1861037300
E120: Total | F120: =SUM(F118:F119) -> 5324800000 | H120: =SUM(H118:H119) -> 2257645700 | I120: =SUM(I118:I119) -> 3067154300
C123: This section calculates the total project cost for priority projects, per Tab 6, Section 1. | E123: Priority Project Costs - Tab 7, rows 21-55
E124: Shared Benefit - Tab 7, Cell D57: | F124: ='Tab 7 - Financial Model'!D57 -> 431000000
E125: Greenfield - Tab 7, Cell D58: | F125: ='Tab 7 - Financial Model'!D58 -> 760900000
C126: This section calculates the remaining project costs to be distributed over the remainder of the model period, used in Tab 7. | E126: Remaining Costs for Lower Priority Projects - Tab 7, rows 61-71
G127: Groupings | H127: Tab 6 - Section 2 Bundle Totals
E128: Shared Benefit | F128: =F118-F124 -> 1103500000 | G128: 4 | H128: =F128/G128 -> 275875000
E129: Greenfield | F129: =F119-F125 -> 3029400000 | G129: 5 | H129: =F129/G129 -> 605880000

Sheet Tab 4a - Not Included
A1: Transportation - Infrastructure List - Projects Not Being Levied For
A2: This tab provides the list of projects and costs that are not being included in the levy rate calculation for the 2024 Off-Site Levies Bylaw. Refer to Figure 7 on Tab 6 to see a map with these project locations.
A6: OSL LIST ID | B6: Location | C6: Infrastructure type | D6: Greenfield/ Established | E6: Stage | F6: Total cost ($)
A7: 399 | B7: Westbrook to MRU Transit Connection | C7: BRT Infrastructure | D7: Established | E7: 2 - Assess & Select | F7: 345000000
A8: 106 | B8: 14 Street N.W./Country Hills Boulevard Interchange | C8: Interchange | D8: Established | E8: 1 - Identify | F8: 63000000
A9: 108 | B9: 14 Street S.W./Anderson Road Interchange | C9: Interchange | D9: Established | E9: 1 - Identify | F9: 103000000
A10: 111 | B10: 16 Avenue N.E./19 Street N.E. Interchange (with Revisions to 16 Avenue N.E./Barlow Trail Interchange) | C10: Interchange | D10: Established | E10: 1 - Identify | F10: 72000000
A11: 123 | B11: 26 Avenue S.E. Connector/Blackfoot Trail Interchange | C11: Interchange | D11: Established | E11: 1 - Identify | F11: TBD
A12: 135 | B12: Anderson Road/Macleod Trail directional ramps | C12: Interchange | D12: Established | E12: 1 - Identify | F12: TBD
A13: 138 | B13: Anderson Road S.E./Acadia Drive Interchange | C13: Interchange | D13: Established | E13: 1 - Identify | F13: 66000000
A14: 139 | B14: Anderson Road S.E./Bonaventure Drive Interchange | C14: Interchange | D14: Established | E14: 1 - Identify | F14: 64000000
A15: 141 | B15: Anderson Road S.E./Woodpark Boulevard Interchange | C15: Interchange | D15: Established | E15: 1 - Identify | F15: TBD
A16: 137 | B16: Anderson Road S.W./24 Street S.W. Interchange | C16: Interchange | D16: Established | E16: 1 - Identify | F16: 68000000
A17: 140 | B17: Anderson Road S.W./Elbow Drive Interchange | C17: Interchange | D17: Established | E17: 1 - Identify | F17: 127000000
A18: 159 | B18: Crowchild Trail/12 Mile Coulee Road Interchange | C18: Interchange | D18: Greenfield | E18: 1 - Identify | F18: 77000000
A19: 160 | B19: Crowchild Trail/24 Avenue N.W. Interchange and C/D System (including new bridge over University Drive) | C19: Interchange | D19: Established | E19: 1 - Identify | F19: TBD
A20: 162 | B20: Crowchild Trail/University Drive/16 Avenue N.W. - Upgrade/Revise Interchanges | C20: Interchange | D20: Established | E20: 1 - Identify | F20: TBD
A21: 165 | B21: Deerfoot Trail/16 Avenue N.E. Interchange 3rd level | C21: Interchange | D21: Established | E21: 1 - Identify | F21: 160000000
A22: 166 | B22: Deerfoot Trail/17 Avenue S.E. EBL directional and basketweaves between Memorial and 17 Avenue S.E. | C22: Interchange | D22: Established | E22: 1 - Identify | F22: 145000000
A23: 168 | B23: Deerfoot Trail/32 Avenue N.E. Interchange Revisions | C23: Interchange | D23: Established | E23: 1 - Identify | F23: 10000000
A24: 169 | B24: Deerfoot Trail/50 Avenue S.W. Interchange | C24: Interchange | D24: Established | E24: 1 - Identify | F24: TBD
A25: 170 | B25: Deerfoot Trail/Anderson Road/Bow Bottom Trail Interchange (Ultimate) | C25: Interchange | D25: Established | E25: Split - mixed deliverables | F25: 255000000
A26: 171 | B26: Deerfoot Trail/Beddington Trail /11 Street N.E. Interchange (Ultimate) | C26: Interchange | D26: Established | E26: 1 - Identify | F26: 109000000
A27: 173 | B27: Deerfoot Trail/Glenmore Trail/Blackfoot Trail Interchange (Ultimate) | C27: Interchange | D27: Established | E27: 1 - Identify | F27: 330000000
A28: 174 | B28: Deerfoot Trail/Glenmore Trail Interchange Improvements | C28: Interchange | D28: Established | E28: 1 - Identify | F28: 69000000
A29: 175 | B29: Deerfoot Trail/McKnight Boulevard N.E. Interchange Upgrade | C29: Interchange | D29: Established | E29: 1 - Identify | F29: 5000000
A30: 176 | B30: Deerfoot Trail/Memorial Drive Interchange (Ultimate) | C30: Interchange | D30: Established | E30: 1 - Identify | F30: 115000000
A31: 179 | B31: Deerfoot Trail CD System between Glenmore Trail and Peigan Trail (including twin Calf Robe Bridge) | C31: Interchange | D31: Established | E31: 1 - Identify | F31: 346000000
A32: 193 | B32: Glenmore Trail/Richard Road S.W. Interchange | C32: Interchange | D32: Established | E32: 1 - Identify | F32: 59000000
A33: 206 | B33: Macleod Trail/25 Avenue Interchange | C33: Interchange | D33: Established | E33: 2 - Assess & Select | F33: TBD
A34: 203 | B34: Macleod Trail/Heritage Drive Interchange | C34: Interchange | D34: Established | E34: 1 - Identify | F34: 116000000
A35: 252 | B35: Macleod Trail/Lake Fraser Gate Interchange | C35: Interchange | D35: Established | E35: 1 - Identify | F35: 58000000
A36: 210 | B36: McKnight Boulevard N.E./19 Street Interchange | C36: Interchange | D36: Established | E36: 1 - Identify | F36: 53000000
A37: 211 | B37: McKnight Boulevard N.E./47 Street Interchange | C37: Interchange | D37: Established | E37: 1 - Identify | F37: 41000000
A38: 215 | B38: McKnight Boulevard N.E./68 Street Interchange | C38: Interchange | D38: Established | E38: 1 - Identify | F38: 60000000
A39: 212 | B39: McKnight Boulevard N.E./Aviation Boulevard (12 Street) Interchange | C39: Interchange | D39: Established | E39: 1 - Identify | F39: 48000000
A40: 213 | B40: McKnight Boulevard N.E./Barlow Trail Interchange | C40: Interchange | D40: Established | E40: 1 - Identify | F40: 64000000
A41: 214 | B41: McKnight Boulevard N.E./Falconridge Boulevard Interchange | C41: Interchange | D41: Established | E41: 1 - Identify | F41: 63000000
A42: 229 | B42: Sarcee Trail S.W./Richmond Road Interchange | C42: Interchange | D42: Established | E42: 1 - Identify | F42: 106000000
A43: 318 | B43: Shaganappi Trail N.W./16 Avenue Interchange | C43: Interchange | D43: Established | E43: 1 - Identify | F43: 126000000
...

Sheet Tab 5 - Forecast Data
A1: Transportation - Detailed Forecast Data
A2: This tab provides the detailed forecast data used to calculate benefit allocations. Please note that the total unlevied hectares in this table reflects the total as of the end of 2022; 14,211 hectares. In Tab 7, the denominator of 13,921 hectares reflects a further subtraction of 290 hectares per the Corporate Economics forecast for 2023.
A6: Detailed Forecast Data | F6: Totals | G6: =SUM(G9:G1409) -> 13146.751 | H6: =SUM(H9:H1409) -> 14211.103 | K6: =SUM(K9:K1409) -> 2318515.9 | L6: =SUM(L9:L1409) -> 1068287.7 | M6: =SUM(M9:M1409) -> 531212.39 | N6: =SUM(N9:N1409) -> 719015.75 | O6: =SUM(O9:O1409) -> 1410380.2 | P6: =SUM(P9:P1409) -> 1093651.9 | Q6: =SUM(Q9:Q1409) -> 238427.78 | R6: =SUM(R9:R1409) -> 78300.518 | ... U6: =SUM(U9:U1409) -> 797316.27
A8: Transportation Zone | B8: Municipality | C8: MDP Zone | D8: Community Name | E8: OSL Location | F8: Total Developable Ha (levied and Unlevied) | G8: Levied Ha | H8: Unlevied Ha | I8: % Levied | J8: % Unlevied | K8: 2076 Total Population | L8: Population: Established | M8: Population: Levied | N8: Population: Unlevied | O8: 2076 Total Jobs | P8: Jobs: Established | Q8: Jobs: Levied | R8: Jobs: Unlevied | S8: Population + Jobs: Established | T8: Population + Jobs: Levied | U8: Population + Jobs: Unlevied
A9: 101 | B9: Calgary | C9: Developed | D9: DOWNTOWN WEST END | E9: Established | F9: 15.298277 | G9: 0 | H9: 0 | I9: =IF(G9>0,G9/F9,0) -> 0 | J9: =IF(E9="Greenfield",1-I9,0) -> 0 | K9: 0 | L9: =IF($E9="Established",$K9,0) -> 0 | M9: =IF($E9="Greenfield",$K9*I9,0) -> 0 | N9: =IF($E9="Greenfield",$K9*J9,0) -> 0 | O9: 688.59864 | P9: =IF($E9="Established",$O9,0) -> 688.59864 | Q9: =IF($E9="Greenfield",$O9*I9,0) -> 0 | R9: =IF($E9="Greenfield",$O9*J9,0) -> 0 | S9: =L9+P9 -> 688.59864 | T9: =M9+Q9 -> 0 | U9: =N9+R9 -> 0
A10: 102 | B10: Calgary | C10: Developed | D10: DOWNTOWN WEST END | E10: Established | F10: 19.529434 | G10: 0 | H10: 0 | I10: =IF(G10>0,G10/F10,0) -> 0 | J10: =IF(E10="Greenfield",1-I10,0) -> 0 | K10: 3116.9105 | L10: =IF($E10="Established",$K10,0) -> 3116.9105 | M10: =IF($E10="Greenfield",$K10*I10,0) -> 0 | N10: =IF($E10="Greenfield",$K10*J10,0) -> 0 | O10: 3005.9121 | P10: =IF($E10="Established",$O10,0) -> 3005.9121 | Q10: =IF($E10="Greenfield",$O10*I10,0) -> 0 | R10: =IF($E10="Greenfield",$O10*J10,0) -> 0 | S10: =L10+P10 -> 6122.8227 | T10: =M10+Q10 -> 0 | U10: =N10+R10 -> 0
A11: 103 | B11: Calgary | C11: Developed | D11: DOWNTOWN COMMERCIAL CORE | E11: Established | F11: 6.0115446 | G11: 0 | H11: 0 | I11: =IF(G11>0,G11/F11,0) -> 0 | J11: =IF(E11="Greenfield",1-I11,0) -> 0 | K11: 1230.5425 | L11: =IF($E11="Established",$K11,0) -> 1230.5425 | M11: =IF($E11="Greenfield",$K11*I11,0) -> 0 | N11: =IF($E11="Greenfield",$K11*J11,0) -> 0 | O11: 1832.7 | P11: =IF($E11="Established",$O11,0) -> 1832.7 | Q11: =IF($E11="Greenfield",$O11*I11,0) -> 0 | R11: =IF($E11="Greenfield",$O11*J11,0) -> 0 | S11: =L11+P11 -> 3063.2425 | T11: =M11+Q11 -> 0 | U11: =N11+R11 -> 0
A12: 104 | B12: Calgary | C12: Developed | D12: DOWNTOWN COMMERCIAL CORE | E12: Established | F12: 7.4294395 | G12: 0 | H12: 0 | I12: =IF(G12>0,G12/F12,0) -> 0 | J12: =IF(E12="Greenfield",1-I12,0) -> 0 | K12: 2335.6463 | L12: =IF($E12="Established",$K12,0) -> 2335.6463 | M12: =IF($E12="Greenfield",$K12*I12,0) -> 0 | N12: =IF($E12="Greenfield",$K12*J12,0) -> 0 | O12: 6211.8695 | P12: =IF($E12="Established",$O12,0) -> 6211.8695 | Q12: =IF($E12="Greenfield",$O12*I12,0) -> 0 | R12: =IF($E12="Greenfield",$O12*J12,0) -> 0 | S12: =L12+P12 -> 8547.5158 | T12: =M12+Q12 -> 0 | U12: =N12+R12 -> 0
A13: 105 | B13: Calgary | C13: Developed | D13: DOWNTOWN COMMERCIAL CORE | E13: Established | F13: 11.018734 | G13: 0 | H13: 0 | I13: =IF(G13>0,G13/F13,0) -> 0 | J13: =IF(E13="Greenfield",1-I13,0) -> 0 | K13: 2766.9063 | L13: =IF($E13="Established",$K13,0) -> 2766.9063 | M13: =IF($E13="Greenfield",$K13*I13,0) -> 0 | N13: =IF($E13="Greenfield",$K13*J13,0) -> 0 | O13: 4202.8422 | P13: =IF($E13="Established",$O13,0) -> 4202.8422 | Q13: =IF($E13="Greenfield",$O13*I13,0) -> 0 | R13: =IF($E13="Greenfield",$O13*J13,0) -> 0 | S13: =L13+P13 -> 6969.7485 | T13: =M13+Q13 -> 0 | U13: =N13+R13 -> 0
A14: 106 | B14: Calgary | C14: Developed | D14: EAU CLAIRE | E14: Established | F14: 3.6811381 | G14: 0 | H14: 0 | I14: =IF(G14>0,G14/F14,0) -> 0 | J14: =IF(E14="Greenfield",1-I14,0) -> 0 | K14: 0 | L14: =IF($E14="Established",$K14,0) -> 0 | M14: =IF($E14="Greenfield",$K14*I14,0) -> 0 | N14: =IF($E14="Greenfield",$K14*J14,0) -> 0 | O14: 1.9012725 | P14: =IF($E14="Established",$O14,0) -> 1.9012725 | Q14: =IF($E14="Greenfield",$O14*I14,0) -> 0 | R14: =IF($E14="Greenfield",$O14*J14,0) -> 0 | S14: =L14+P14 -> 1.9012725 | T14: =M14+Q14 -> 0 | U14: =N14+R14 -> 0
A15: 107 | B15: Calgary | C15: Developed | D15: DOWNTOWN COMMERCIAL CORE | E15: Established | F15: 4.9236037 | G15: 0 | H15: 0 | I15: =IF(G15>0,G15/F15,0) -> 0 | J15: =IF(E15="Greenfield",1-I15,0) -> 0 | K15: 1086.0384 | L15: =IF($E15="Established",$K15,0) -> 1086.0384 | M15: =IF($E15="Greenfield",$K15*I15,0) -> 0 | N15: =IF($E15="Greenfield",$K15*J15,0) -> 0 | O15: 2747.929 | P15: =IF($E15="Established",$O15,0) -> 2747.929 | Q15: =IF($E15="Greenfield",$O15*I15,0) -> 0 | R15: =IF($E15="Greenfield",$O15*J15,0) -> 0 | S15: =L15+P15 -> 3833.9674 | T15: =M15+Q15 -> 0 | U15: =N15+R15 -> 0
A16: 108 | B16: Calgary | C16: Developed | D16: DOWNTOWN COMMERCIAL CORE | E16: Established | F16: 7.244439 | G16: 0 | H16: 0 | I16: =IF(G16>0,G16/F16,0) -> 0 | J16: =IF(E16="Greenfield",1-I16,0) -> 0 | K16: 777.51306 | L16: =IF($E16="Established",$K16,0) -> 777.51306 | M16: =IF($E16="Greenfield",$K16*I16,0) -> 0 | N16: =IF($E16="Greenfield",$K16*J16,0) -> 0 | O16: 10701.304 | P16: =IF($E16="Established",$O16,0) -> 10701.304 | Q16: =IF($E16="Greenfield",$O16*I16,0) -> 0 | R16: =IF($E16="Greenfield",$O16*J16,0) -> 0 | S16: =L16+P16 -> 11478.817 | T16: =M16+Q16 -> 0 | U16: =N16+R16 -> 0
A17: 109 | B17: Calgary | C17: Developed | D17: DOWNTOWN COMMERCIAL CORE | E17: Established | F17: 7.37415 | G17: 0 | H17: 0 | I17: =IF(G17>0,G17/F17,0) -> 0 | J17: =IF(E17="Greenfield",1-I17,0) -> 0 | K17: 339.75962 | L17: =IF($E17="Established",$K17,0) -> 339.75962 | M17: =IF($E17="Greenfield",$K17*I17,0) -> 0 | N17: =IF($E17="Greenfield",$K17*J17,0) -> 0 | O17: 7546.9931 | P17: =IF($E17="Established",$O17,0) -> 7546.9931 | Q17: =IF($E17="Greenfield",$O17*I17,0) -> 0 | R17: =IF($E17="Greenfield",$O17*J17,0) -> 0 | S17: =L17+P17 -> 7886.7527 | T17: =M17+Q17 -> 0 | U17: =N17+R17 -> 0
A18: 110 | B18: Calgary | C18: Developed | D18: DOWNTOWN COMMERCIAL CORE | E18: Established | F18: 6.0772721 | G18: 0 | H18: 0 | I18: =IF(G18>0,G18/F18,0) -> 0 | J18: =IF(E18="Greenfield",1-I18,0) -> 0 | K18: 0 | L18: =IF($E18="Established",$K18,0) -> 0 | M18: =IF($E18="Greenfield",$K18*I18,0) -> 0 | N18: =IF($E18="Greenfield",$K18*J18,0) -> 0 | O18: 5400.3814 | P18: =IF($E18="Established",$O18,0) -> 5400.3814 | Q18: =IF($E18="Greenfield",$O18*I18,0) -> 0 | R18: =IF($E18="Greenfield",$O18*J18,0) -> 0 | S18: =L18+P18 -> 5400.3814 | T18: =M18+Q18 -> 0 | U18: =N18+R18 -> 0
A19: 111 | B19: Calgary | C19: Developed | D19: DOWNTOWN COMMERCIAL CORE | E19: Established | F19: 2.9698587 | G19: 0 | H19: 0 | I19: =IF(G19>0,G19/F19,0) -> 0 | J19: =IF(E19="Greenfield",1-I19,0) -> 0 | K19: 0 | L19: =IF($E19="Established",$K19,0) -> 0 | M19: =IF($E19="Greenfield",$K19*I19,0) -> 0 | N19: =IF($E19="Greenfield",$K19*J19,0) -> 0 | O19: 1160.254 | P19: =IF($E19="Established",$O19,0) -> 1160.254 | Q19: =IF($E19="Greenfield",$O19*I19,0) -> 0 | R19: =IF($E19="Greenfield",$O19*J19,0) -> 0 | S19: =L19+P19 -> 1160.254 | T19: =M19+Q19 -> 0 | U19: =N19+R19 -> 0
A20: 112 | B20: Calgary | C20: Developed | D20: DOWNTOWN COMMERCIAL CORE | E20: Established | F20: 3.4752495 | G20: 0 | H20: 0 | I20: =IF(G20>0,G20/F20,0) -> 0 | J20: =IF(E20="Greenfield",1-I20,0) -> 0 | K20: 0 | L20: =IF($E20="Established",$K20,0) -> 0 | M20: =IF($E20="Greenfield",$K20*I20,0) -> 0 | N20: =IF($E20="Greenfield",$K20*J20,0) -> 0 | O20: 2144.9861 | P20: =IF($E20="Established",$O20,0) -> 2144.9861 | Q20: =IF($E20="Greenfield",$O20*I20,0) -> 0 | R20: =IF($E20="Greenfield",$O20*J20,0) -> 0 | S20: =L20+P20 -> 2144.9861 | T20: =M20+Q20 -> 0 | U20: =N20+R20 -> 0
... A1409: 4241 | B1409: Calgary | C1409: Developing | D1409: COUNTRY HILLS VILLAGE | E1409: Greenfield | F1409: 3.0907125 | G1409: 3.0907125 | H1409: 0 | I1409: =IF(G1409>0,G1409/F1409,0) -> 1 | J1409: =IF(E1409="Greenfield",1-I1409,0) -> 0 | K1409: 4801.3786 | L1409: =IF($E1409="Established",$K1409,0) -> 0 | M1409: =IF($E1409="Greenfield",$K1409*I1409,0) -> 4801.3786 | N1409: =IF($E1409="Greenfield",$K1409*J1409,0) -> 0 | O1409: 0 | P1409: =IF($E1409="Established",$O1409,0) -> 0 | Q1409: =IF($E1409="Greenfield",$O1409*I1409,0) -> 0 | R1409: =IF($E1409="Greenfield",$O1409*J1409,0) -> 0 | S1409: =L1409+P1409 -> 0 | T1409: =M1409+Q1409 -> 4801.3786 | U1409: =N1409+R1409 -> 0

Sheet Tab 6 - Benefit Allocation
A1: Transportation - Benefit Allocation
A2: This tab provides details on the benefit methodology. It shows the basis of the calculation and assumptions used in assessing benefit allocation. Detailed data supporting the calculation is shown on Tab 5. | G2: Figure 3. Transportation Zones in Calgary. | P2: Figure 4. Interchanges, Structures over rail/creek, and Road Widenings Being Levied For | Z2: Figure 5. Bus Rapid Transit infrastructure Being Levied For | AI2: Figure 6. 5A Network and Pedestrian Overpasses Being Levied For | AR2: Figure 7. Transportation Infrastructure Not Being Levied For
A6: Benefit measurement: | B6: Population and jobs are key factors driving transportation network impact and are being used to measure benefit. This method is simpler and more repeatable than transportation modeling and does not attempt to assess travel patterns, distance traveled or trips generated from specific land uses.
A7: Greenfield infrastructure: | B7: Infrastructure located in the greenfield. Transportation infrastructure located in the Greenfield Area will provide it with similar reliability, quality and levels of service provided in the Established Area, while maintaining or not affecting the current reliability, quality and level of service in the Established Area. Therefore, no benefit was allocated to the Established Area for this levy infrastructure. 100 per cent of the benefit is allocated between levied lands and unlevied lands. This allocation is based on the forecast population and jobs in levied lands (where a development agreement has been executed and off-site levies have been paid), and unlevied lands (where no development agreement has been executed and no off-site levies have been paid).
A8: Shared benefit infrastructure: | B8: Infrastructure physically located in the Established Area that benefits lands outside the Established Area boundary. Transportation infrastructure located in the Established Area will accommodate capacity and direct connections from the greenfield and will provide similar reliability, quality and levels of service in both the greenfield and the Established Area. Therefore, benefit was allocated between the greenfield and the Established Area for this levy infrastructure. 100 per cent of the benefit is allocated between levied lands, unlevied lands and lands in the Established Area. This allocation is based on the forecast population and jobs in levied lands, unlevied lands and the Established Area.
A9: Infrastructure not included in the levy: | B9: In addition to the infrastructure included in the levy, other planned transportation infrastructure projects in the Established Area will improve or maintain the reliability, quality and level of service in the Established Area, and will also typically accommodate capacity from greenfield lands and provide benefit to greenfield lands. However, infrastructure that will not provide a direct connection to the greenfield was not included in the levy rate calculation.
A10: Forecast data source: | B10: Source: Calgary Next 20: Population, Employment and Housing Projections, 2021, by Applications Management Consulting Ltd. • A buildout forecast of population and jobs based on current growth trends.
A11: Source data details and assumptions: | B11: • The forecast period ends in 2076. • Population and job forecasts are assessed by Transportation Zones (TZs), which are the basic geographic unit used to simulate travel behaviour in the Calgary Regional Transportation Model (RTM). They are used to organize the input and output data for a forecast scenario. While RTM was not used to calculate Transportation benefit for the 2024 Off-Site Levies Bylaw, Transportation Zones provide a useful and reasonable geographic division for forecasting. A map of Transportation Zones is shown in Figure 3. • Population and job densities are assumed to be even throughout transportation zones (e.g., where part of a TZ has paid levies, and part has not).
A12: Benefit allocation calculation: | B12: The benefit allocations for greenfield only and shared benefit projects are calculated as follows: 1. Greenfield only benefit = (Sum of forecast population and jobs in all unlevied lands)/(Sum of forecast population and jobs in all greenfield lands) 2. Shared Benefit = (Sum of forecast population and jobs in all unlevied lands)/(Sum of forecast population and jobs citywide)
A18: Summary data
A19: 2024 benefit rates for unlevied lands, pending Council approval:
A20: Greenfield | B20: =ROUND((C33+C36)/C37,3) -> 0.509
A21: Shared Benefit | B21: =ROUND((C33+C36)/D37,3) -> 0.214
A25: The source data for the pivot table below is on Tab 5. This table summarizes the population and jobs forecast for land that is in the Established Area; land where development agreements have been signed and off-site levies have already been paid; and unlevied land where no development agreements have been signed.
B29: Column Labels
A30: Values | B30: Established | C30: Greenfield | D30: Grand Total
A31: Sum of Population: Established | B31: 1068287.7 | C31: 0 | D31: 1068287.7
A32: Sum of Population: Levied | B32: 0 | C32: 531212.39 | D32: 531212.39
A33: Sum of Population: Unlevied | B33: 0 | C33: 719015.75 | D33: 719015.75
A34: Sum of Jobs: Established | B34: 1093651.9 | C34: 0 | D34: 1093651.9
A35: Sum of Jobs: Levied | B35: 0 | C35: 238427.78 | D35: 238427.78
A36: Sum of Jobs: Unlevied | B36: 0 | C36: 78300.518 | D36: 78300.518
B37: =SUM(B31:B36) -> 2161939.7 | C37: =SUM(C31:C36) -> 1566956.4 | D37: =SUM(D31:D36) -> 3728896.1

Sheet Tab 7 - Financial Model
A1: Transportation OSL Financial Rate Model
A2: Last Updated: September 1, 2023 | J2: 0 | K2: 1 | L2: 2 | M2: 3 | N2: 4 | O2: 5 | P2: 6 | Q2: 7 | R2: 8 | S2: 9 | T2: 10 | U2: 11 | V2: 12 | W2: 13 | X2: 14 | Y2: 15 | Z2: 16 | AA2: 17 | AB2: 18 | AC2: 19 | AD2: 20 | AE2: 21 | AF2: 22 | AG2: 23 | AH2: 24 | AI2: 25 | AJ2: 26 | AK2: 27 | AL2: 28 | AM2: 29 | AN2: 30 | AO2: 31 | AP2: 32 | AQ2: 33 | AR2: 34 | AS2: 35 | AT2: 36 | AU2: 37 | AV2: 38 | AW2: 39 | AX2: 40 | AY2: 41 | AZ2: 42 | BA2: 43 | BB2: 44 | BC2: 45 | BD2: 46 | BE2: 47 | BF2: 48 | BG2: 49 | BH2: 50 | BI2: 51 | BJ2: 52 | BK2: 53 | BL2: 54 | BM2: 55 | BN2: 56
A3: Transportation Levy Rate | C3: 156386.37 | D3: Run Macro <CTRL> + g | H3: End Value (CELL BN92): | I3: =BN92 -> 0 | J3: 2023 | K3: 2024 | L3: 2025 | M3: 2026 | N3: 2027 | O3: 2028 | P3: 2029 | Q3: 2030 | R3: 2031 | S3: 2032 | T3: 2033 | U3: 2034 | V3: 2035 | W3: 2036 | X3: 2037 | Y3: 2038 | Z3: 2039 | AA3: 2040 | AB3: 2041 | AC3: 2042 | AD3: 2043 | AE3: 2044 | AF3: 2045 | AG3: 2046 | AH3: 2047 | AI3: 2048 | AJ3: 2049 | AK3: 2050 | AL3: 2051 | AM3: 2052 | AN3: 2053 | AO3: 2054 | AP3: 2055 | AQ3: 2056 | AR3: 2057 | AS3: 2058 | AT3: 2059 | AU3: 2060 | AV3: 2061 | AW3: 2062 | AX3: 2063 | AY3: 2064 | AZ3: 2065 | BA3: 2066 | BB3: 2067 | BC3: 2068 | BD3: 2069 | BE3: 2070 | BF3: 2071 | BG3: 2072 | BH3: 2073 | BI3: 2074 | BJ3: 2075 | BK3: 2076 | BL3: 2077 | BM3: 2078 | BN3: 2079
B4: How to calculate the levy rate: Once all variables have been set, the levy rate can be recalculated by entering <CTRL> + g. This runs Excel's Goal Seek function (Data --> What-If Analysis --> Goal Seek) to calculate the levy rate in cell C3. The model applies the value in cell C3 to the land absorption in row 79, to ensure that contributions from development agreements (in row 84) plus earned investment income offset total spending and ensure that the ending balance is zero (cell BN92), i.e., all revenues and spending have balanced. Variables impacting this calculation include: annual expenditures, land absorption rate (row 79), payment schedule (cells I86 to I89), and the escalation and discount rates (cells E75 and E76).
A10: Section 1: Expenditures
B11: Section 1 includes A) priority growth projects (rows 20-55) that are not currently approved by Council, but are considered to be high priorities for growth starting in the 2027-2030 business cycle; and B) remaining project costs (rows 62-70) are not assumed on a project-by-project basis. For B), remaining costs in each benefit category (greenfield and shared benefit) are separated into bundles to be spent over varying periods with the goal of minimizing the annual levy balance while keeping the balance above zero. Note: All expenditures are subject to change due to corporate prioritization and Council decisions in budget adjustments and future budget cycles.
A18: # | B18: Project name | C18: New to bylaw | D18: Capital cost ($) | E18: Benefit type | F18: Benefit % | G18: Leviable cost ($) | H18: Previously levied/City share of cost ($) | I18: Year projected project built
B19: Project Name must match Location from Tab 4 exactly | D19: Lookup | E19: Lookup | F19: Lookup | G19: Calc | H19: Calc
A20: 1 | B20: Greenfield Traffic Signals (539) | C20: =VLOOKUP(B20,'Tab 4 - Infrastructure'!$B$7:$J$114,9,FALSE) -> N | D20: =3*300000 -> 900000 | E20: =VLOOKUP(B20,'Tab 4 - Infrastructure'!$B$6:$D$114,3,FALSE) -> Greenfield | F20: =VLOOKUP(B20,'Tab 4 - Infrastructure'!$B$7:$G$114,6,FALSE) -> 0.509 | G20: =D20*F20 -> 458100 | H20: =D20-G20 -> 441900 | I20: 4 | K20: =IF($I20=K$2,$G20,0)*(1+$E$75)^K$2 -> 0 | L20: =IF($I20=L$2,$G20,0)*(1+$E$75)^L$2 -> 0 | M20: =IF($I20=M$2,$G20,0)*(1+$E$75)^M$2 -> 0 | N20: =IF($I20=N$2,$G20,0)*(1+$E$75)^N$2 -> 527307.46 | O20: =IF($I20=O$2,$G20,0)*(1+$E$75)^O$2 -> 0 | P20: =IF($I20=P$2,$G20,0)*(1+$E$75)^P$2 -> 0 | Q20: =IF($I20=Q$2,$G20,0)*(1+$E$75)^Q$2 -> 0 | R20: =IF($I20=R$2,$G20,0)*(1+$E$75)^R$2 -> 0 | ... BN20: =IF($I20=BN$2,$G20,0)*(1+$E$75)^BN$2 -> 0
A21: 2 | B21: Greenfield Traffic Signals (539) | C21: =VLOOKUP(B21,'Tab 4 - Infrastructure'!$B$7:$J$114,9,FALSE) -> N | D21: =3*300000 -> 900000 | E21: =VLOOKUP(B21,'Tab 4 - Infrastructure'!$B$6:$D$114,3,FALSE) -> Greenfield | F21: =VLOOKUP(B21,'Tab 4 - Infrastructure'!$B$7:$G$114,6,FALSE) -> 0.509 | G21: =D21*F21 -> 458100 | H21: =D21-G21 -> 441900 | I21: 5 | K21: =IF($I21=K$2,$G21,0)*(1+$E$75)^K$2 -> 0 | L21: =IF($I21=L$2,$G21,0)*(1+$E$75)^L$2 -> 0 | M21: =IF($I21=M$2,$G21,0)*(1+$E$75)^M$2 -> 0 | N21: =IF($I21=N$2,$G21,0)*(1+$E$75)^N$2 -> 0 | O21: =IF($I21=O$2,$G21,0)*(1+$E$75)^O$2 -> 546185.07 | P21: =IF($I21=P$2,$G21,0)*(1+$E$75)^P$2 -> 0 | Q21: =IF($I21=Q$2,$G21,0)*(1+$E$75)^Q$2 -> 0 | R21: =IF($I21=R$2,$G21,0)*(1+$E$75)^R$2 -> 0 | ... BN21: =IF($I21=BN$2,$G21,0)*(1+$E$75)^BN$2 -> 0
A22: 3 | B22: Greenfield Traffic Signals (539) | C22: =VLOOKUP(B22,'Tab 4 - Infrastructure'!$B$7:$J$114,9,FALSE) -> N | D22: =3*300000 -> 900000 | E22: =VLOOKUP(B22,'Tab 4 - Infrastructure'!$B$6:$D$114,3,FALSE) -> Greenfield | F22: =VLOOKUP(B22,'Tab 4 - Infrastructure'!$B$7:$G$114,6,FALSE) -> 0.509 | G22: =D22*F22 -> 458100 | H22: =D22-G22 -> 441900 | I22: 6 | K22: =IF($I22=K$2,$G22,0)*(1+$E$75)^K$2 -> 0 | L22: =IF($I22=L$2,$G22,0)*(1+$E$75)^L$2 -> 0 | M22: =IF($I22=M$2,$G22,0)*(1+$E$75)^M$2 -> 0 | N22: =IF($I22=N$2,$G22,0)*(1+$E$75)^N$2 -> 0 | O22: =IF($I22=O$2,$G22,0)*(1+$E$75)^O$2 -> 0 | P22: =IF($I22=P$2,$G22,0)*(1+$E$75)^P$2 -> 565738.5 | Q22: =IF($I22=Q$2,$G22,0)*(1+$E$75)^Q$2 -> 0 | R22: =IF($I22=R$2,$G22,0)*(1+$E$75)^R$2 -> 0 | ... BN22: =IF($I22=BN$2,$G22,0)*(1+$E$75)^BN$2 -> 0
A23: 4 | B23: Greenfield Traffic Signals (539) | C23: =VLOOKUP(B23,'Tab 4 - Infrastructure'!$B$7:$J$114,9,FALSE) -> N | D23: =3*300000 -> 900000 | E23: =VLOOKUP(B23,'Tab 4 - Infrastructure'!$B$6:$D$114,3,FALSE) -> Greenfield | F23: =VLOOKUP(B23,'Tab 4 - Infrastructure'!$B$7:$G$114,6,FALSE) -> 0.509 | G23: =D23*F23 -> 458100 | H23: =D23-G23 -> 441900 | I23: 7 | K23: =IF($I23=K$2,$G23,0)*(1+$E$75)^K$2 -> 0 | L23: =IF($I23=L$2,$G23,0)*(1+$E$75)^L$2 -> 0 | M23: =IF($I23=M$2,$G23,0)*(1+$E$75)^M$2 -> 0 | N23: =IF($I23=N$2,$G23,0)*(1+$E$75)^N$2 -> 0 | O23: =IF($I23=O$2,$G23,0)*(1+$E$75)^O$2 -> 0 | P23: =IF($I23=P$2,$G23,0)*(1+$E$75)^P$2 -> 0 | Q23: =IF($I23=Q$2,$G23,0)*(1+$E$75)^Q$2 -> 585991.93 | R23: =IF($I23=R$2,$G23,0)*(1+$E$75)^R$2 -> 0 | ... BN23: =IF($I23=BN$2,$G23,0)*(1+$E$75)^BN$2 -> 0
A24: 5 | B24: Greenfield Traffic Signals (539) | C24: =VLOOKUP(B24,'Tab 4 - Infrastructure'!$B$7:$J$114,9,FALSE) -> N | D24: =3*300000 -> 900000 | E24: =VLOOKUP(B24,'Tab 4 - Infrastructure'!$B$6:$D$114,3,FALSE) -> Greenfield | F24: =VLOOKUP(B24,'Tab 4 - Infrastructure'!$B$7:$G$114,6,FALSE) -> 0.509 | G24: =D24*F24 -> 458100 | H24: =D24-G24 -> 441900 | I24: 8 | K24: =IF($I24=K$2,$G24,0)*(1+$E$75)^K$2 -> 0 | L24: =IF($I24=L$2,$G24,0)*(1+$E$75)^L$2 -> 0 | M24: =IF($I24=M$2,$G24,0)*(1+$E$75)^M$2 -> 0 | N24: =IF($I24=N$2,$G24,0)*(1+$E$75)^N$2 -> 0 | O24: =IF($I24=O$2,$G24,0)*(1+$E$75)^O$2 -> 0 | P24: =IF($I24=P$2,$G24,0)*(1+$E$75)^P$2 -> 0 | Q24: =IF($I24=Q$2,$G24,0)*(1+$E$75)^Q$2 -> 0 | R24: =IF($I24=R$2,$G24,0)*(1+$E$75)^R$2 -> 606970.45 | ... BN24: =IF($I24=BN$2,$G24,0)*(1+$E$75)^BN$2 -> 0
A25: 6 | B25: Greenfield Traffic Signals (539) | C25: =VLOOKUP(B25,'Tab 4 - Infrastructure'!$B$7:$J$114,9,FALSE) -> N | D25: =3*300000 -> 900000 | E25: =VLOOKUP(B25,'Tab 4 - Infrastructure'!$B$6:$D$114,3,FALSE) -> Greenfield | F25: =VLOOKUP(B25,'Tab 4 - Infrastructure'!$B$7:$G$114,6,FALSE) -> 0.509 | G25: =D25*F25 -> 458100 | H25: =D25-G25 -> 441900 | I25: 9 | K25: =IF($I25=K$2,$G25,0)*(1+$E$75)^K$2 -> 0 | L25: =IF($I25=L$2,$G25,0)*(1+$E$75)^L$2 -> 0 | M25: =IF($I25=M$2,$G25,0)*(1+$E$75)^M$2 -> 0 | N25: =IF($I25=N$2,$G25,0)*(1+$E$75)^N$2 -> 0 | O25: =IF($I25=O$2,$G25,0)*(1+$E$75)^O$2 -> 0 | P25: =IF($I25=P$2,$G25,0)*(1+$E$75)^P$2 -> 0 | Q25: =IF($I25=Q$2,$G25,0)*(1+$E$75)^Q$2 -> 0 | R25: =IF($I25=R$2,$G25,0)*(1+$E$75)^R$2 -> 0 | ... BN25: =IF($I25=BN$2,$G25,0)*(1+$E$75)^BN$2 -> 0
A26: 7 | B26: Greenfield Traffic Signals (539) | C26: =VLOOKUP(B26,'Tab 4 - Infrastructure'!$B$7:$J$114,9,FALSE) -> N | D26: =3*300000 -> 900000 | E26: =VLOOKUP(B26,'Tab 4 - Infrastructure'!$B$6:$D$114,3,FALSE) -> Greenfield | F26: =VLOOKUP(B26,'Tab 4 - Infrastructure'!$B$7:$G$114,6,FALSE) -> 0.509 | G26: =D26*F26 -> 458100 | H26: =D26-G26 -> 441900 | I26: 10 | K26: =IF($I26=K$2,$G26,0)*(1+$E$75)^K$2 -> 0 | L26: =IF($I26=L$2,$G26,0)*(1+$E$75)^L$2 -> 0 | M26: =IF($I26=M$2,$G26,0)*(1+$E$75)^M$2 -> 0 | N26: =IF($I26=N$2,$G26,0)*(1+$E$75)^N$2 -> 0 | O26: =IF($I26=O$2,$G26,0)*(1+$E$75)^O$2 -> 0 | P26: =IF($I26=P$2,$G26,0)*(1+$E$75)^P$2 -> 0 | Q26: =IF($I26=Q$2,$G26,0)*(1+$E$75)^Q$2 -> 0 | R26: =IF($I26=R$2,$G26,0)*(1+$E$75)^R$2 -> 0 | ... BN26: =IF($I26=BN$2,$G26,0)*(1+$E$75)^BN$2 -> 0
A27: 8 | B27: Greenfield Traffic Signals (539) | C27: =VLOOKUP(B27,'Tab 4 - Infrastructure'!$B$7:$J$114,9,FALSE) -> N | D27: =3*300000 -> 900000 | E27: =VLOOKUP(B27,'Tab 4 - Infrastructure'!$B$6:$D$114,3,FALSE) -> Greenfield | F27: =VLOOKUP(B27,'Tab 4 - Infrastructure'!$B$7:$G$114,6,FALSE) -> 0.509 | G27: =D27*F27 -> 458100 | H27: =D27-G27 -> 441900 | I27: 11 | K27: =IF($I27=K$2,$G27,0)*(1+$E$75)^K$2 -> 0 | L27: =IF($I27=L$2,$G27,0)*(1+$E$75)^L$2 -> 0 | M27: =IF($I27=M$2,$G27,0)*(1+$E$75)^M$2 -> 0 | N27: =IF($I27=N$2,$G27,0)*(1+$E$75)^N$2 -> 0 | O27: =IF($I27=O$2,$G27,0)*(1+$E$75)^O$2 -> 0 | P27: =IF($I27=P$2,$G27,0)*(1+$E$75)^P$2 -> 0 | Q27: =IF($I27=Q$2,$G27,0)*(1+$E$75)^Q$2 -> 0 | R27: =IF($I27=R$2,$G27,0)*(1+$E$75)^R$2 -> 0 | ... BN27: =IF($I27=BN$2,$G27,0)*(1+$E$75)^BN$2 -> 0
A28: 9 | B28: Greenfield Traffic Signals (539) | C28: =VLOOKUP(B28,'Tab 4 - Infrastructure'!$B$7:$J$114,9,FALSE) -> N | D28: =3*300000 -> 900000 | E28: =VLOOKUP(B28,'Tab 4 - Infrastructure'!$B$6:$D$114,3,FALSE) -> Greenfield | F28: =VLOOKUP(B28,'Tab 4 - Infrastructure'!$B$7:$G$114,6,FALSE) -> 0.509 | G28: =D28*F28 -> 458100 | H28: =D28-G28 -> 441900 | I28: 12 | K28: =IF($I28=K$2,$G28,0)*(1+$E$75)^K$2 -> 0 | L28: =IF($I28=L$2,$G28,0)*(1+$E$75)^L$2 -> 0 | M28: =IF($I28=M$2,$G28,0)*(1+$E$75)^M$2 -> 0 | N28: =IF($I28=N$2,$G28,0)*(1+$E$75)^N$2 -> 0 | O28: =IF($I28=O$2,$G28,0)*(1+$E$75)^O$2 -> 0 | P28: =IF($I28=P$2,$G28,0)*(1+$E$75)^P$2 -> 0 | Q28: =IF($I28=Q$2,$G28,0)*(1+$E$75)^Q$2 -> 0 | R28: =IF($I28=R$2,$G28,0)*(1+$E$75)^R$2 -> 0 | ... BN28: =IF($I28=BN$2,$G28,0)*(1+$E$75)^BN$2 -> 0
A29: 10 | B29: Greenfield Traffic Signals (539) | C29: =VLOOKUP(B29,'Tab 4 - Infrastructure'!$B$7:$J$114,9,FALSE) -> N | D29: =3*300000 -> 900000 | E29: =VLOOKUP(B29,'Tab 4 - Infrastructure'!$B$6:$D$114,3,FALSE) -> Greenfield | F29: =VLOOKUP(B29,'Tab 4 - Infrastructure'!$B$7:$G$114,6,FALSE) -> 0.509 | G29: =D29*F29 -> 458100 | H29: =D29-G29 -> 441900 | I29: 13 | K29: =IF($I29=K$2,$G29,0)*(1+$E$75)^K$2 -> 0 | L29: =IF($I29=L$2,$G29,0)*(1+$E$75)^L$2 -> 0 | M29: =IF($I29=M$2,$G29,0)*(1+$E$75)^M$2 -> 0 | N29: =IF($I29=N$2,$G29,0)*(1+$E$75)^N$2 -> 0 | O29: =IF($I29=O$2,$G29,0)*(1+$E$75)^O$2 -> 0 | P29: =IF($I29=P$2,$G29,0)*(1+$E$75)^P$2 -> 0 | Q29: =IF($I29=Q$2,$G29,0)*(1+$E$75)^Q$2 -> 0 | R29: =IF($I29=R$2,$G29,0)*(1+$E$75)^R$2 -> 0 | ... BN29: =IF($I29=BN$2,$G29,0)*(1+$E$75)^BN$2 -> 0
A30: 11 | B30: Greenfield Traffic Signals (539) | C30: =VLOOKUP(B30,'Tab 4 - Infrastructure'!$B$7:$J$114,9,FALSE) -> N | D30: =3*300000 -> 900000 | E30: =VLOOKUP(B30,'Tab 4 - Infrastructure'!$B$6:$D$114,3,FALSE) -> Greenfield | F30: =VLOOKUP(B30,'Tab 4 - Infrastructure'!$B$7:$G$114,6,FALSE) -> 0.509 | G30: =D30*F30 -> 458100 | H30: =D30-G30 -> 441900 | I30: 14 | K30: =IF($I30=K$2,$G30,0)*(1+$E$75)^K$2 -> 0 | L30: =IF($I30=L$2,$G30,0)*(1+$E$75)^L$2 -> 0 | M30: =IF($I30=M$2,$G30,0)*(1+$E$75)^M$2 -> 0 | N30: =IF($I30=N$2,$G30,0)*(1+$E$75)^N$2 -> 0 | O30: =IF($I30=O$2,$G30,0)*(1+$E$75)^O$2 -> 0 | P30: =IF($I30=P$2,$G30,0)*(1+$E$75)^P$2 -> 0 | Q30: =IF($I30=Q$2,$G30,0)*(1+$E$75)^Q$2 -> 0 | R30: =IF($I30=R$2,$G30,0)*(1+$E$75)^R$2 -> 0 | ... BN30: =IF($I30=BN$2,$G30,0)*(1+$E$75)^BN$2 -> 0
A31: 12 | B31: Peigan Trail widening from Barlow Trail to Stoney Trail (2-4 lanes) | C31: =VLOOKUP(B31,'Tab 4 - Infrastructure'!$B$7:$J$114,9,FALSE) -> N | D31: =VLOOKUP(B31,'Tab 4 - Infrastructure'!$B$7:$F$114,5,FALSE) -> 53000000 | E31: =VLOOKUP(B31,'Tab 4 - Infrastructure'!$B$6:$D$114,3,FALSE) -> Shared Benefit | F31: =VLOOKUP(B31,'Tab 4 - Infrastructure'!$B$7:$G$114,6,FALSE) -> 0.214 | G31: =D31*F31 -> 11342000 | H31: =D31-G31 -> 41658000 | I31: 4 | K31: =IF($I31=K$2,$G31,0)*(1+$E$75)^K$2 -> 0 | L31: =IF($I31=L$2,$G31,0)*(1+$E$75)^L$2 -> 0 | M31: =IF($I31=M$2,$G31,0)*(1+$E$75)^M$2 -> 0 | N31: =IF($I31=N$2,$G31,0)*(1+$E$75)^N$2 -> 13055493 | O31: =IF($I31=O$2,$G31,0)*(1+$E$75)^O$2 -> 0 | P31: =IF($I31=P$2,$G31,0)*(1+$E$75)^P$2 -> 0 | Q31: =IF($I31=Q$2,$G31,0)*(1+$E$75)^Q$2 -> 0 | R31: =IF($I31=R$2,$G31,0)*(1+$E$75)^R$2 -> 0 | ... BN31: =IF($I31=BN$2,$G31,0)*(1+$E$75)^BN$2 -> 0
A32: 13 | B32: Stoney Trail/130 Avenue S.E. Half Interchange | C32: =VLOOKUP(B32,'Tab 4 - Infrastructure'!$B$7:$J$114,9,FALSE) -> N | D32: =VLOOKUP(B32,'Tab 4 - Infrastructure'!$B$7:$F$114,5,FALSE) -> 42000000 | E32: =VLOOKUP(B32,'Tab 4 - Infrastructure'!$B$6:$D$114,3,FALSE) -> Greenfield | F32: =VLOOKUP(B32,'Tab 4 - Infrastructure'!$B$7:$G$114,6,FALSE) -> 0.509 | G32: =D32*F32 -> 21378000 | H32: =D32-G32 -> 20622000 | I32: 4 | K32: =IF($I32=K$2,$G32,0)*(1+$E$75)^K$2 -> 0 | L32: =IF($I32=L$2,$G32,0)*(1+$E$75)^L$2 -> 0 | M32: =IF($I32=M$2,$G32,0)*(1+$E$75)^M$2 -> 0 | N32: =IF($I32=N$2,$G32,0)*(1+$E$75)^N$2 -> 24607682 | O32: =IF($I32=O$2,$G32,0)*(1+$E$75)^O$2 -> 0 | P32: =IF($I32=P$2,$G32,0)*(1+$E$75)^P$2 -> 0 | Q32: =IF($I32=Q$2,$G32,0)*(1+$E$75)^Q$2 -> 0 | R32: =IF($I32=R$2,$G32,0)*(1+$E$75)^R$2 -> 0 | ... BN32: =IF($I32=BN$2,$G32,0)*(1+$E$75)^BN$2 -> 0
A33: 14 | B33: Macleod Trail/194 Avenue S.E. Interchange | C33: =VLOOKUP(B33,'Tab 4 - Infrastructure'!$B$7:$J$114,9,FALSE) -> N | D33: =VLOOKUP(B33,'Tab 4 - Infrastructure'!$B$7:$F$114,5,FALSE) -> 120000000 | E33: =VLOOKUP(B33,'Tab 4 - Infrastructure'!$B$6:$D$114,3,FALSE) -> Greenfield | F33: =VLOOKUP(B33,'Tab 4 - Infrastructure'!$B$7:$G$114,6,FALSE) -> 0.509 | G33: =D33*F33 -> 61080000 | H33: =D33-G33 -> 58920000 | I33: 5 | K33: =IF($I33=K$2,$G33,0)*(1+$E$75)^K$2 -> 0 | L33: =IF($I33=L$2,$G33,0)*(1+$E$75)^L$2 -> 0 | M33: =IF($I33=M$2,$G33,0)*(1+$E$75)^M$2 -> 0 | N33: =IF($I33=N$2,$G33,0)*(1+$E$75)^N$2 -> 0 | O33: =IF($I33=O$2,$G33,0)*(1+$E$75)^O$2 -> 72824676 | P33: =IF($I33=P$2,$G33,0)*(1+$E$75)^P$2 -> 0 | Q33: =IF($I33=Q$2,$G33,0)*(1+$E$75)^Q$2 -> 0 | R33: =IF($I33=R$2,$G33,0)*(1+$E$75)^R$2 -> 0 | ... BN33: =IF($I33=BN$2,$G33,0)*(1+$E$75)^BN$2 -> 0
A34: 15 | B34: 52 Street E. BRT from Saddletowne to Seton | C34: =VLOOKUP(B34,'Tab 4 - Infrastructure'!$B$7:$J$114,9,FALSE) -> N | D34: =VLOOKUP(B34,'Tab 4 - Infrastructure'!$B$7:$F$114,5,FALSE) -> 71000000 | E34: =VLOOKUP(B34,'Tab 4 - Infrastructure'!$B$6:$D$114,3,FALSE) -> Shared Benefit | F34: =VLOOKUP(B34,'Tab 4 - Infrastructure'!$B$7:$G$114,6,FALSE) -> 0.214 | G34: =D34*F34 -> 15194000 | H34: =D34-G34 -> 55806000 | I34: 6 | K34: =IF($I34=K$2,$G34,0)*(1+$E$75)^K$2 -> 0 | L34: =IF($I34=L$2,$G34,0)*(1+$E$75)^L$2 -> 0 | M34: =IF($I34=M$2,$G34,0)*(1+$E$75)^M$2 -> 0 | N34: =IF($I34=N$2,$G34,0)*(1+$E$75)^N$2 -> 0 | O34: =IF($I34=O$2,$G34,0)*(1+$E$75)^O$2 -> 0 | P34: =IF($I34=P$2,$G34,0)*(1+$E$75)^P$2 -> 18764092 | Q34: =IF($I34=Q$2,$G34,0)*(1+$E$75)^Q$2 -> 0 | R34: =IF($I34=R$2,$G34,0)*(1+$E$75)^R$2 -> 0 | ... BN34: =IF($I34=BN$2,$G34,0)*(1+$E$75)^BN$2 -> 0
A35: 16 | B35: Stoney Trail/60 Street N.E. Interchange | C35: =VLOOKUP(B35,'Tab 4 - Infrastructure'!$B$7:$J$114,9,FALSE) -> N | D35: =VLOOKUP(B35,'Tab 4 - Infrastructure'!$B$7:$F$114,5,FALSE) -> 30000000 | E35: =VLOOKUP(B35,'Tab 4 - Infrastructure'!$B$6:$D$114,3,FALSE) -> Greenfield | F35: =VLOOKUP(B35,'Tab 4 - Infrastructure'!$B$7:$G$114,6,FALSE) -> 0.509 | G35: =D35*F35 -> 15270000 | H35: =D35-G35 -> 14730000 | I35: 6 | K35: =IF($I35=K$2,$G35,0)*(1+$E$75)^K$2 -> 0 | L35: =IF($I35=L$2,$G35,0)*(1+$E$75)^L$2 -> 0 | M35: =IF($I35=M$2,$G35,0)*(1+$E$75)^M$2 -> 0 | N35: =IF($I35=N$2,$G35,0)*(1+$E$75)^N$2 -> 0 | O35: =IF($I35=O$2,$G35,0)*(1+$E$75)^O$2 -> 0 | P35: =IF($I35=P$2,$G35,0)*(1+$E$75)^P$2 -> 18857950 | Q35: =IF($I35=Q$2,$G35,0)*(1+$E$75)^Q$2 -> 0 | R35: =IF($I35=R$2,$G35,0)*(1+$E$75)^R$2 -> 0 | ... BN35: =IF($I35=BN$2,$G35,0)*(1+$E$75)^BN$2 -> 0
A36: 17 | B36: Deerfoot Trail south of 130 Avenue S.E., connecting McKenzie Lake and McKenzie Towne | C36: =VLOOKUP(B36,'Tab 4 - Infrastructure'!$B$7:$J$114,9,FALSE) -> Y | D36: =VLOOKUP(B36,'Tab 4 - Infrastructure'!$B$7:$F$114,5,FALSE) -> 16000000 | E36: =VLOOKUP(B36,'Tab 4 - Infrastructure'!$B$6:$D$114,3,FALSE) -> Shared Benefit | F36: =VLOOKUP(B36,'Tab 4 - Infrastructure'!$B$7:$G$114,6,FALSE) -> 0.214 | G36: =D36*F36 -> 3424000 | H36: =D36-G36 -> 12576000 | I36: 6 | K36: =IF($I36=K$2,$G36,0)*(1+$E$75)^K$2 -> 0 | L36: =IF($I36=L$2,$G36,0)*(1+$E$75)^L$2 -> 0 | M36: =IF($I36=M$2,$G36,0)*(1+$E$75)^M$2 -> 0 | N36: =IF($I36=N$2,$G36,0)*(1+$E$75)^N$2 -> 0 | O36: =IF($I36=O$2,$G36,0)*(1+$E$75)^O$2 -> 0 | P36: =IF($I36=P$2,$G36,0)*(1+$E$75)^P$2 -> 4228527.9 | Q36: =IF($I36=Q$2,$G36,0)*(1+$E$75)^Q$2 -> 0 | R36: =IF($I36=R$2,$G36,0)*(1+$E$75)^R$2 -> 0 | ... BN36: =IF($I36=BN$2,$G36,0)*(1+$E$75)^BN$2 -> 0
A37: 18 | B37: Sarcee Trail S.W./Bow Trail Interchange | C37: =VLOOKUP(B37,'Tab 4 - Infrastructure'!$B$7:$J$114,9,FALSE) -> N | D37: =VLOOKUP(B37,'Tab 4 - Infrastructure'!$B$7:$F$114,5,FALSE) -> 169000000 | E37: =VLOOKUP(B37,'Tab 4 - Infrastructure'!$B$6:$D$114,3,FALSE) -> Shared Benefit | F37: =VLOOKUP(B37,'Tab 4 - Infrastructure'!$B$7:$G$114,6,FALSE) -> 0.214 | G37: =D37*F37 -> 36166000 | H37: =D37-G37 -> 132834000 | I37: 7 | K37: =IF($I37=K$2,$G37,0)*(1+$E$75)^K$2 -> 0 | L37: =IF($I37=L$2,$G37,0)*(1+$E$75)^L$2 -> 0 | M37: =IF($I37=M$2,$G37,0)*(1+$E$75)^M$2 -> 0 | N37: =IF($I37=N$2,$G37,0)*(1+$E$75)^N$2 -> 0 | O37: =IF($I37=O$2,$G37,0)*(1+$E$75)^O$2 -> 0 | P37: =IF($I37=P$2,$G37,0)*(1+$E$75)^P$2 -> 0 | Q37: =IF($I37=Q$2,$G37,0)*(1+$E$75)^Q$2 -> 46262790 | R37: =IF($I37=R$2,$G37,0)*(1+$E$75)^R$2 -> 0 | ... BN37: =IF($I37=BN$2,$G37,0)*(1+$E$75)^BN$2 -> 0
A38: 19 | B38: Airport Trail widening from 60 Street N.E. to 68 Street N.E. (2-4 lanes) | C38: =VLOOKUP(B38,'Tab 4 - Infrastructure'!$B$7:$J$114,9,FALSE) -> Y | D38: =VLOOKUP(B38,'Tab 4 - Infrastructure'!$B$7:$F$114,5,FALSE) -> 23000000 | E38: =VLOOKUP(B38,'Tab 4 - Infrastructure'!$B$6:$D$114,3,FALSE) -> Greenfield | F38: =VLOOKUP(B38,'Tab 4 - Infrastructure'!$B$7:$G$114,6,FALSE) -> 0.509 | G38: =D38*F38 -> 11707000 | H38: =D38-G38 -> 11293000 | I38: 7 | K38: =IF($I38=K$2,$G38,0)*(1+$E$75)^K$2 -> 0 | L38: =IF($I38=L$2,$G38,0)*(1+$E$75)^L$2 -> 0 | M38: =IF($I38=M$2,$G38,0)*(1+$E$75)^M$2 -> 0 | N38: =IF($I38=N$2,$G38,0)*(1+$E$75)^N$2 -> 0 | O38: =IF($I38=O$2,$G38,0)*(1+$E$75)^O$2 -> 0 | P38: =IF($I38=P$2,$G38,0)*(1+$E$75)^P$2 -> 0 | Q38: =IF($I38=Q$2,$G38,0)*(1+$E$75)^Q$2 -> 14975349 | R38: =IF($I38=R$2,$G38,0)*(1+$E$75)^R$2 -> 0 | ... BN38: =IF($I38=BN$2,$G38,0)*(1+$E$75)^BN$2 -> 0
A39: 20 | B39: Glenmore Trail/Barlow Trail S.E. Interchange | C39: =VLOOKUP(B39,'Tab 4 - Infrastructure'!$B$7:$J$114,9,FALSE) -> N | D39: =VLOOKUP(B39,'Tab 4 - Infrastructure'!$B$7:$F$114,5,FALSE) -> 40000000 | E39: =VLOOKUP(B39,'Tab 4 - Infrastructure'!$B$6:$D$114,3,FALSE) -> Shared Benefit | F39: =VLOOKUP(B39,'Tab 4 - Infrastructure'!$B$7:$G$114,6,FALSE) -> 0.214 | G39: =D39*F39 -> 8560000 | H39: =D39-G39 -> 31440000 | I39: 7 | K39: =IF($I39=K$2,$G39,0)*(1+$E$75)^K$2 -> 0 | L39: =IF($I39=L$2,$G39,0)*(1+$E$75)^L$2 -> 0 | M39: =IF($I39=M$2,$G39,0)*(1+$E$75)^M$2 -> 0 | N39: =IF($I39=N$2,$G39,0)*(1+$E$75)^N$2 -> 0 | O39: =IF($I39=O$2,$G39,0)*(1+$E$75)^O$2 -> 0 | P39: =IF($I39=P$2,$G39,0)*(1+$E$75)^P$2 -> 0 | Q39: =IF($I39=Q$2,$G39,0)*(1+$E$75)^Q$2 -> 10949773 | R39: =IF($I39=R$2,$G39,0)*(1+$E$75)^R$2 -> 0 | ... BN39: =IF($I39=BN$2,$G39,0)*(1+$E$75)^BN$2 -> 0
A40: 21 | B40: 144 Avenue N. BRT Route | C40: =VLOOKUP(B40,'Tab 4 - Infrastructure'!$B$7:$J$114,9,FALSE) -> Y | D40: =VLOOKUP(B40,'Tab 4 - Infrastructure'!$B$7:$F$114,5,FALSE) -> 50000000 | E40: =VLOOKUP(B40,'Tab 4 - Infrastructure'!$B$6:$D$114,3,FALSE) -> Greenfield | F40: =VLOOKUP(B40,'Tab 4 - Infrastructure'!$B$7:$G$114,6,FALSE) -> 0.509 | G40: =D40*F40 -> 25450000 | H40: =D40-G40 -> 24550000 | I40: 8 | K40: =IF($I40=K$2,$G40,0)*(1+$E$75)^K$2 -> 0 | L40: =IF($I40=L$2,$G40,0)*(1+$E$75)^L$2 -> 0 | M40: =IF($I40=M$2,$G40,0)*(1+$E$75)^M$2 -> 0 | N40: =IF($I40=N$2,$G40,0)*(1+$E$75)^N$2 -> 0 | O40: =IF($I40=O$2,$G40,0)*(1+$E$75)^O$2 -> 0 | P40: =IF($I40=P$2,$G40,0)*(1+$E$75)^P$2 -> 0 | Q40: =IF($I40=Q$2,$G40,0)*(1+$E$75)^Q$2 -> 0 | R40: =IF($I40=R$2,$G40,0)*(1+$E$75)^R$2 -> 33720580 | ... BN40: =IF($I40=BN$2,$G40,0)*(1+$E$75)^BN$2 -> 0
A41: 22 | B41: MAX 301 BRT from Downtown to Aurora Park | C41: =VLOOKUP(B41,'Tab 4 - Infrastructure'!$B$7:$J$114,9,FALSE) -> Y | D41: =VLOOKUP(B41,'Tab 4 - Infrastructure'!$B$7:$F$114,5,FALSE) -> 67000000 | E41: =VLOOKUP(B41,'Tab 4 - Infrastructure'!$B$6:$D$114,3,FALSE) -> Shared Benefit | F41: =VLOOKUP(B41,'Tab 4 - Infrastructure'!$B$7:$G$114,6,FALSE) -> 0.214 | G41: =D41*F41 -> 14338000 | H41: =D41-G41 -> 52662000 | I41: 8 | K41: =IF($I41=K$2,$G41,0)*(1+$E$75)^K$2 -> 0 | L41: =IF($I41=L$2,$G41,0)*(1+$E$75)^L$2 -> 0 | M41: =IF($I41=M$2,$G41,0)*(1+$E$75)^M$2 -> 0 | N41: =IF($I41=N$2,$G41,0)*(1+$E$75)^N$2 -> 0 | O41: =IF($I41=O$2,$G41,0)*(1+$E$75)^O$2 -> 0 | P41: =IF($I41=P$2,$G41,0)*(1+$E$75)^P$2 -> 0 | Q41: =IF($I41=Q$2,$G41,0)*(1+$E$75)^Q$2 -> 0 | R41: =IF($I41=R$2,$G41,0)*(1+$E$75)^R$2 -> 18997473 | ... BN41: =IF($I41=BN$2,$G41,0)*(1+$E$75)^BN$2 -> 0
