Workbook

Sheet Read me
A1: HOW TO USE THIS DOCUMENT
A2: Welcome to the model used to determine the library levy rate for the 2024 Off-site Levies Bylaw review. Note: This model is in DRAFT form for discussion purposes, using the latest information and assumptions available.
A4: Last Updated: | B4: July 2023
A6: Library Levy Tabs 1 - 9
A7: Tab Number | B7: Title | C7: Description
A8: Tab 1 | B8: Assumptions | C8: This tab entails the assumptions and steps to create the financial model. It also provides some details to clarify questions around the assumptions.
A9: Tab 2 | B9: Rate Summary | C9: This tab provides a high level summary of the steps that are taken to determine the library levy rate calculation, and provides a look at the proposed levy rate.
A10: Tab 3 | B10: Unlevied Land | C10: This tab describes the remaining unlevied land that is included in the model.
A11: Tab 4 | B11: Infrastructure | C11: This tab provides details on libraries projects that need to be built over the model period to support the growth of communities in Greenfield Area within Calgary city limits
A12: Tab 5 | B12: Benefit Allocation | C12: This tab provides the benefit rate allocation that considers the land that will benefit from infrastructure and then ties back to the future residents/jobs in that land.
A13: Tab 6 | B13: Financial Model | C13: This tab provides the financial modelling and a detailed calculation of the proposed levy rate.
A14: Tab 7 | B14: Bylaw Continuity | C14: This tab shows a breakdown of spending from funds collected under the 2016 bylaw, funds to be collected under the 2024 bylaw, and funds from other sources, until funds from the 2016 bylaw have been depleted.
A15: Tab 8 | B15: Population Forecast | C15: This tab shows forecasted greenfield full buildout population distribution.
A16: Tab 9 | B16: Existing Capacity | C16: This tab shows total capacity of existing and funded facilities in the Greenfield Area.

Sheet Tab 1 - Assumptions
A1: Library - Assumptions
A2: Summary | B2: Frequently Asked Questions
A3: The City will use this financial model to calculate ibrary off-site levy rate per hectare that incorporates investment income/(expense), capital cost escalations, and the timing of expenditures and developer contributions through the model period. The levy rate calculated ensures that the off-site levy balance at the end of the model period is zero, i.e. revenues have matched expenditures. It also incorporates, if necessary, any interest costs incurred from the use of alternative funding sources required to deliver infrastructure in a timely manner.
A6: Assumptions
A7: Escalation rate | B7: The escalation factor of 3.58% is a five-year smoothed average, determined using Non-Residential Building Construction Price Index (CPI) for Calgary.
A8: Discount rate | B8: The discount rate of 4.29% is based on the asset mix of investments held in The City's capital deposits, and the Long term Capital Market assumptions that The City uses in projecting returns from investment portfolios.
A9: Gross developable land | B9: Gross developable lands are calculated starting with the gross land area and deducting non-developable lands.
A10: Unlevied land | B10: Unlevied land includes all gross developable lands outside the off-site levy Established Area boundary that do not have executed development agreements. This was 14,211.1 hectares at the end of 2022, and is forecast to be 13,921.1 hectares at the end of 2023.
A11: Land absorption | B11: • All remaining unlevied hectares will sign development agreements within the forecast period (ending 2055). • The land absorption from 2023 to 2027 is based on the fall 2022 forecast by Corporate Economics. • Remaining unlevied hectares in current and future Area Structure Plans are assumed to follow a decreasing trend over the forecast period, on the expectation of higher densities supporting the same number of people.
A12: Benefit allocation | B12: Benefit allocation considers the land that will benefit from future infrastructure and relates to the forecast residents and jobs in that land.
A13: Payment schedule | B13: This financial model incorporates the current levy payment schedule, where 100% of library levies are paid in year three after the development agreement is signed.
A14: Investment income on future value of cash flows | B14: Investment income is earned on the off-site levy beginning account balance, plus collections and minus spending through the year. Investment income on collections and spending is multiplied by a cashflow timing factor of 0.5 to reflect the fact that the timing of collection and spending varies throughout the year. If the balance of the off-site levy goes negative then interest is charged on the balance of the shortfall.
A15: Expenditures | B15: Expenditures include all currently planned infrastructure for the next 32 years. This list may change as further information becomes available.

Sheet Tab 2 - Rate Summary
B1: Library - Rate Summary
B2: Proposed 2024 Levy Rate | F2: Figure 1. Off-site levy rate calculation
B4: The levy rate calculation is being adjusted from the simple formula of Costs x Benefit / Land to the model described in Figure 1 to the right, and in the text below. This financial model uses the following inputs: • Total unlevied land, and annual land absorption. • The off-site levy payment schedule. • Total capital costs of new infrastructure being levied for, with the benefit allocations to determine total unlevied costs. • Annual expenditures. • An escalation factor to calculate the future value of project costs. • A discount factor to calculate the discounted value of project costs, future revenue from developer contributions, and annual investment income or interest expense. The levy rate is then calculated using Excel's Goal Seek function to find the levy rate that balances all expenditures and revenues over the course of the model to result in an off-site levy balance of $0.
B26: Step 1 | C26: Step 2 | D26: Step 3 | E26: Step 4 | F26: Step 5 | G26: Step 6 | H26: Step 7 | I26: Step 8
B27: Total capital costs | C27: Leviable capital cost | D27: Future value | E27: Discounted value | F27: Unlevied land absorption | G27: Developer contributions | H27: Investment income | I27: Levy rate
B28: Identify the total capital costs for projects that benefit unlevied lands. Details can be found in Tab 4. | C28: Leviable capital cost: • Apply benefit rates to the capital costs of each project to determine the developer share of costs. | D28: Calculate the future value of capital costs over the model period. Details for this step can be found in Tab 6. | E28: Calculate the discounted value of the capital costs over the model period. Details for this step can be found in Tab 6. | F28: Details on unlevied lands can be found in Tab 3. Remaining unlevied lands are assumed to be fully absorbed within the model period, in the slowly decreasing trend shown on Tab 6. | G28: The levy rate is multiplied by the hectares that are forecast to sign development agreements each year to calculate the yearly contributions from the developers. | H28: The annual investment income is calculated by multiplying the balance of spending and contributions each year by the investment rate of return. | I28: Use Excel's Goal Seek function to calculate the library off-site levy rate which ensures that developer contributions plus investment income are equal to the future value of capital cost/cash outflows by end of the model period.
B29: A | C29: B | D29: C | E29: D | F29: E | G29: F | H29: G | I29: H
B30: =SUM('Tab 6 - Financial Model'!D15:D23) -> 1.1744556e+08 | C30: =SUM('Tab 6 - Financial Model'!G15:G22) -> 51676046 | D30: ='Tab 6 - Financial Model'!I24 -> 1.1593314e+08 | E30: ='Tab 6 - Financial Model'!I25 -> 44708192 | F30: ='Tab 6 - Financial Model'!E37 -> 9069 | G30: ='Tab 6 - Financial Model'!I35 -> 1.0463339e+08 | H30: ='Tab 6 - Financial Model'!I41 -> 11299844 | I30: ='Tab 6 - Financial Model'!F3 -> 5831.5885
B31: Dollars | C31: Dollars | D31: Dollars | E31: Dollars | F31: Hectares | G31: Dollars | H31: Dollars | I31: Dollars

Sheet Tab 3 - Unlevied Land
A1: Library - Unlevied Land
A2: This tab provides background on different benefiting areas: the Established Area, unlevied land, and land that has already been levied. | Q2: Map 1. Off-site levy Established Area Boundary and unlevied lands as of the end of 2022
A5: Map 1 to the right illustrates The City's Established Area, and Greenfield Area. The Established Area boundary was identified in the 2016 Off-site Levy Bylaw and contains lands that are fully developed, or have executed development agreement to allow future development. The purpose of the boundary is to determine benefiting areas in support of levy rate calculations (established or greenfield) for different parts of the city. Land shown in green includes both greenfield lands that have already been levied, unlevied, and non-developable land. Non-developable land is excluded from the determination of the number of hectares that have been levied or unlevied. This includes, for example: • The Transportation Utility Corridor (TUC), or road right-of-way for provincial expressways. • Environmental Reserve (slopes with a grade greater than 15%, natural water bodies, areas impacted by a 1:100 year flood). • Landfills. • Cemeteries.
Q51: Yellow areas: alredy levied land and undevelopable land
Q52: Grey area: Established Area

Sheet Tab 4 - Infrastructure
A1: Library - Infrastructure
A3: This tab shows the basis of the calculation and assumptions used in assessing infrastructure allocation.
A5: Per facility capacity | B5: The service level for the greenfield is comparable with the service level in the Established Area (0.30 sq. ft. of library needed per person, 124,150 sq. ft. of library needed to service future population needs).
A6: Capacity allocation | B6: Future greenfield population will be 100% benefitting with existing and future libraries in the greenfield area.
A7: Construction year | B7: Determined based on when the new library will be required as related to the pace of population growth.
A10: Future need of facility and cost analysis
A12: Facility type | B12: Total greenfield ASP population (full buildout) See Tab 8 | C12: Existing/funded facility capacity in greenfield (people) See Tab 9 | D12: Additional facility capacity needed at full buildout (people) | E12: Per person sq. ft. library needed | F12: Total sq. ft. of library for future population | G12: Building cost, $/sq. ft. | H12: Building cost ($) | I12: Library footage per acre | J12: Land required (1 acre for 10,000 sq ft) | K12: Land cost per acre, $ | L12: Land cost ($) | M12: Total cost ($)
A13: Library | B13: ='Tab 8 - Population Forecast'!P13 -> 946835.33 | C13: ='Tab 9 - Existing Capacity'!E3 -> 533003.19 | D13: =B13-C13 -> 413832.13 | E13: 0.3 | F13: =E13*D13 -> 124149.64 | G13: 826 | H13: =G13*F13 -> 1.025476e+08 | I13: 10000 | J13: =F13/I13 -> 12.414964 | K13: 1200000 | L13: =K13*J13 -> 14897957 | M13: =L13+H13 -> 1.1744556e+08
M14: 8
A15: Facilities | B15: Number of facilities | C15: Construction year | D15: Base cost | M15: =M13/M14 -> 14680695
A16: Library-1 | B16: 1 | C16: 2029 | D16: =$M$13/8 -> 14680695
A17: Library-2 | B17: 1 | C17: 2034 | D17: =$M$13/8 -> 14680695
A18: Library-3 | B18: 1 | C18: 2039 | D18: =$M$13/8 -> 14680695
A19: Library-4 | B19: 1 | C19: 2044 | D19: =$M$13/8 -> 14680695
A20: Library-5 | B20: 1 | C20: 2049 | D20: =$M$13/8 -> 14680695
A21: Library-6 | B21: 1 | C21: 2049 | D21: =$M$13/8 -> 14680695
A22: Library-7 | B22: 0.892656 | C22: 2054 | D22: =$M$13/8 -> 14680695
A23: Library-8 | B23: 1 | C23: 2058 | D23: =$M$13/8 -> 14680695

Sheet Tab 5 - Benefit Allocation
A1: Library - Benefit Allocation
A3: This tab provides details on the benefit methodology. It shows the basis of the calculation and assumptions used in assessing benefit allocation.
A5: Benefit measurement: | B5: Library benefit is measured using the share of population in benefiting areas.
A6: Benefiting areas include: | B6: Greenfield only: projects that support Area Structure Plans (ASPs) outside the Established Area boundary. The service level for the Greenfield Area is comparable with the service level in the Established Area. 100% of benefit is assigned to the greenfield ASP lands, and is split based on the forecast population in lands that have already signed development agreements and paid off-site levies (levied lands), and lands that have not yet signed development agreements and paid off-site levies (unlevied lands).
A7: Data source: | B7: Source: Calgary Next 20: Population, Employment and Housing Projections, 2021, by Applications Management Consulting Ltd. • A buildout forecast of population based on current growth trends.
A8: Source data details and assumptions: | B8: • The forecast period ends in 2058. • Population and job forecasts are assessed by Transportation Zones (TZs). Transportation Zones provide a useful and reasonable geographic division for forecasting. • Population densities are assumed to be even throughout TZs. (e.g. where part of a TZ has paid levies, and part has not).
A9: Benefit allocation calculation: | B9: Benefit = (Sum of forecast population in all unlevied lands)/(Sum of forecast population in all greenfield lands)
A15: Benefit share calculation
A17: Facility type | B17: Total greenfield ASP population (full buildout) See Tab 8 | C17: Total levied population See Tab 8 | D17: ASP unlevied population | E17: Benefit share of ASP unlevied population | F17: Costs to be levied for
A18: Library | B18: ='Tab 8 - Population Forecast'!P13 -> 946835.33 | C18: ='Tab 8 - Population Forecast'!P11 -> 529843.89 | D18: =B18-C18 -> 416991.44 | E18: =ROUND(D18/B18,2) -> 0.44 | F18: =E18*SUM('Tab 4 - Infrastructure'!D16:D23) -> 51676046

Sheet Tab 6 - Financial Model
B1: Library OSL Financial Rate Model
B3: Library Levy Rate | F3: 5831.5885 | G3: End Value (CELL AU43): | I3: =AU43 -> 93
B4: How to calculate the levy rate: Once all variables have been set, the levy rate can be recalculated by running Excel's Goal Seek function (Data --> What-If Analysis --> Goal Seek) to calculate the levy rate in cell F3 by setting cell AU43 to 0 by changing the levy rate in cell F3. The model applies the value in cell F3 to the land absorption in row 30, to ensure that contributions from Development Agreements plus earned investment income offset total spending and ensure that the ending balance is zero (cell AU43), i.e., all revenues and spending have balanced. Variables impacting this calculation include: annual expenditures, land absorption rate (row 30), payment schedule (cells I37 to I40), and the escalation and discount rates (cells E26 and E27).
B10: Section 1: Expenditures
C12: Project name | D12: Capital cost | E12: Benefit type | F12: Benefit % | G12: Unlevied cost | H12: Previously levied/City share of cost | I12: Year projected project built | L12: 0 | M12: 1 | N12: 2 | O12: 3 | P12: 4 | Q12: 5 | R12: 6 | S12: 7 | T12: 8 | U12: 9 | V12: 10 | W12: 11 | X12: 12 | Y12: 13 | Z12: 14 | AA12: 15 | AB12: 16 | AC12: 17 | AD12: 18 | AE12: 19 | AF12: 20 | AG12: 21 | AH12: 22 | AI12: 23 | AJ12: 24 | AK12: 25 | AL12: 26 | AM12: 27 | AN12: 28 | AO12: 29 | AP12: 30 | AQ12: 31 | AR12: 32 | AS12: 33 | AT12: 34 | AU12: 35
L13: 2023 | M13: 2024 | N13: 2025 | O13: 2026 | P13: 2027 | Q13: 2028 | R13: 2029 | S13: 2030 | T13: 2031 | U13: 2032 | V13: 2033 | W13: 2034 | X13: 2035 | Y13: 2036 | Z13: 2037 | AA13: 2038 | AB13: 2039 | AC13: 2040 | AD13: 2041 | AE13: 2042 | AF13: 2043 | AG13: 2044 | AH13: 2045 | AI13: 2046 | AJ13: 2047 | AK13: 2048 | AL13: 2049 | AM13: 2050 | AN13: 2051 | AO13: 2052 | AP13: 2053 | AQ13: 2054 | AR13: 2055 | AS13: 2056 | AT13: 2057 | AU13: 2058
M14: =IF($I14=M$12,$G14,0)*(1+$E$26)^M$12 -> 0 | N14: =IF($I14=N$12,$G14,0)*(1+$E$26)^N$12 -> 0 | O14: =IF($I14=O$12,$G14,0)*(1+$E$26)^O$12 -> 0 | P14: =IF($I14=P$12,$G14,0)*(1+$E$26)^P$12 -> 0 | Q14: =IF($I14=Q$12,$G14,0)*(1+$E$26)^Q$12 -> 0 | R14: =IF($I14=R$12,$G14,0)*(1+$E$26)^R$12 -> 0 | S14: =IF($I14=S$12,$G14,0)*(1+$E$26)^S$12 -> 0 | T14: =IF($I14=T$12,$G14,0)*(1+$E$26)^T$12 -> 0 | ... AU14: =IF($I14=AU$12,$G14,0)*(1+$E$26)^AU$12 -> 0
C15: ='Tab 4 - Infrastructure'!A16 -> Library-1 | D15: ='Tab 4 - Infrastructure'!D16 -> 14680695 | E15: Greenfield | F15: ='Tab 5 - Benefit Allocation'!$E$18 -> 0.44 | G15: =D15*F15 -> 6459505.8 | H15: =D15-G15 -> 8221189.1 | I15: =('Tab 4 - Infrastructure'!C16-'Tab 6 - Financial Model'!$M$13)+1 -> 6 | M15: =IF($I15=M$12,$G15,0)*(1+$E$26)^M$12 -> 0 | N15: =IF($I15=N$12,$G15,0)*(1+$E$26)^N$12 -> 0 | O15: =IF($I15=O$12,$G15,0)*(1+$E$26)^O$12 -> 0 | P15: =IF($I15=P$12,$G15,0)*(1+$E$26)^P$12 -> 0 | Q15: =IF($I15=Q$12,$G15,0)*(1+$E$26)^Q$12 -> 0 | R15: =IF($I15=R$12,$G15,0)*(1+$E$26)^R$12 -> 7977278 | S15: =IF($I15=S$12,$G15,0)*(1+$E$26)^S$12 -> 0 | T15: =IF($I15=T$12,$G15,0)*(1+$E$26)^T$12 -> 0 | ... AU15: =IF($I15=AU$12,$G15,0)*(1+$E$26)^AU$12 -> 0
C16: ='Tab 4 - Infrastructure'!A17 -> Library-2 | D16: ='Tab 4 - Infrastructure'!D17 -> 14680695 | E16: Greenfield | F16: ='Tab 5 - Benefit Allocation'!$E$18 -> 0.44 | G16: =D16*F16 -> 6459505.8 | H16: =D16-G16 -> 8221189.1 | I16: =('Tab 4 - Infrastructure'!C17-'Tab 6 - Financial Model'!$M$13)+1 -> 11 | M16: =IF($I16=M$12,$G16,0)*(1+$E$26)^M$12 -> 0 | N16: =IF($I16=N$12,$G16,0)*(1+$E$26)^N$12 -> 0 | O16: =IF($I16=O$12,$G16,0)*(1+$E$26)^O$12 -> 0 | P16: =IF($I16=P$12,$G16,0)*(1+$E$26)^P$12 -> 0 | Q16: =IF($I16=Q$12,$G16,0)*(1+$E$26)^Q$12 -> 0 | R16: =IF($I16=R$12,$G16,0)*(1+$E$26)^R$12 -> 0 | S16: =IF($I16=S$12,$G16,0)*(1+$E$26)^S$12 -> 0 | T16: =IF($I16=T$12,$G16,0)*(1+$E$26)^T$12 -> 0 | ... AU16: =IF($I16=AU$12,$G16,0)*(1+$E$26)^AU$12 -> 0
C17: ='Tab 4 - Infrastructure'!A18 -> Library-3 | D17: ='Tab 4 - Infrastructure'!D18 -> 14680695 | E17: Greenfield | F17: ='Tab 5 - Benefit Allocation'!$E$18 -> 0.44 | G17: =D17*F17 -> 6459505.8 | H17: =D17-G17 -> 8221189.1 | I17: =('Tab 4 - Infrastructure'!C18-'Tab 6 - Financial Model'!$M$13)+1 -> 16 | M17: =IF($I17=M$12,$G17,0)*(1+$E$26)^M$12 -> 0 | N17: =IF($I17=N$12,$G17,0)*(1+$E$26)^N$12 -> 0 | O17: =IF($I17=O$12,$G17,0)*(1+$E$26)^O$12 -> 0 | P17: =IF($I17=P$12,$G17,0)*(1+$E$26)^P$12 -> 0 | Q17: =IF($I17=Q$12,$G17,0)*(1+$E$26)^Q$12 -> 0 | R17: =IF($I17=R$12,$G17,0)*(1+$E$26)^R$12 -> 0 | S17: =IF($I17=S$12,$G17,0)*(1+$E$26)^S$12 -> 0 | T17: =IF($I17=T$12,$G17,0)*(1+$E$26)^T$12 -> 0 | ... AU17: =IF($I17=AU$12,$G17,0)*(1+$E$26)^AU$12 -> 0
C18: ='Tab 4 - Infrastructure'!A19 -> Library-4 | D18: ='Tab 4 - Infrastructure'!D19 -> 14680695 | E18: Greenfield | F18: ='Tab 5 - Benefit Allocation'!$E$18 -> 0.44 | G18: =D18*F18 -> 6459505.8 | H18: =D18-G18 -> 8221189.1 | I18: =('Tab 4 - Infrastructure'!C19-'Tab 6 - Financial Model'!$M$13)+1 -> 21 | M18: =IF($I18=M$12,$G18,0)*(1+$E$26)^M$12 -> 0 | N18: =IF($I18=N$12,$G18,0)*(1+$E$26)^N$12 -> 0 | O18: =IF($I18=O$12,$G18,0)*(1+$E$26)^O$12 -> 0 | P18: =IF($I18=P$12,$G18,0)*(1+$E$26)^P$12 -> 0 | Q18: =IF($I18=Q$12,$G18,0)*(1+$E$26)^Q$12 -> 0 | R18: =IF($I18=R$12,$G18,0)*(1+$E$26)^R$12 -> 0 | S18: =IF($I18=S$12,$G18,0)*(1+$E$26)^S$12 -> 0 | T18: =IF($I18=T$12,$G18,0)*(1+$E$26)^T$12 -> 0 | ... AU18: =IF($I18=AU$12,$G18,0)*(1+$E$26)^AU$12 -> 0
C19: ='Tab 4 - Infrastructure'!A20 -> Library-5 | D19: ='Tab 4 - Infrastructure'!D20 -> 14680695 | E19: Greenfield | F19: ='Tab 5 - Benefit Allocation'!$E$18 -> 0.44 | G19: =D19*F19 -> 6459505.8 | H19: =D19-G19 -> 8221189.1 | I19: =('Tab 4 - Infrastructure'!C20-'Tab 6 - Financial Model'!$M$13)+1 -> 26 | M19: =IF($I19=M$12,$G19,0)*(1+$E$26)^M$12 -> 0 | N19: =IF($I19=N$12,$G19,0)*(1+$E$26)^N$12 -> 0 | O19: =IF($I19=O$12,$G19,0)*(1+$E$26)^O$12 -> 0 | P19: =IF($I19=P$12,$G19,0)*(1+$E$26)^P$12 -> 0 | Q19: =IF($I19=Q$12,$G19,0)*(1+$E$26)^Q$12 -> 0 | R19: =IF($I19=R$12,$G19,0)*(1+$E$26)^R$12 -> 0 | S19: =IF($I19=S$12,$G19,0)*(1+$E$26)^S$12 -> 0 | T19: =IF($I19=T$12,$G19,0)*(1+$E$26)^T$12 -> 0 | ... AU19: =IF($I19=AU$12,$G19,0)*(1+$E$26)^AU$12 -> 0
C20: ='Tab 4 - Infrastructure'!A21 -> Library-6 | D20: ='Tab 4 - Infrastructure'!D21 -> 14680695 | E20: Greenfield | F20: ='Tab 5 - Benefit Allocation'!$E$18 -> 0.44 | G20: =D20*F20 -> 6459505.8 | H20: =D20-G20 -> 8221189.1 | I20: =('Tab 4 - Infrastructure'!C21-'Tab 6 - Financial Model'!$M$13)+1 -> 26 | M20: =IF($I20=M$12,$G20,0)*(1+$E$26)^M$12 -> 0 | N20: =IF($I20=N$12,$G20,0)*(1+$E$26)^N$12 -> 0 | O20: =IF($I20=O$12,$G20,0)*(1+$E$26)^O$12 -> 0 | P20: =IF($I20=P$12,$G20,0)*(1+$E$26)^P$12 -> 0 | Q20: =IF($I20=Q$12,$G20,0)*(1+$E$26)^Q$12 -> 0 | R20: =IF($I20=R$12,$G20,0)*(1+$E$26)^R$12 -> 0 | S20: =IF($I20=S$12,$G20,0)*(1+$E$26)^S$12 -> 0 | T20: =IF($I20=T$12,$G20,0)*(1+$E$26)^T$12 -> 0 | ... AU20: =IF($I20=AU$12,$G20,0)*(1+$E$26)^AU$12 -> 0
C21: ='Tab 4 - Infrastructure'!A22 -> Library-7 | D21: ='Tab 4 - Infrastructure'!D22 -> 14680695 | E21: Greenfield | F21: ='Tab 5 - Benefit Allocation'!$E$18 -> 0.44 | G21: =D21*F21 -> 6459505.8 | H21: =D21-G21 -> 8221189.1 | I21: =('Tab 4 - Infrastructure'!C22-'Tab 6 - Financial Model'!$M$13)+1 -> 31 | M21: =IF($I21=M$12,$G21,0)*(1+$E$26)^M$12 -> 0 | N21: =IF($I21=N$12,$G21,0)*(1+$E$26)^N$12 -> 0 | O21: =IF($I21=O$12,$G21,0)*(1+$E$26)^O$12 -> 0 | P21: =IF($I21=P$12,$G21,0)*(1+$E$26)^P$12 -> 0 | Q21: =IF($I21=Q$12,$G21,0)*(1+$E$26)^Q$12 -> 0 | R21: =IF($I21=R$12,$G21,0)*(1+$E$26)^R$12 -> 0 | S21: =IF($I21=S$12,$G21,0)*(1+$E$26)^S$12 -> 0 | T21: =IF($I21=T$12,$G21,0)*(1+$E$26)^T$12 -> 0 | ... AU21: =IF($I21=AU$12,$G21,0)*(1+$E$26)^AU$12 -> 0
C22: ='Tab 4 - Infrastructure'!A23 -> Library-8 | D22: ='Tab 4 - Infrastructure'!D23 -> 14680695 | E22: Greenfield | F22: ='Tab 5 - Benefit Allocation'!$E$18 -> 0.44 | G22: =D22*F22 -> 6459505.8 | H22: =D22-G22 -> 8221189.1 | I22: =('Tab 4 - Infrastructure'!C23-'Tab 6 - Financial Model'!$M$13)+1 -> 35 | M22: =IF($I22=M$12,$G22,0)*(1+$E$26)^M$12 -> 0 | N22: =IF($I22=N$12,$G22,0)*(1+$E$26)^N$12 -> 0 | O22: =IF($I22=O$12,$G22,0)*(1+$E$26)^O$12 -> 0 | P22: =IF($I22=P$12,$G22,0)*(1+$E$26)^P$12 -> 0 | Q22: =IF($I22=Q$12,$G22,0)*(1+$E$26)^Q$12 -> 0 | R22: =IF($I22=R$12,$G22,0)*(1+$E$26)^R$12 -> 0 | S22: =IF($I22=S$12,$G22,0)*(1+$E$26)^S$12 -> 0 | T22: =IF($I22=T$12,$G22,0)*(1+$E$26)^T$12 -> 0 | ... AU22: =IF($I22=AU$12,$G22,0)*(1+$E$26)^AU$12 -> 22123611
H24: Future value of unlevied cost | I24: =SUM(M24:AU24) -> 1.1593314e+08 | M24: =SUM(M14:M22) -> 0 | N24: =SUM(N14:N22) -> 0 | O24: =SUM(O14:O22) -> 0 | P24: =SUM(P14:P22) -> 0 | Q24: =SUM(Q14:Q22) -> 0 | R24: =SUM(R14:R22) -> 7977278 | S24: =SUM(S14:S22) -> 0 | T24: =SUM(T14:T22) -> 0 | ... AU24: =SUM(AU14:AU22) -> 22123611
C25: Rates used to calculate future value and present value of unlevied cost: | H25: Discounted value of unlevied cost | I25: =SUM(M25:AU25) -> 44708192 | M25: =(SUM(M14:M23))/((1+$E$27)^M12) -> 0 | N25: =(SUM(N14:N23))/((1+$E$27)^N12) -> 0 | O25: =(SUM(O14:O23))/((1+$E$27)^O12) -> 0 | P25: =(SUM(P14:P23))/((1+$E$27)^P12) -> 0 | Q25: =(SUM(Q14:Q23))/((1+$E$27)^Q12) -> 0 | R25: =(SUM(R14:R23))/((1+$E$27)^R12) -> 6200100.4 | S25: =(SUM(S14:S23))/((1+$E$27)^S12) -> 0 | T25: =(SUM(T14:T23))/((1+$E$27)^T12) -> 0 | ... AU25: =(SUM(AU14:AU23))/((1+$E$27)^AU12) -> 5085839.6
C26: Table: Escalation and Discount Rates | D26: Escalation Rate | E26: 0.0358
C27: Source: City Treasury, March 2023 | D27: Discount Rate | E27: 0.0429
B29: Section 2: Land Absorption and Yearly Cash Flows
H30: Hectares that sign development agreements (DAs) | L30: 290 | M30: 309 | N30: 327 | O30: 321 | P30: 321 | Q30: 318.4809 | R30: 315.9618 | S30: 313.44269 | T30: 310.92359 | U30: 308.40449 | V30: 305.88539 | W30: 303.36629 | X30: 300.84718 | Y30: 298.32808 | Z30: 295.80898 | AA30: 293.28988 | AB30: 290.77078 | AC30: 288.25167 | AD30: 285.73257 | AE30: 283.21347 | AF30: 280.69437 | AG30: 278.17527 | AH30: 275.65616 | AI30: 273.13706 | AJ30: 270.61796 | AK30: 268.09886 | AL30: 265.57976 | AM30: 263.06065 | AN30: 225.74155 | AO30: 223.22245 | AP30: 220.70335 | AQ30: 218.18424 | AR30: 215.66514
H31: Cumulative hectares | M31: =M30 -> 309 | N31: =M31+N30 -> 636 | O31: =N31+O30 -> 957 | P31: =O31+P30 -> 1278 | Q31: =P31+Q30 -> 1596.4809 | R31: =Q31+R30 -> 1912.4427 | S31: =R31+S30 -> 2225.8854 | T31: =S31+T30 -> 2536.809 | U31: =T31+U30 -> 2845.2135 | ... AU31: =AT31+AU30 -> 9069.2446
D34: Year | E34: Unlevied hectares | H34: Yearly cash-flow analysis ($):
C35: Unlevied hectares at Jan 1, 2023 | D35: Subtotal | E35: =9069+290 -> 9359 | H35: Contributions from signed DAs | I35: =SUM(K35:AU35) -> 1.0463339e+08 | M35: =($F$3*M30)*(1+$E$27)^L12 -> 1801960.8 | N35: =($F$3*N30)*(1+$E$27)^M12 -> 1988736.7 | O35: =($F$3*O30)*(1+$E$27)^N12 -> 2035997.5 | P35: =($F$3*P30)*(1+$E$27)^O12 -> 2123341.8 | Q35: =($F$3*Q30)*(1+$E$27)^P12 -> 2197055 | R35: =($F$3*R30)*(1+$E$27)^Q12 -> 2273185 | S35: =($F$3*S30)*(1+$E$27)^R12 -> 2351803.5 | T35: =($F$3*T30)*(1+$E$27)^S12 -> 2432983.8 | ... AU35: =($F$3*AU30)*(1+$E$27)^AT12 -> 0
C36: Forecast hectares in executed DAs | D36: 2023 | E36: 290 | H36: Beginning account balance, $ | M36: =L43 -> 0 | N36: =M43 -> 0 | O36: =N43 -> 0 | P36: =O43 -> 0 | Q36: =P43 -> 1840612.9 | R36: =Q43 -> 3950970.3 | S36: =R43 -> -1948254.1 | T36: =S43 -> 137053.25 | ... AU36: =AT43 -> 17139027
C37: Denominator: Unlevied hectares at Jan 1, 2024 | D37: Subtotal | E37: =E35-E36 -> 9069 | G37: Levy payment schedule after a DA is signed. | H37: Year 0 | I37: 0 | M37: =M35*$I$37 -> 0 | N37: =N35*$I$37 -> 0 | O37: =O35*$I$37 -> 0 | P37: =P35*$I$37 -> 0 | Q37: =Q35*$I$37 -> 0 | R37: =R35*$I$37 -> 0 | S37: =S35*$I$37 -> 0 | T37: =T35*$I$37 -> 0 | ... AU37: =AU35*$I$37 -> 0
D38: 2024 | E38: 309 | H38: Year 1 | I38: 0 | N38: =M35*$I$38 -> 0 | O38: =N35*$I$38 -> 0 | P38: =O35*$I$38 -> 0 | Q38: =P35*$I$38 -> 0 | R38: =Q35*$I$38 -> 0 | S38: =R35*$I$38 -> 0 | T38: =S35*$I$38 -> 0 | U38: =T35*$I$38 -> 0 | ... AU38: =AT35*$I$38 -> 0
C39: Hectares in executed DAs from 2023 to 2027 are per Corporate Economics Fall 2022 forecast. The remaining 7,791 hectares of unlevied land are assumed to be absorbed in a slowly decreasing trend, with approximately 2.54 ha fewer per year. This starts from 318.5 hectares in 2028 and finishes with 197.6 hectares in 2076. | D39: 2025 | E39: 327 | H39: Year 2 | I39: 0 | O39: =M35*$I$39 -> 0 | P39: =N35*$I$39 -> 0 | Q39: =O35*$I$39 -> 0 | R39: =P35*$I$39 -> 0 | S39: =Q35*$I$39 -> 0 | T39: =R35*$I$39 -> 0 | U39: =S35*$I$39 -> 0 | V39: =T35*$I$39 -> 0 | ... AU39: =AS35*$I$39 -> 0
D40: 2026 & 2027 | E40: 321 | H40: Year 3 | I40: 1 | P40: =M35*$I$40 -> 1801960.8 | Q40: =N35*$I$40 -> 1988736.7 | R40: =O35*$I$40 -> 2035997.5 | S40: =P35*$I$40 -> 2123341.8 | T40: =Q35*$I$40 -> 2197055 | U40: =R35*$I$40 -> 2273185 | V40: =S35*$I$40 -> 2351803.5 | W40: =T35*$I$40 -> 2432983.8 | ... AU40: =AR35*$I$40 -> 4624763.4
D41: 2028 - 2055 | E41: Declining | H41: Investment income (interest expense), $ | I41: =SUM(P41:AU41) -> 11299844 | P41: =(P36+(SUM(P37:P40)*$E$51))*$E$27-(P24*$E$51*$E$27) -> 38652.06 | Q41: =(Q36+(SUM(Q37:Q40)*$E$51))*$E$27-(Q24*$E$51*$E$27) -> 121620.7 | R41: =(R36+(SUM(R37:R40)*$E$51))*$E$27-(R24*$E$51*$E$27) -> 42056.158 | S41: =(S36+(SUM(S37:S40)*$E$51))*$E$27-(S24*$E$51*$E$27) -> -38034.42 | T41: =(T36+(SUM(T37:T40)*$E$51))*$E$27-(T24*$E$51*$E$27) -> 53006.414 | U41: =(U36+(SUM(U37:U40)*$E$51))*$E$27-(U24*$E$51*$E$27) -> 151167.04 | V41: =(V36+(SUM(V37:V40)*$E$51))*$E$27-(V24*$E$51*$E$27) -> 256858.11 | W41: =(W36+(SUM(W37:W40)*$E$51))*$E$27-(W24*$E$51*$E$27) -> 166496.26 | ... AU41: =(AU36+(SUM(AU37:AU40)*$E$51))*$E$27-(AU24*$E$51*$E$27) -> 359913.99
H42: Future value of cash inflows, $ | I42: =SUM(I35:I41) -> 1.1593324e+08
H43: Ending account balance, $ | M43: =M36+M37+M38+M39+M40+M41-M24 -> 0 | N43: =N36+N37+N38+N39+N40+N41-N24 -> 0 | O43: =O36+O37+O38+O39+O40+O41-O24 -> 0 | P43: =P36+P37+P38+P39+P40+P41-P24 -> 1840612.9 | Q43: =Q36+Q37+Q38+Q39+Q40+Q41-Q24 -> 3950970.3 | R43: =R36+R37+R38+R39+R40+R41-R24 -> -1948254.1 | S43: =S36+S37+S38+S39+S40+S41-S24 -> 137053.25 | T43: =T36+T37+T38+T39+T40+T41-T24 -> 2387114.7 | ... AT43: =AT36+AT37+AT38+AT39+AT40+AT41-AT24 -> 17139027 | AU43: =ROUND((AU36+AU37+AU38+AU39+AU40+AU41-AU24),0) -> 93
C48: Note: Cash flow timing is for inflows, 1=beginning of year; 0.5 is straight line; 0.0 is end of year. This is used to calculate investment income on expenditures within a given year.
C51: Cashflow timing factor | E51: 0.5
A53: End of WP

Sheet Tab 7 - Bylaw Continuity
A1: Library OSL Continuity
A3: This sheet is for information purposes only. It shows the continuity of expenditures, developer contributions, investment income, and fund balances for both the 2016 and 2024 Off-site Levies Bylaws. Any final investment income earned in the final year will be applied to expenditures in that year.
A6: Light green references the 2016 bylaw
A7: Light orange references the 2024 bylaw
A9: 2024 Levy Rate | D9: Year # | H9: 0 | I9: 1 | J9: 2 | K9: 3 | L9: 4 | M9: 5 | N9: 6 | O9: 7 | P9: 8 | Q9: 9 | R9: 10 | S9: 11 | T9: 12 | U9: 13 | V9: 14 | W9: 15 | X9: 16 | Y9: 17 | Z9: 18 | AA9: 19 | AB9: 20 | AC9: 21 | AD9: 22 | AE9: 23 | AF9: 24 | AG9: 25 | AH9: 26 | AI9: 27 | AJ9: 28 | AK9: 29 | AL9: 30 | AM9: 31 | AN9: 32 | AO9: 33 | AP9: 34 | AQ9: 35
A10: ='Tab 6 - Financial Model'!F3 -> 5831.5885 | D10: Year | E10: 2020 | F10: 2021 | G10: 2022 | H10: 2023 | I10: 2024 | J10: 2025 | K10: 2026 | L10: 2027 | M10: 2028 | N10: 2029 | O10: 2030 | P10: 2031 | Q10: 2032 | R10: 2033 | S10: 2034 | T10: 2035 | U10: 2036 | V10: 2037 | W10: 2038 | X10: 2039 | Y10: 2040 | Z10: 2041 | AA10: 2042 | AB10: 2043 | AC10: 2044 | AD10: 2045 | AE10: 2046 | AF10: 2047 | AG10: 2048 | AH10: 2049 | AI10: 2050 | AJ10: 2051 | AK10: 2052 | AL10: 2053 | AM10: 2054 | AN10: 2055 | AO10: 2056 | AP10: 2057 | AQ10: 2058
A12: Expenditures ($)
A13: Supports projects in progress. | B13: Committed OSL expenditures (2016 Bylaw) | H13: =2550000+3800000 -> 6350000 | I13: 8250000 | J13: 5000000 | K13: 5000000 | L13: 9400000
A15: 1 | B15: ='Tab 6 - Financial Model'!C15 -> Library-1 | D15: =SUMIF('Tab 6 - Financial Model'!$C$15:$C$22,'Tab 7 - Bylaw Continuity'!B15,'Tab 6 - Financial Model'!$I$15:$I$22) -> 6 | E15: =IF(AND($D15=E$9,$B15='Tab 6 - Financial Model'!$C15),('Tab 6 - Financial Model'!$D15*(1+'Tab 6 - Financial Model'!$E$26)^'Tab 7 - Bylaw Continuity'!E$9),0) -> 0 | F15: =IF(AND($D15=F$9,$B15='Tab 6 - Financial Model'!$C15),('Tab 6 - Financial Model'!$D15*(1+'Tab 6 - Financial Model'!$E$26)^'Tab 7 - Bylaw Continuity'!F$9),0) -> 0 | G15: =IF(AND($D15=G$9,$B15='Tab 6 - Financial Model'!$C15),('Tab 6 - Financial Model'!$D15*(1+'Tab 6 - Financial Model'!$E$26)^'Tab 7 - Bylaw Continuity'!G$9),0) -> 0 | H15: =IF(AND($D15=H$9,$B15='Tab 6 - Financial Model'!$C15),('Tab 6 - Financial Model'!$D15*(1+'Tab 6 - Financial Model'!$E$26)^'Tab 7 - Bylaw Continuity'!H$9),0) -> 0 | I15: =IF(AND($D15=I$9,$B15='Tab 6 - Financial Model'!$C15),('Tab 6 - Financial Model'!$D15*(1+'Tab 6 - Financial Model'!$E$26)^'Tab 7 - Bylaw Continuity'!I$9),0) -> 0 | J15: =IF(AND($D15=J$9,$B15='Tab 6 - Financial Model'!$C15),('Tab 6 - Financial Model'!$D15*(1+'Tab 6 - Financial Model'!$E$26)^'Tab 7 - Bylaw Continuity'!J$9),0) -> 0 | K15: =IF(AND($D15=K$9,$B15='Tab 6 - Financial Model'!$C15),('Tab 6 - Financial Model'!$D15*(1+'Tab 6 - Financial Model'!$E$26)^'Tab 7 - Bylaw Continuity'!K$9),0) -> 0 | L15: =IF(AND($D15=L$9,$B15='Tab 6 - Financial Model'!$C15),('Tab 6 - Financial Model'!$D15*(1+'Tab 6 - Financial Model'!$E$26)^'Tab 7 - Bylaw Continuity'!L$9),0) -> 0 | ... AQ15: =IF(AND($D15=AQ$9,$B15='Tab 6 - Financial Model'!$C15),('Tab 6 - Financial Model'!$D15*(1+'Tab 6 - Financial Model'!$E$26)^'Tab 7 - Bylaw Continuity'!AQ$9),0) -> 0
B16: Expenditures from 2024 Bylaw | D16: =SUMIF('Tab 6 - Financial Model'!$C$15:$C$22,'Tab 7 - Bylaw Continuity'!B15,'Tab 6 - Financial Model'!$F$15:$F$22) -> 0.44 | E16: =E15*$D16 -> 0 | F16: =F15*$D16 -> 0 | G16: =G15*$D16 -> 0 | H16: =H15*$D16 -> 0 | I16: =I15*$D16 -> 0 | J16: =J15*$D16 -> 0 | K16: =K15*$D16 -> 0 | L16: =L15*$D16 -> 0 | ... AQ16: =AQ15*$D16 -> 0
B17: Remainder: needed from other sources | E17: =E15-E16 -> 0 | F17: =F15-F16 -> 0 | G17: =G15-G16 -> 0 | H17: =H15-H16 -> 0 | I17: =I15-I16 -> 0 | J17: =J15-J16 -> 0 | K17: =K15-K16 -> 0 | L17: =L15-L16 -> 0 | ... AQ17: =AQ15-AQ16 -> 0
A18: 2 | B18: ='Tab 6 - Financial Model'!C16 -> Library-2 | D18: =SUMIF('Tab 6 - Financial Model'!$C$15:$C$22,'Tab 7 - Bylaw Continuity'!B18,'Tab 6 - Financial Model'!$I$15:$I$22) -> 11 | E18: =IF(AND($D18=E$9,$B18='Tab 6 - Financial Model'!$C16),('Tab 6 - Financial Model'!$D16*(1+'Tab 6 - Financial Model'!$E$26)^'Tab 7 - Bylaw Continuity'!E$9),0) -> 0 | F18: =IF(AND($D18=F$9,$B18='Tab 6 - Financial Model'!$C16),('Tab 6 - Financial Model'!$D16*(1+'Tab 6 - Financial Model'!$E$26)^'Tab 7 - Bylaw Continuity'!F$9),0) -> 0 | G18: =IF(AND($D18=G$9,$B18='Tab 6 - Financial Model'!$C16),('Tab 6 - Financial Model'!$D16*(1+'Tab 6 - Financial Model'!$E$26)^'Tab 7 - Bylaw Continuity'!G$9),0) -> 0 | H18: =IF(AND($D18=H$9,$B18='Tab 6 - Financial Model'!$C16),('Tab 6 - Financial Model'!$D16*(1+'Tab 6 - Financial Model'!$E$26)^'Tab 7 - Bylaw Continuity'!H$9),0) -> 0 | I18: =IF(AND($D18=I$9,$B18='Tab 6 - Financial Model'!$C16),('Tab 6 - Financial Model'!$D16*(1+'Tab 6 - Financial Model'!$E$26)^'Tab 7 - Bylaw Continuity'!I$9),0) -> 0 | J18: =IF(AND($D18=J$9,$B18='Tab 6 - Financial Model'!$C16),('Tab 6 - Financial Model'!$D16*(1+'Tab 6 - Financial Model'!$E$26)^'Tab 7 - Bylaw Continuity'!J$9),0) -> 0 | K18: =IF(AND($D18=K$9,$B18='Tab 6 - Financial Model'!$C16),('Tab 6 - Financial Model'!$D16*(1+'Tab 6 - Financial Model'!$E$26)^'Tab 7 - Bylaw Continuity'!K$9),0) -> 0 | L18: =IF(AND($D18=L$9,$B18='Tab 6 - Financial Model'!$C16),('Tab 6 - Financial Model'!$D16*(1+'Tab 6 - Financial Model'!$E$26)^'Tab 7 - Bylaw Continuity'!L$9),0) -> 0 | ... AQ18: =IF(AND($D18=AQ$9,$B18='Tab 6 - Financial Model'!$C16),('Tab 6 - Financial Model'!$D16*(1+'Tab 6 - Financial Model'!$E$26)^'Tab 7 - Bylaw Continuity'!AQ$9),0) -> 0
B19: Expenditures from 2024 Bylaw | D19: =SUMIF('Tab 6 - Financial Model'!$C$15:$C$22,'Tab 7 - Bylaw Continuity'!B18,'Tab 6 - Financial Model'!$F$15:$F$22) -> 0.44 | E19: =E18*$D19 -> 0 | F19: =F18*$D19 -> 0 | G19: =G18*$D19 -> 0 | H19: =H18*$D19 -> 0 | I19: =I18*$D19 -> 0 | J19: =J18*$D19 -> 0 | K19: =K18*$D19 -> 0 | L19: =L18*$D19 -> 0 | ... AQ19: =AQ18*$D19 -> 0
B20: Remainder: needed from other sources | E20: =E18-E19 -> 0 | F20: =F18-F19 -> 0 | G20: =G18-G19 -> 0 | H20: =H18-H19 -> 0 | I20: =I18-I19 -> 0 | J20: =J18-J19 -> 0 | K20: =K18-K19 -> 0 | L20: =L18-L19 -> 0 | ... AQ20: =AQ18-AQ19 -> 0
A21: 3 | B21: ='Tab 6 - Financial Model'!C17 -> Library-3 | D21: =SUMIF('Tab 6 - Financial Model'!$C$15:$C$22,'Tab 7 - Bylaw Continuity'!B21,'Tab 6 - Financial Model'!$I$15:$I$22) -> 16 | E21: =IF(AND($D21=E$9,$B21='Tab 6 - Financial Model'!$C17),('Tab 6 - Financial Model'!$D17*(1+'Tab 6 - Financial Model'!$E$26)^'Tab 7 - Bylaw Continuity'!E$9),0) -> 0 | F21: =IF(AND($D21=F$9,$B21='Tab 6 - Financial Model'!$C17),('Tab 6 - Financial Model'!$D17*(1+'Tab 6 - Financial Model'!$E$26)^'Tab 7 - Bylaw Continuity'!F$9),0) -> 0 | G21: =IF(AND($D21=G$9,$B21='Tab 6 - Financial Model'!$C17),('Tab 6 - Financial Model'!$D17*(1+'Tab 6 - Financial Model'!$E$26)^'Tab 7 - Bylaw Continuity'!G$9),0) -> 0 | H21: =IF(AND($D21=H$9,$B21='Tab 6 - Financial Model'!$C17),('Tab 6 - Financial Model'!$D17*(1+'Tab 6 - Financial Model'!$E$26)^'Tab 7 - Bylaw Continuity'!H$9),0) -> 0 | I21: =IF(AND($D21=I$9,$B21='Tab 6 - Financial Model'!$C17),('Tab 6 - Financial Model'!$D17*(1+'Tab 6 - Financial Model'!$E$26)^'Tab 7 - Bylaw Continuity'!I$9),0) -> 0 | J21: =IF(AND($D21=J$9,$B21='Tab 6 - Financial Model'!$C17),('Tab 6 - Financial Model'!$D17*(1+'Tab 6 - Financial Model'!$E$26)^'Tab 7 - Bylaw Continuity'!J$9),0) -> 0 | K21: =IF(AND($D21=K$9,$B21='Tab 6 - Financial Model'!$C17),('Tab 6 - Financial Model'!$D17*(1+'Tab 6 - Financial Model'!$E$26)^'Tab 7 - Bylaw Continuity'!K$9),0) -> 0 | L21: =IF(AND($D21=L$9,$B21='Tab 6 - Financial Model'!$C17),('Tab 6 - Financial Model'!$D17*(1+'Tab 6 - Financial Model'!$E$26)^'Tab 7 - Bylaw Continuity'!L$9),0) -> 0 | ... AQ21: =IF(AND($D21=AQ$9,$B21='Tab 6 - Financial Model'!$C17),('Tab 6 - Financial Model'!$D17*(1+'Tab 6 - Financial Model'!$E$26)^'Tab 7 - Bylaw Continuity'!AQ$9),0) -> 0
B22: Expenditures from 2024 Bylaw | D22: =SUMIF('Tab 6 - Financial Model'!$C$15:$C$22,'Tab 7 - Bylaw Continuity'!B21,'Tab 6 - Financial Model'!$F$15:$F$22) -> 0.44 | E22: =E21*$D22 -> 0 | F22: =F21*$D22 -> 0 | G22: =G21*$D22 -> 0 | H22: =H21*$D22 -> 0 | I22: =I21*$D22 -> 0 | J22: =J21*$D22 -> 0 | K22: =K21*$D22 -> 0 | L22: =L21*$D22 -> 0 | ... AQ22: =AQ21*$D22 -> 0
B23: Remainder: needed from other sources | E23: =E21-E22 -> 0 | F23: =F21-F22 -> 0 | G23: =G21-G22 -> 0 | H23: =H21-H22 -> 0 | I23: =I21-I22 -> 0 | J23: =J21-J22 -> 0 | K23: =K21-K22 -> 0 | L23: =L21-L22 -> 0 | ... AQ23: =AQ21-AQ22 -> 0
A24: 4 | B24: ='Tab 6 - Financial Model'!C18 -> Library-4 | D24: =SUMIF('Tab 6 - Financial Model'!$C$15:$C$22,'Tab 7 - Bylaw Continuity'!B24,'Tab 6 - Financial Model'!$I$15:$I$22) -> 21 | E24: =IF(AND($D24=E$9,$B24='Tab 6 - Financial Model'!$C18),('Tab 6 - Financial Model'!$D18*(1+'Tab 6 - Financial Model'!$E$26)^'Tab 7 - Bylaw Continuity'!E$9),0) -> 0 | F24: =IF(AND($D24=F$9,$B24='Tab 6 - Financial Model'!$C18),('Tab 6 - Financial Model'!$D18*(1+'Tab 6 - Financial Model'!$E$26)^'Tab 7 - Bylaw Continuity'!F$9),0) -> 0 | G24: =IF(AND($D24=G$9,$B24='Tab 6 - Financial Model'!$C18),('Tab 6 - Financial Model'!$D18*(1+'Tab 6 - Financial Model'!$E$26)^'Tab 7 - Bylaw Continuity'!G$9),0) -> 0 | H24: =IF(AND($D24=H$9,$B24='Tab 6 - Financial Model'!$C18),('Tab 6 - Financial Model'!$D18*(1+'Tab 6 - Financial Model'!$E$26)^'Tab 7 - Bylaw Continuity'!H$9),0) -> 0 | I24: =IF(AND($D24=I$9,$B24='Tab 6 - Financial Model'!$C18),('Tab 6 - Financial Model'!$D18*(1+'Tab 6 - Financial Model'!$E$26)^'Tab 7 - Bylaw Continuity'!I$9),0) -> 0 | J24: =IF(AND($D24=J$9,$B24='Tab 6 - Financial Model'!$C18),('Tab 6 - Financial Model'!$D18*(1+'Tab 6 - Financial Model'!$E$26)^'Tab 7 - Bylaw Continuity'!J$9),0) -> 0 | K24: =IF(AND($D24=K$9,$B24='Tab 6 - Financial Model'!$C18),('Tab 6 - Financial Model'!$D18*(1+'Tab 6 - Financial Model'!$E$26)^'Tab 7 - Bylaw Continuity'!K$9),0) -> 0 | L24: =IF(AND($D24=L$9,$B24='Tab 6 - Financial Model'!$C18),('Tab 6 - Financial Model'!$D18*(1+'Tab 6 - Financial Model'!$E$26)^'Tab 7 - Bylaw Continuity'!L$9),0) -> 0 | ... AQ24: =IF(AND($D24=AQ$9,$B24='Tab 6 - Financial Model'!$C18),('Tab 6 - Financial Model'!$D18*(1+'Tab 6 - Financial Model'!$E$26)^'Tab 7 - Bylaw Continuity'!AQ$9),0) -> 0
B25: Expenditures from 2024 Bylaw | D25: =SUMIF('Tab 6 - Financial Model'!$C$15:$C$22,'Tab 7 - Bylaw Continuity'!B24,'Tab 6 - Financial Model'!$F$15:$F$22) -> 0.44 | E25: =E24*$D25 -> 0 | F25: =F24*$D25 -> 0 | G25: =G24*$D25 -> 0 | H25: =H24*$D25 -> 0 | I25: =I24*$D25 -> 0 | J25: =J24*$D25 -> 0 | K25: =K24*$D25 -> 0 | L25: =L24*$D25 -> 0 | ... AQ25: =AQ24*$D25 -> 0
B26: Remainder: needed from other sources | E26: =E24-E25 -> 0 | F26: =F24-F25 -> 0 | G26: =G24-G25 -> 0 | H26: =H24-H25 -> 0 | I26: =I24-I25 -> 0 | J26: =J24-J25 -> 0 | K26: =K24-K25 -> 0 | L26: =L24-L25 -> 0 | ... AQ26: =AQ24-AQ25 -> 0
A27: 5 | B27: ='Tab 6 - Financial Model'!C19 -> Library-5 | D27: =SUMIF('Tab 6 - Financial Model'!$C$15:$C$22,'Tab 7 - Bylaw Continuity'!B27,'Tab 6 - Financial Model'!$I$15:$I$22) -> 26 | E27: =IF(AND($D27=E$9,$B27='Tab 6 - Financial Model'!$C19),('Tab 6 - Financial Model'!$D19*(1+'Tab 6 - Financial Model'!$E$26)^'Tab 7 - Bylaw Continuity'!E$9),0) -> 0 | F27: =IF(AND($D27=F$9,$B27='Tab 6 - Financial Model'!$C19),('Tab 6 - Financial Model'!$D19*(1+'Tab 6 - Financial Model'!$E$26)^'Tab 7 - Bylaw Continuity'!F$9),0) -> 0 | G27: =IF(AND($D27=G$9,$B27='Tab 6 - Financial Model'!$C19),('Tab 6 - Financial Model'!$D19*(1+'Tab 6 - Financial Model'!$E$26)^'Tab 7 - Bylaw Continuity'!G$9),0) -> 0 | H27: =IF(AND($D27=H$9,$B27='Tab 6 - Financial Model'!$C19),('Tab 6 - Financial Model'!$D19*(1+'Tab 6 - Financial Model'!$E$26)^'Tab 7 - Bylaw Continuity'!H$9),0) -> 0 | I27: =IF(AND($D27=I$9,$B27='Tab 6 - Financial Model'!$C19),('Tab 6 - Financial Model'!$D19*(1+'Tab 6 - Financial Model'!$E$26)^'Tab 7 - Bylaw Continuity'!I$9),0) -> 0 | J27: =IF(AND($D27=J$9,$B27='Tab 6 - Financial Model'!$C19),('Tab 6 - Financial Model'!$D19*(1+'Tab 6 - Financial Model'!$E$26)^'Tab 7 - Bylaw Continuity'!J$9),0) -> 0 | K27: =IF(AND($D27=K$9,$B27='Tab 6 - Financial Model'!$C19),('Tab 6 - Financial Model'!$D19*(1+'Tab 6 - Financial Model'!$E$26)^'Tab 7 - Bylaw Continuity'!K$9),0) -> 0 | L27: =IF(AND($D27=L$9,$B27='Tab 6 - Financial Model'!$C19),('Tab 6 - Financial Model'!$D19*(1+'Tab 6 - Financial Model'!$E$26)^'Tab 7 - Bylaw Continuity'!L$9),0) -> 0 | ... AQ27: =IF(AND($D27=AQ$9,$B27='Tab 6 - Financial Model'!$C19),('Tab 6 - Financial Model'!$D19*(1+'Tab 6 - Financial Model'!$E$26)^'Tab 7 - Bylaw Continuity'!AQ$9),0) -> 0
B28: Expenditures from 2024 Bylaw | D28: =SUMIF('Tab 6 - Financial Model'!$C$15:$C$22,'Tab 7 - Bylaw Continuity'!B27,'Tab 6 - Financial Model'!$F$15:$F$22) -> 0.44 | E28: =E27*$D28 -> 0 | F28: =F27*$D28 -> 0 | G28: =G27*$D28 -> 0 | H28: =H27*$D28 -> 0 | I28: =I27*$D28 -> 0 | J28: =J27*$D28 -> 0 | K28: =K27*$D28 -> 0 | L28: =L27*$D28 -> 0 | ... AQ28: =AQ27*$D28 -> 0
B29: Remainder: needed from other sources | E29: =E27-E28 -> 0 | F29: =F27-F28 -> 0 | G29: =G27-G28 -> 0 | H29: =H27-H28 -> 0 | I29: =I27-I28 -> 0 | J29: =J27-J28 -> 0 | K29: =K27-K28 -> 0 | L29: =L27-L28 -> 0 | ... AQ29: =AQ27-AQ28 -> 0
A30: 6 | B30: ='Tab 6 - Financial Model'!C20 -> Library-6 | D30: =SUMIF('Tab 6 - Financial Model'!$C$15:$C$22,'Tab 7 - Bylaw Continuity'!B30,'Tab 6 - Financial Model'!$I$15:$I$22) -> 26 | E30: =IF(AND($D30=E$9,$B30='Tab 6 - Financial Model'!$C20),('Tab 6 - Financial Model'!$D20*(1+'Tab 6 - Financial Model'!$E$26)^'Tab 7 - Bylaw Continuity'!E$9),0) -> 0 | F30: =IF(AND($D30=F$9,$B30='Tab 6 - Financial Model'!$C20),('Tab 6 - Financial Model'!$D20*(1+'Tab 6 - Financial Model'!$E$26)^'Tab 7 - Bylaw Continuity'!F$9),0) -> 0 | G30: =IF(AND($D30=G$9,$B30='Tab 6 - Financial Model'!$C20),('Tab 6 - Financial Model'!$D20*(1+'Tab 6 - Financial Model'!$E$26)^'Tab 7 - Bylaw Continuity'!G$9),0) -> 0 | H30: =IF(AND($D30=H$9,$B30='Tab 6 - Financial Model'!$C20),('Tab 6 - Financial Model'!$D20*(1+'Tab 6 - Financial Model'!$E$26)^'Tab 7 - Bylaw Continuity'!H$9),0) -> 0 | I30: =IF(AND($D30=I$9,$B30='Tab 6 - Financial Model'!$C20),('Tab 6 - Financial Model'!$D20*(1+'Tab 6 - Financial Model'!$E$26)^'Tab 7 - Bylaw Continuity'!I$9),0) -> 0 | J30: =IF(AND($D30=J$9,$B30='Tab 6 - Financial Model'!$C20),('Tab 6 - Financial Model'!$D20*(1+'Tab 6 - Financial Model'!$E$26)^'Tab 7 - Bylaw Continuity'!J$9),0) -> 0 | K30: =IF(AND($D30=K$9,$B30='Tab 6 - Financial Model'!$C20),('Tab 6 - Financial Model'!$D20*(1+'Tab 6 - Financial Model'!$E$26)^'Tab 7 - Bylaw Continuity'!K$9),0) -> 0 | L30: =IF(AND($D30=L$9,$B30='Tab 6 - Financial Model'!$C20),('Tab 6 - Financial Model'!$D20*(1+'Tab 6 - Financial Model'!$E$26)^'Tab 7 - Bylaw Continuity'!L$9),0) -> 0 | ... AQ30: =IF(AND($D30=AQ$9,$B30='Tab 6 - Financial Model'!$C20),('Tab 6 - Financial Model'!$D20*(1+'Tab 6 - Financial Model'!$E$26)^'Tab 7 - Bylaw Continuity'!AQ$9),0) -> 0
B31: Expenditures from 2024 Bylaw | D31: =SUMIF('Tab 6 - Financial Model'!$C$15:$C$22,'Tab 7 - Bylaw Continuity'!B30,'Tab 6 - Financial Model'!$F$15:$F$22) -> 0.44 | E31: =E30*$D31 -> 0 | F31: =F30*$D31 -> 0 | G31: =G30*$D31 -> 0 | H31: =H30*$D31 -> 0 | I31: =I30*$D31 -> 0 | J31: =J30*$D31 -> 0 | K31: =K30*$D31 -> 0 | L31: =L30*$D31 -> 0 | ... AQ31: =AQ30*$D31 -> 0
B32: Remainder: needed from other sources | E32: =E30-E31 -> 0 | F32: =F30-F31 -> 0 | G32: =G30-G31 -> 0 | H32: =H30-H31 -> 0 | I32: =I30-I31 -> 0 | J32: =J30-J31 -> 0 | K32: =K30-K31 -> 0 | L32: =L30-L31 -> 0 | ... AQ32: =AQ30-AQ31 -> 0
A33: 7 | B33: ='Tab 6 - Financial Model'!C21 -> Library-7 | D33: =SUMIF('Tab 6 - Financial Model'!$C$15:$C$22,'Tab 7 - Bylaw Continuity'!B33,'Tab 6 - Financial Model'!$I$15:$I$22) -> 31 | E33: =IF(AND($D33=E$9,$B33='Tab 6 - Financial Model'!$C21),('Tab 6 - Financial Model'!$D21*(1+'Tab 6 - Financial Model'!$E$26)^'Tab 7 - Bylaw Continuity'!E$9),0) -> 0 | F33: =IF(AND($D33=F$9,$B33='Tab 6 - Financial Model'!$C21),('Tab 6 - Financial Model'!$D21*(1+'Tab 6 - Financial Model'!$E$26)^'Tab 7 - Bylaw Continuity'!F$9),0) -> 0 | G33: =IF(AND($D33=G$9,$B33='Tab 6 - Financial Model'!$C21),('Tab 6 - Financial Model'!$D21*(1+'Tab 6 - Financial Model'!$E$26)^'Tab 7 - Bylaw Continuity'!G$9),0) -> 0 | H33: =IF(AND($D33=H$9,$B33='Tab 6 - Financial Model'!$C21),('Tab 6 - Financial Model'!$D21*(1+'Tab 6 - Financial Model'!$E$26)^'Tab 7 - Bylaw Continuity'!H$9),0) -> 0 | I33: =IF(AND($D33=I$9,$B33='Tab 6 - Financial Model'!$C21),('Tab 6 - Financial Model'!$D21*(1+'Tab 6 - Financial Model'!$E$26)^'Tab 7 - Bylaw Continuity'!I$9),0) -> 0 | J33: =IF(AND($D33=J$9,$B33='Tab 6 - Financial Model'!$C21),('Tab 6 - Financial Model'!$D21*(1+'Tab 6 - Financial Model'!$E$26)^'Tab 7 - Bylaw Continuity'!J$9),0) -> 0 | K33: =IF(AND($D33=K$9,$B33='Tab 6 - Financial Model'!$C21),('Tab 6 - Financial Model'!$D21*(1+'Tab 6 - Financial Model'!$E$26)^'Tab 7 - Bylaw Continuity'!K$9),0) -> 0 | L33: =IF(AND($D33=L$9,$B33='Tab 6 - Financial Model'!$C21),('Tab 6 - Financial Model'!$D21*(1+'Tab 6 - Financial Model'!$E$26)^'Tab 7 - Bylaw Continuity'!L$9),0) -> 0 | ... AQ33: =IF(AND($D33=AQ$9,$B33='Tab 6 - Financial Model'!$C21),('Tab 6 - Financial Model'!$D21*(1+'Tab 6 - Financial Model'!$E$26)^'Tab 7 - Bylaw Continuity'!AQ$9),0) -> 0
B34: Expenditures from 2024 Bylaw | D34: =SUMIF('Tab 6 - Financial Model'!$C$15:$C$22,'Tab 7 - Bylaw Continuity'!B33,'Tab 6 - Financial Model'!$F$15:$F$22) -> 0.44 | E34: =E33*$D34 -> 0 | F34: =F33*$D34 -> 0 | G34: =G33*$D34 -> 0 | H34: =H33*$D34 -> 0 | I34: =I33*$D34 -> 0 | J34: =J33*$D34 -> 0 | K34: =K33*$D34 -> 0 | L34: =L33*$D34 -> 0 | ... AQ34: =AQ33*$D34 -> 0
B35: Remainder: needed from other sources | E35: =E33-E34 -> 0 | F35: =F33-F34 -> 0 | G35: =G33-G34 -> 0 | H35: =H33-H34 -> 0 | I35: =I33-I34 -> 0 | J35: =J33-J34 -> 0 | K35: =K33-K34 -> 0 | L35: =L33-L34 -> 0 | ... AQ35: =AQ33-AQ34 -> 0
A36: 8 | B36: ='Tab 6 - Financial Model'!C22 -> Library-8 | D36: =SUMIF('Tab 6 - Financial Model'!$C$15:$C$22,'Tab 7 - Bylaw Continuity'!B36,'Tab 6 - Financial Model'!$I$15:$I$22) -> 35 | E36: =IF(AND($D36=E$9,$B36='Tab 6 - Financial Model'!$C22),('Tab 6 - Financial Model'!$D22*(1+'Tab 6 - Financial Model'!$E$26)^'Tab 7 - Bylaw Continuity'!E$9),0) -> 0 | F36: =IF(AND($D36=F$9,$B36='Tab 6 - Financial Model'!$C22),('Tab 6 - Financial Model'!$D22*(1+'Tab 6 - Financial Model'!$E$26)^'Tab 7 - Bylaw Continuity'!F$9),0) -> 0 | G36: =IF(AND($D36=G$9,$B36='Tab 6 - Financial Model'!$C22),('Tab 6 - Financial Model'!$D22*(1+'Tab 6 - Financial Model'!$E$26)^'Tab 7 - Bylaw Continuity'!G$9),0) -> 0 | H36: =IF(AND($D36=H$9,$B36='Tab 6 - Financial Model'!$C22),('Tab 6 - Financial Model'!$D22*(1+'Tab 6 - Financial Model'!$E$26)^'Tab 7 - Bylaw Continuity'!H$9),0) -> 0 | I36: =IF(AND($D36=I$9,$B36='Tab 6 - Financial Model'!$C22),('Tab 6 - Financial Model'!$D22*(1+'Tab 6 - Financial Model'!$E$26)^'Tab 7 - Bylaw Continuity'!I$9),0) -> 0 | J36: =IF(AND($D36=J$9,$B36='Tab 6 - Financial Model'!$C22),('Tab 6 - Financial Model'!$D22*(1+'Tab 6 - Financial Model'!$E$26)^'Tab 7 - Bylaw Continuity'!J$9),0) -> 0 | K36: =IF(AND($D36=K$9,$B36='Tab 6 - Financial Model'!$C22),('Tab 6 - Financial Model'!$D22*(1+'Tab 6 - Financial Model'!$E$26)^'Tab 7 - Bylaw Continuity'!K$9),0) -> 0 | L36: =IF(AND($D36=L$9,$B36='Tab 6 - Financial Model'!$C22),('Tab 6 - Financial Model'!$D22*(1+'Tab 6 - Financial Model'!$E$26)^'Tab 7 - Bylaw Continuity'!L$9),0) -> 0 | ... AQ36: =IF(AND($D36=AQ$9,$B36='Tab 6 - Financial Model'!$C22),('Tab 6 - Financial Model'!$D22*(1+'Tab 6 - Financial Model'!$E$26)^'Tab 7 - Bylaw Continuity'!AQ$9),0) -> 50280935
B37: Expenditures from 2024 Bylaw | D37: =SUMIF('Tab 6 - Financial Model'!$C$15:$C$22,'Tab 7 - Bylaw Continuity'!B36,'Tab 6 - Financial Model'!$F$15:$F$22) -> 0.44 | E37: =E36*$D37 -> 0 | F37: =F36*$D37 -> 0 | G37: =G36*$D37 -> 0 | H37: =H36*$D37 -> 0 | I37: =I36*$D37 -> 0 | J37: =J36*$D37 -> 0 | K37: =K36*$D37 -> 0 | L37: =L36*$D37 -> 0 | ... AQ37: =AQ36*$D37 -> 22123611
B38: Remainder: needed from other sources | E38: =E36-E37 -> 0 | F38: =F36-F37 -> 0 | G38: =G36-G37 -> 0 | H38: =H36-H37 -> 0 | I38: =I36-I37 -> 0 | J38: =J36-J37 -> 0 | K38: =K36-K37 -> 0 | L38: =L36-L37 -> 0 | ... AQ38: =AQ36-AQ37 -> 28157324
B48: TOTAL:
B49: Expenditures from 2024 Bylaw | E49: =E16+E19+E22+E25+E28+E31+E34+E37 -> 0 | F49: =F16+F19+F22+F25+F28+F31+F34+F37 -> 0 | G49: =G16+G19+G22+G25+G28+G31+G34+G37 -> 0 | H49: =H16+H19+H22+H25+H28+H31+H34+H37 -> 0 | I49: =I16+I19+I22+I25+I28+I31+I34+I37 -> 0 | J49: =J16+J19+J22+J25+J28+J31+J34+J37 -> 0 | K49: =K16+K19+K22+K25+K28+K31+K34+K37 -> 0 | L49: =L16+L19+L22+L25+L28+L31+L34+L37 -> 0 | ... AQ49: =AQ16+AQ19+AQ22+AQ25+AQ28+AQ31+AQ34+AQ37 -> 22123611
B50: Remainder: needed from other sources | E50: =E17+E20+E23+E26+E29+E32+E35+E38 -> 0 | F50: =F17+F20+F23+F26+F29+F32+F35+F38 -> 0 | G50: =G17+G20+G23+G26+G29+G32+G35+G38 -> 0 | H50: =H17+H20+H23+H26+H29+H32+H35+H38 -> 0 | I50: =I17+I20+I23+I26+I29+I32+I35+I38 -> 0 | J50: =J17+J20+J23+J26+J29+J32+J35+J38 -> 0 | K50: =K17+K20+K23+K26+K29+K32+K35+K38 -> 0 | L50: =L17+L20+L23+L26+L29+L32+L35+L38 -> 0 | ... AQ50: =AQ17+AQ20+AQ23+AQ26+AQ29+AQ32+AQ35+AQ38 -> 28157324
B51: Expenditures from 2M2016 Bylaw Balance | E51: =IF(E61=0,0,IF(D72>E50,E50,D72)) -> 0 | F51: =IF(F61=0,0,IF(E72>F50,F50,E72)) -> 0 | G51: =IF(G61=0,0,IF(F72>G50,G50,F72)) -> 0 | H51: =IF(H61=0,0,IF(G72>H50,H50,G72)) -> 0 | I51: =IF(I61=0,0,IF(H72>I50,I50,H72)) -> 0 | J51: =IF(J61=0,0,IF(I72>J50,J50,I72)) -> 0 | K51: =IF(K61=0,0,IF(J72>K50,K50,J72)) -> 0 | L51: =IF(L61=0,0,IF(K72>L50,L50,K72)) -> 0 | ... R51: =IF(R61=0,0,IF(Q72>R50,R50,Q72)) -> 0 | S51: =IF(S61=0,0,IF(R72>S50,S50,R72+S69)) -> 2794159.4 | T51: =IF(T61=0,0,IF(S72>T50,T50,S72)) -> 0 | U51: =IF(U61=0,0,IF(T72>U50,U50,T72)) -> 0 | V51: =IF(V61=0,0,IF(U72>V50,V50,U72)) -> 0 | W51: =IF(W61=0,0,IF(V72>W50,W50,V72)) -> 0 | X51: =IF(X61=0,0,IF(W72>X50,X50,W72)) -> 0 | Y51: =IF(Y61=0,0,IF(X72>Y50,Y50,X72)) -> 0 | Z51: =IF(Z61=0,0,IF(Y72>Z50,Z50,Y72)) -> 0 | AA51: =IF(AA61=0,0,IF(Z72>AA50,AA50,Z72)) -> 0 | ... AQ51: =IF(AQ61=0,0,IF(AP72>AQ50,AQ50,AP72)) -> 0
B52: Expenditures from Non-OSL City Funding Sources | E52: =(E49+E50)-E49-E51 -> 0 | F52: =(F49+F50)-F49-F51 -> 0 | G52: =(G49+G50)-G49-G51 -> 0 | H52: =(H49+H50)-H49-H51 -> 0 | I52: =(I49+I50)-I49-I51 -> 0 | J52: =(J49+J50)-J49-J51 -> 0 | K52: =(K49+K50)-K49-K51 -> 0 | L52: =(L49+L50)-L49-L51 -> 0 | ... AQ52: =(AQ49+AQ50)-AQ49-AQ51 -> 28157324
A54: Land absorption (hectares) and DA contributions ($)
A55: Land absorption forecast and developer contributions under each bylaw. The contribution values feed into the payment schedule below. | D55: Land Absorption (ha) | E55: 262 | F55: 367 | G55: 506 | H55: ='Tab 6 - Financial Model'!L30 -> 290 | I55: ='Tab 6 - Financial Model'!M30 -> 309 | J55: ='Tab 6 - Financial Model'!N30 -> 327 | K55: ='Tab 6 - Financial Model'!O30 -> 321 | L55: ='Tab 6 - Financial Model'!P30 -> 321 | M55: ='Tab 6 - Financial Model'!Q30 -> 318.4809 | N55: ='Tab 6 - Financial Model'!R30 -> 315.9618 | O55: ='Tab 6 - Financial Model'!S30 -> 313.44269 | ... AQ55: ='Tab 6 - Financial Model'!AU30 -> 0
D56: Levy Rates under the 2016 bylaw | E56: 6092 | F56: 6129 | G56: 6766.416 | H56: 6831
...

Sheet Tab 8 - Population Forecast
A1: Library - Benefit Share Details
A3: TZ1919 | B3: Location | C3: Levied land (ha) | D3: Unlevied land (ha) | E3: Total land (ha) | F3: Benefit share (levied land) | G3: Benefit share (unlevied land) | H3: Total share | I3: Total population | J3: Plan type | K3: Levied | L3: Unlevied | O3: Row Labels | P3: Sum of levied | Q3: Sum of unlevied
A4: 501 | B4: Outside_levy_boundary | C4: 57.063601 | D4: 0.00045788297 | E4: 57.064059 | F4: 0.99999198 | G4: 8.0240168e-06 | H4: 1 | I4: =VLOOKUP($A4,[1]allTZs!$B$1:$Y$1402,17,FALSE) -> 2577.8125 | J4: =VLOOKUP($A4,[1]allTZs!$B$1:$Y$1402,23,FALSE) -> Buildout | K4: =$I4*F4 -> 2577.7918 | L4: =$I4*G4 -> 0.020684411 | O4: Area Structure Plan | P4: 448287.91 | Q4: 416991.44
A5: 502 | B5: Outside_levy_boundary | C5: 46.063401 | D5: 0 | E5: 46.063401 | F5: 1 | G5: 0 | H5: 1 | I5: =VLOOKUP($A5,[1]allTZs!$B$1:$Y$1402,17,FALSE) -> 2188.8626 | J5: =VLOOKUP($A5,[1]allTZs!$B$1:$Y$1402,23,FALSE) -> Buildout | K5: =$I5*F5 -> 2188.8626 | L5: =$I5*G5 -> 0 | O5: Buildout | P5: 37643.397 | Q5: 17.976384
A6: 503 | B6: Outside_levy_boundary | C6: 26.249628 | D6: 0 | E6: 26.249628 | F6: 1 | G6: 0 | H6: 1 | I6: =VLOOKUP($A6,[1]allTZs!$B$1:$Y$1402,17,FALSE) -> 799.17687 | J6: =VLOOKUP($A6,[1]allTZs!$B$1:$Y$1402,23,FALSE) -> Buildout | K6: =$I6*F6 -> 799.17687 | L6: =$I6*G6 -> 0 | O6: Community Plan | P6: 43894.606 | Q6: 0.099560904
A7: 504 | B7: Outside_levy_boundary | C7: 63.281118 | D7: 0 | E7: 63.281118 | F7: 1 | G7: 0 | H7: 1 | I7: =VLOOKUP($A7,[1]allTZs!$B$1:$Y$1402,17,FALSE) -> 2690.096 | J7: =VLOOKUP($A7,[1]allTZs!$B$1:$Y$1402,23,FALSE) -> Buildout | K7: =$I7*F7 -> 2690.096 | L7: =$I7*G7 -> 0 | O7: Unplanned | P7: 601.55757 | Q7: 271005.67
A8: 505 | B8: Outside_levy_boundary | C8: 13.288855 | D8: 0 | E8: 13.288855 | F8: 1 | G8: 0 | H8: 1 | I8: =VLOOKUP($A8,[1]allTZs!$B$1:$Y$1402,17,FALSE) -> 294.71664 | J8: =VLOOKUP($A8,[1]allTZs!$B$1:$Y$1402,23,FALSE) -> Buildout | K8: =$I8*F8 -> 294.71664 | L8: =$I8*G8 -> 0 | O8: Grand Total | P8: 530427.47 | Q8: 688015.19
A9: 506 | B9: Outside_levy_boundary | C9: 38.278899 | D9: 0 | E9: 38.278899 | F9: 1 | G9: 0 | H9: 1 | I9: =VLOOKUP($A9,[1]allTZs!$B$1:$Y$1402,17,FALSE) -> 1469.2808 | J9: =VLOOKUP($A9,[1]allTZs!$B$1:$Y$1402,23,FALSE) -> Buildout | K9: =$I9*F9 -> 1469.2808 | L9: =$I9*G9 -> 0
A10: 507 | B10: Outside_levy_boundary | C10: 69.92959 | D10: 0 | E10: 69.92959 | F10: 1 | G10: 0 | H10: 1 | I10: =VLOOKUP($A10,[1]allTZs!$B$1:$Y$1402,17,FALSE) -> 2106.0408 | J10: =VLOOKUP($A10,[1]allTZs!$B$1:$Y$1402,23,FALSE) -> Buildout | K10: =$I10*F10 -> 2106.0408 | L10: =$I10*G10 -> 0 | O10: Greenfield ASP forecast population
A11: 508 | B11: Outside_levy_boundary | C11: 24.939952 | D11: 0 | E11: 24.939952 | F11: 1 | G11: 0 | H11: 1 | I11: =VLOOKUP($A11,[1]allTZs!$B$1:$Y$1402,17,FALSE) -> 1004.618 | J11: =VLOOKUP($A11,[1]allTZs!$B$1:$Y$1402,23,FALSE) -> Buildout | K11: =$I11*F11 -> 1004.618 | L11: =$I11*G11 -> 0 | O11: Planned (levied) | P11: =P4+P5+P6+Q5 -> 529843.89
A12: 509 | B12: Outside_levy_boundary | C12: 39.900709 | D12: 0 | E12: 39.900709 | F12: 1 | G12: 0 | H12: 1 | I12: =VLOOKUP($A12,[1]allTZs!$B$1:$Y$1402,17,FALSE) -> 1334.8297 | J12: =VLOOKUP($A12,[1]allTZs!$B$1:$Y$1402,23,FALSE) -> Buildout | K12: =$I12*F12 -> 1334.8297 | L12: =$I12*G12 -> 0 | O12: Planned (unlevied) | P12: =Q4 -> 416991.44
A13: 512 | B13: Outside_levy_boundary | C13: 31.377039 | D13: 0 | E13: 31.377039 | F13: 1 | G13: 0 | H13: 1 | I13: =VLOOKUP($A13,[1]allTZs!$B$1:$Y$1402,17,FALSE) -> 1338.468 | J13: =VLOOKUP($A13,[1]allTZs!$B$1:$Y$1402,23,FALSE) -> Buildout | K13: =$I13*F13 -> 1338.468 | L13: =$I13*G13 -> 0 | O13: Total Planned (levied + unlevied) | P13: =P11+P12 -> 946835.33
A14: 513 | B14: Outside_levy_boundary | C14: 41.367644 | D14: 0 | E14: 41.367644 | F14: 1 | G14: 0 | H14: 1 | I14: =VLOOKUP($A14,[1]allTZs!$B$1:$Y$1402,17,FALSE) -> 1657.5122 | J14: =VLOOKUP($A14,[1]allTZs!$B$1:$Y$1402,23,FALSE) -> Buildout | K14: =$I14*F14 -> 1657.5122 | L14: =$I14*G14 -> 0 | O14: Unplanned | P14: =P7+Q7 -> 271607.23
A15: 514 | B15: Outside_levy_boundary | C15: 98.308362 | D15: 0 | E15: 98.308362 | F15: 1 | G15: 0 | H15: 1 | I15: =VLOOKUP($A15,[1]allTZs!$B$1:$Y$1402,17,FALSE) -> 3717.3019 | J15: =VLOOKUP($A15,[1]allTZs!$B$1:$Y$1402,23,FALSE) -> Buildout | K15: =$I15*F15 -> 3717.3019 | L15: =$I15*G15 -> 0
A16: 515 | B16: Outside_levy_boundary | C16: 24.389567 | D16: 0 | E16: 24.389567 | F16: 1 | G16: 0 | H16: 1 | I16: =VLOOKUP($A16,[1]allTZs!$B$1:$Y$1402,17,FALSE) -> 0 | J16: =VLOOKUP($A16,[1]allTZs!$B$1:$Y$1402,23,FALSE) -> Buildout | K16: =$I16*F16 -> 0 | L16: =$I16*G16 -> 0
A17: 516 | B17: Outside_levy_boundary | C17: 63.539493 | D17: 0 | E17: 63.539493 | F17: 1 | G17: 0 | H17: 1 | I17: =VLOOKUP($A17,[1]allTZs!$B$1:$Y$1402,17,FALSE) -> 2281.3649 | J17: =VLOOKUP($A17,[1]allTZs!$B$1:$Y$1402,23,FALSE) -> Buildout | K17: =$I17*F17 -> 2281.3649 | L17: =$I17*G17 -> 0
A18: 517 | B18: Outside_levy_boundary | C18: 64.591205 | D18: 0 | E18: 64.591205 | F18: 1 | G18: 0 | H18: 1 | I18: =VLOOKUP($A18,[1]allTZs!$B$1:$Y$1402,17,FALSE) -> 3152.6076 | J18: =VLOOKUP($A18,[1]allTZs!$B$1:$Y$1402,23,FALSE) -> Buildout | K18: =$I18*F18 -> 3152.6076 | L18: =$I18*G18 -> 0
A19: 518 | B19: Outside_levy_boundary | C19: 14.996589 | D19: 0 | E19: 14.996589 | F19: 1 | G19: 0 | H19: 1 | I19: =VLOOKUP($A19,[1]allTZs!$B$1:$Y$1402,17,FALSE) -> 0 | J19: =VLOOKUP($A19,[1]allTZs!$B$1:$Y$1402,23,FALSE) -> Buildout | K19: =$I19*F19 -> 0 | L19: =$I19*G19 -> 0
A20: 559 | B20: Outside_levy_boundary | C20: 20.798223 | D20: 0 | E20: 20.798223 | F20: 1 | G20: 0 | H20: 1 | I20: =VLOOKUP($A20,[1]allTZs!$B$1:$Y$1402,17,FALSE) -> 954.06445 | J20: =VLOOKUP($A20,[1]allTZs!$B$1:$Y$1402,23,FALSE) -> Buildout | K20: =$I20*F20 -> 954.06445 | L20: =$I20*G20 -> 0
A21: 560 | B21: Outside_levy_boundary | C21: 7.1610392 | D21: 0 | E21: 7.1610392 | F21: 1 | G21: 0 | H21: 1 | I21: =VLOOKUP($A21,[1]allTZs!$B$1:$Y$1402,17,FALSE) -> 235.86967 | J21: =VLOOKUP($A21,[1]allTZs!$B$1:$Y$1402,23,FALSE) -> Buildout | K21: =$I21*F21 -> 235.86967 | L21: =$I21*G21 -> 0
A22: 561 | B22: Outside_levy_boundary | C22: 29.431048 | D22: 0 | E22: 29.431048 | F22: 1 | G22: 0 | H22: 1 | I22: =VLOOKUP($A22,[1]allTZs!$B$1:$Y$1402,17,FALSE) -> 1196.0763 | J22: =VLOOKUP($A22,[1]allTZs!$B$1:$Y$1402,23,FALSE) -> Buildout | K22: =$I22*F22 -> 1196.0763 | L22: =$I22*G22 -> 0
A23: 562 | B23: Outside_levy_boundary | C23: 19.579814 | D23: 0 | E23: 19.579814 | F23: 1 | G23: 0 | H23: 1 | I23: =VLOOKUP($A23,[1]allTZs!$B$1:$Y$1402,17,FALSE) -> 836.82316 | J23: =VLOOKUP($A23,[1]allTZs!$B$1:$Y$1402,23,FALSE) -> Buildout | K23: =$I23*F23 -> 836.82316 | L23: =$I23*G23 -> 0
A24: 601 | B24: Outside_levy_boundary | C24: 75.623757 | D24: 0.043941114 | E24: 75.667698 | F24: 0.99941929 | G24: 0.00058071165 | H24: 1 | I24: =VLOOKUP($A24,[1]allTZs!$B$1:$Y$1402,17,FALSE) -> 2648.628 | J24: =VLOOKUP($A24,[1]allTZs!$B$1:$Y$1402,23,FALSE) -> Area Structure Plan | K24: =$I24*F24 -> 2647.0899 | L24: =$I24*G24 -> 1.5380891
A25: 612 | B25: Outside_levy_boundary | C25: 0 | D25: 66.494144 | E25: 66.494144 | F25: 0 | G25: 1 | H25: 1 | I25: =VLOOKUP($A25,[1]allTZs!$B$1:$Y$1402,17,FALSE) -> 3748.28 | J25: =VLOOKUP($A25,[1]allTZs!$B$1:$Y$1402,23,FALSE) -> Area Structure Plan | K25: =$I25*F25 -> 0 | L25: =$I25*G25 -> 3748.28
A26: 613 | B26: Outside_levy_boundary | C26: 104.61017 | D26: 0 | E26: 104.61017 | F26: 1 | G26: 0 | H26: 1 | I26: =VLOOKUP($A26,[1]allTZs!$B$1:$Y$1402,17,FALSE) -> 4075.2802 | J26: =VLOOKUP($A26,[1]allTZs!$B$1:$Y$1402,23,FALSE) -> Area Structure Plan | K26: =$I26*F26 -> 4075.2802 | L26: =$I26*G26 -> 0
... A217: 1656 | B217: Outside_levy_boundary | C217: 0 | D217: 0 | E217: 0 | F217: 0 | G217: 0 | H217: 0 | I217: =VLOOKUP($A217,[1]allTZs!$B$1:$Y$1402,17,FALSE) -> 0 | J217: =VLOOKUP($A217,[1]allTZs!$B$1:$Y$1402,23,FALSE) -> Buildout | K217: =$I217*F217 -> 0 | L217: =$I217*G217 -> 0
A218: 1657 | B218: Outside_levy_boundary | C218: 2.7888245 | D218: 195.57687 | E218: 198.3657 | F218: 0.014059006 | G218: 0.98594099 | H218: 1 | I218: =12876.9798258/2 -> 6438.4899 | J218: Area Structure Plan | K218: =$I218*F218 -> 90.518769 | L218: =$I218*G218 -> 6347.9711
A219: 1658 | B219: Outside_levy_boundary | C219: 0 | D219: 122.64282 | E219: 122.64282 | F219: 0 | G219: 1 | H219: 1 | I219: =9756.51250599999*0.5 -> 4878.2563 | J219: =VLOOKUP($A219,[1]allTZs!$B$1:$Y$1402,23,FALSE) -> Area Structure Plan | K219: =$I219*F219 -> 0 | L219: =$I219*G219 -> 4878.2563
