Workbook

Sheet Read me
A1: HOW TO USE THIS DOCUMENT
A2: Welcome to the model used to determine the Fire levy rate for the 2024 Off-site Levies Bylaw. Note: This model is in DRAFT form for discussion purposes, using the latest information and assumptions available.
A4: Fire Levy Tabs 1 - 7
A5: Tab Number | B5: Title | C5: Description
A6: Tab 1 | B6: Steps and Assumptions | C6: This tab entails the assumptions and steps to create the financial model. It also provides some details to clarify questions around the assumptions.
A7: Tab 2 | B7: Rate Summary | C7: This tab provides a high level summary of the steps that are taken to determine Fire Levy Rate calculation, and provides a look at the proposed levy rate.
A8: Tab 3 | B8: Unlevied Land | C8: This tab describes the remaining unlevied land that is included in the model.
A9: Tab 4 | B9: Infrastructure | C9: This tab provides details on Fire projects that need to be built over the model period to support the growth of communities
A10: Tab 5 | B10: Benefit Allocation | C10: This tab provides the benefit rate calculation that considers the land that will benefit from infrastructure and then ties back to the future residents/jobs in that land.
A11: Tab 6 | B11: Financial Model | C11: This tab provides the detailed forecast data used to calculated benefit.
A12: Tab 7 | B12: Bylaw Continuity | C12: This sheet shows the continuity of expenditures, developer contributions, investment income, and fund balances for both the 2016 and 2024 Off-site Levies bylaws.

Sheet Tab 1 - Steps and Assumptions
A1: Fire - Steps and Assumptions
A2: Summary | B2: Frequently Asked Questions
A3: The City will use this financial model to calculate Fire off-site levy rate per hectare that incorporates investment income, capital cost escalations, and the timing of expenditures and developer contributions through the model period. The levy rate calculated ensures that the off-site levy balance at the end of the model period is zero, i.e. revenues have matched expenditures. It also incorporates, if necessary, any interest costs incurred from the use of alternative funding sources required to deliver infrastructure in a timely manner.
A6: Assumptions
A7: Escalation Rate | B7: The escalation factor of 3.58% is a 5-year smoothed average, determined using Non-Residential Building Construction Price Index (CPI) for Calgary.
A8: Discount Rate | B8: The discount rate of 4.29% is based on the asset mix of investments held in The City's capital deposits, and the Long term Capital Market assumptions that The City uses in projecting returns from investment portfolios.
A9: Gross Developable Land | B9: Gross developable lands are calculated starting with the gross land area and deducting non-developable lands.
A10: Unlevied Land | B10: Unlevied land includes all gross developable lands outside the off-site levy Established Area boundary that do not have executed development agreements, as of the end of 2023.
A11: Land Absorption | B11: • All remaining unlevied hectares will sign development agreements within the forecast period (ending 2055). • The land absorption from 2023 to 2027 is based on the fall 2022 forecast by Corporate Economics. • Remaining unlevied hectares in current and future Area Structure Plans are assumed to follow a decreasing trend over the forecast period, on the expectation of higher densities supporting the same number of people.
A12: Benefit Allocation | B12: Benefit calculation considers the land that will benefit from future infrastructure and relates to the forecast residents and jobs in that land.
A13: Payment schedule | B13: This financial model incorporates the current levy payment schedule, where 100% of Fire levies are paid in year 3 after the development agreement is signed.
A14: Investment income on future value of cash flows | B14: Investment income is earned on the off-site levy beginning account balance, plus collections and minus spending through the year. Investment income on collections and spending is multiplied by a cashflow timing factor of 0.5 to reflect the fact that the timing of collection and spending varies throughout the year. If the balance of the off-site levy goes negative then interest is charged on the balance of the shortfall.
A15: Expenditures | B15: Expenditures include all currently planned infrastructure for the next 32 years. This list may change as better information becomes available.

Sheet Tab 2 - Rate Summary
A1: Fire - Rate Summary
A2: Proposed 2024 Levy Rate | F2: Figure 1. Off-site Levy rate calculation
B3: The levy rate calculation is being adjusted from the simple formula of Costs x Benefit / Land to the model described in Figure 1 to the right, and in the text below. This financial model uses the following inputs: • Total unlevied land, and annual land absorption. • The off-site levy payment schedule. • Total capital costs of new infrastructure being levied for, with the benefit allocations to determine total unlevied costs. • Annual expenditures. • An escalation factor to calculate the future value of project costs. • A discount factor to calculate the discounted value of project costs, future revenue from developer contributions, and annual investment income or interest expense. The levy rate is then calculated using Excel's Goal Seek function to find the levy rate that balances all expenditures and revenues over the course of the model to result in an off-site levy balance of $0.
B24: Step 1 | C24: Step 2 | D24: Step 3 | E24: Step 4 | F24: Step 5 | G24: Step 6 | H24: Step 7 | I24: Step 8
B25: Total capital costs | C25: Unlevied capital cost | D25: Future value | E25: Discounted value | F25: Unlevied land absorption | G25: Developer contributions | H25: Investment income | I25: Levy rate
B26: Identify the total capital costs for projects that benefit unlevied lands. Details can be found in Tab 4. | C26: Unlevied capital cost: • Apply benefit rates to the capital costs of each project to determine the developer share of costs. | D26: Calculate the future value of capital costs over the model period. Details for this step can be found in Tab 6. | E26: Calculate the discounted value of the capital costs over the model period. Details for this step can be found in Tab 6. | F26: Details on unlevied lands can be found in Tab 3. Remaining unlevied lands are assumed to be fully absorbed within the model period, in the slowly decreasing trend shown on Tab 6. | G26: The levy rate is multiplied by the hectares that are forecast to sign development agreements each year to calculate the yearly contributions from the developers. | H26: The annual investment income is calculated by multiplying the balance of spending and contributions each year by the investment rate of return. | I26: Use Excel's Goal Seek function to calculate the Transportation off-site levy rate which ensures that developer contributions plus investment income are equal to the future value of capital cost/cash outflows by end of the model period.
B27: A | C27: B | D27: C | E27: D | F27: E | G27: F | H27: G | I27: H
B28: =SUM('Tab 4 - Infrastructure'!D12:D19) -> 160250000 | C28: =SUM('Tab 6 - Financial Model'!G14:G21) -> 147502500 | D28: ='Tab 6 - Financial Model'!I25 -> 2.814333e+08 | E28: ='Tab 6 - Financial Model'!I26 -> 1.3103306e+08 | F28: ='Tab 6 - Financial Model'!E33 -> 9069 | G28: ='Tab 6 - Financial Model'!I34 -> 3.0666475e+08 | H28: ='Tab 6 - Financial Model'!I40 -> -25231449 | I28: ='Tab 6 - Financial Model'!C3 -> 17091.51
B29: Dollars | C29: Dollars | D29: Dollars | E29: Dollars | F29: Hectares | G29: Dollars | H29: Dollars | I29: Dollars

Sheet No pymt delay model
A3: Escalation Rate | B3: 0.0353
A4: Discount | B4: 0.0429
B6: Current Cost | C6: Benefit % | D6: Leviable cost | E6: Year Projected project built | H6: 1 | I6: 2 | J6: 3 | K6: 4 | L6: 5 | M6: 6 | N6: 7 | O6: 8 | P6: 9 | Q6: 10 | R6: 11 | S6: 12 | T6: 13 | U6: 14 | V6: 15 | W6: 16 | X6: 17 | Y6: 18 | Z6: 19 | AA6: 20 | AB6: 21 | AC6: 22 | AD6: 23 | AE6: 24 | AF6: 25 | AG6: 26 | AH6: 27 | AI6: 28 | AJ6: 29 | AK6: 30 | AL6: 31 | AM6: 32 | AN6: 33
H7: 2023 | I7: 2024 | J7: 2025 | K7: 2026 | L7: 2027 | M7: 2028 | N7: 2029 | O7: 2030 | P7: 2031 | Q7: 2032 | R7: 2033 | S7: 2034 | T7: 2035 | U7: 2036 | V7: 2037 | W7: 2038 | X7: 2039 | Y7: 2040 | Z7: 2041 | AA7: 2042 | AB7: 2043 | AC7: 2044 | AD7: 2045 | AE7: 2046 | AF7: 2047 | AG7: 2048 | AH7: 2049 | AI7: 2050 | AJ7: 2051 | AK7: 2052 | AL7: 2053 | AM7: 2054 | AN7: 2055
A8: Belmont Fire Station | B8: 18000000 | C8: 0.78804997 | D8: =B8*C8 -> 14184900 | E8: 4 | H8: =IF($E8=H$6,$D8,0)*(1+$B$3)^H$6 -> 0 | I8: =IF($E8=I$6,$D8,0)*(1+$B$3)^I$6 -> 0 | J8: =IF($E8=J$6,$D8,0)*(1+$B$3)^J$6 -> 0 | K8: =IF($E8=K$6,$D8,0)*(1+$B$3)^K$6 -> 16296379 | L8: =IF($E8=L$6,$D8,0)*(1+$B$3)^L$6 -> 0 | M8: =IF($E8=M$6,$D8,0)*(1+$B$3)^M$6 -> 0 | N8: =IF($E8=N$6,$D8,0)*(1+$B$3)^N$6 -> 0 | O8: =IF($E8=O$6,$D8,0)*(1+$B$3)^O$6 -> 0 | ... AN8: =IF($E8=AN$6,$D8,0)*(1+$B$3)^AN$6 -> 0
A9: Livingstone Fire station | B9: 18000000 | C9: 0.75614011 | D9: =B9*C9 -> 13610522 | E9: 5 | H9: =IF($E9=H$6,$D9,0)*(1+$B$3)^H$6 -> 0 | I9: =IF($E9=I$6,$D9,0)*(1+$B$3)^I$6 -> 0 | J9: =IF($E9=J$6,$D9,0)*(1+$B$3)^J$6 -> 0 | K9: =IF($E9=K$6,$D9,0)*(1+$B$3)^K$6 -> 0 | L9: =IF($E9=L$6,$D9,0)*(1+$B$3)^L$6 -> 16188472 | M9: =IF($E9=M$6,$D9,0)*(1+$B$3)^M$6 -> 0 | N9: =IF($E9=N$6,$D9,0)*(1+$B$3)^N$6 -> 0 | O9: =IF($E9=O$6,$D9,0)*(1+$B$3)^O$6 -> 0 | ... AN9: =IF($E9=AN$6,$D9,0)*(1+$B$3)^AN$6 -> 0
A10: Belvedere Fire Station | B10: 18000000 | C10: 0.96178907 | D10: =B10*C10 -> 17312203 | E10: 6 | H10: =IF($E10=H$6,$D10,0)*(1+$B$3)^H$6 -> 0 | I10: =IF($E10=I$6,$D10,0)*(1+$B$3)^I$6 -> 0 | J10: =IF($E10=J$6,$D10,0)*(1+$B$3)^J$6 -> 0 | K10: =IF($E10=K$6,$D10,0)*(1+$B$3)^K$6 -> 0 | L10: =IF($E10=L$6,$D10,0)*(1+$B$3)^L$6 -> 0 | M10: =IF($E10=M$6,$D10,0)*(1+$B$3)^M$6 -> 21318156 | N10: =IF($E10=N$6,$D10,0)*(1+$B$3)^N$6 -> 0 | O10: =IF($E10=O$6,$D10,0)*(1+$B$3)^O$6 -> 0 | ... AN10: =IF($E10=AN$6,$D10,0)*(1+$B$3)^AN$6 -> 0
A11: Glacier Ridge Fire station | B11: 18000000 | C11: 0.98009182 | D11: =B11*C11 -> 17641653 | E11: 10 | H11: =IF($E11=H$6,$D11,0)*(1+$B$3)^H$6 -> 0 | I11: =IF($E11=I$6,$D11,0)*(1+$B$3)^I$6 -> 0 | J11: =IF($E11=J$6,$D11,0)*(1+$B$3)^J$6 -> 0 | K11: =IF($E11=K$6,$D11,0)*(1+$B$3)^K$6 -> 0 | L11: =IF($E11=L$6,$D11,0)*(1+$B$3)^L$6 -> 0 | M11: =IF($E11=M$6,$D11,0)*(1+$B$3)^M$6 -> 0 | N11: =IF($E11=N$6,$D11,0)*(1+$B$3)^N$6 -> 0 | O11: =IF($E11=O$6,$D11,0)*(1+$B$3)^O$6 -> 0 | ... AN11: =IF($E11=AN$6,$D11,0)*(1+$B$3)^AN$6 -> 0
A12: Nose Creek Fire Station | B12: 18000000 | C12: 0.97295558 | D12: =B12*C12 -> 17513200 | E12: 10 | H12: =IF($E12=H$6,$D12,0)*(1+$B$3)^H$6 -> 0 | I12: =IF($E12=I$6,$D12,0)*(1+$B$3)^I$6 -> 0 | J12: =IF($E12=J$6,$D12,0)*(1+$B$3)^J$6 -> 0 | K12: =IF($E12=K$6,$D12,0)*(1+$B$3)^K$6 -> 0 | L12: =IF($E12=L$6,$D12,0)*(1+$B$3)^L$6 -> 0 | M12: =IF($E12=M$6,$D12,0)*(1+$B$3)^M$6 -> 0 | N12: =IF($E12=N$6,$D12,0)*(1+$B$3)^N$6 -> 0 | O12: =IF($E12=O$6,$D12,0)*(1+$B$3)^O$6 -> 0 | ... AN12: =IF($E12=AN$6,$D12,0)*(1+$B$3)^AN$6 -> 0
A13: Haskayne Fire Station | B13: 18000000 | C13: 0.82351104 | D13: =B13*C13 -> 14823199 | E13: 15 | H13: =IF($E13=H$6,$D13,0)*(1+$B$3)^H$6 -> 0 | I13: =IF($E13=I$6,$D13,0)*(1+$B$3)^I$6 -> 0 | J13: =IF($E13=J$6,$D13,0)*(1+$B$3)^J$6 -> 0 | K13: =IF($E13=K$6,$D13,0)*(1+$B$3)^K$6 -> 0 | L13: =IF($E13=L$6,$D13,0)*(1+$B$3)^L$6 -> 0 | M13: =IF($E13=M$6,$D13,0)*(1+$B$3)^M$6 -> 0 | N13: =IF($E13=N$6,$D13,0)*(1+$B$3)^N$6 -> 0 | O13: =IF($E13=O$6,$D13,0)*(1+$B$3)^O$6 -> 0 | ... AN13: =IF($E13=AN$6,$D13,0)*(1+$B$3)^AN$6 -> 0
A14: Providence Fire Station | B14: 18000000 | C14: 0.96531318 | D14: =B14*C14 -> 17375637 | E14: 15 | H14: =IF($E14=H$6,$D14,0)*(1+$B$3)^H$6 -> 0 | I14: =IF($E14=I$6,$D14,0)*(1+$B$3)^I$6 -> 0 | J14: =IF($E14=J$6,$D14,0)*(1+$B$3)^J$6 -> 0 | K14: =IF($E14=K$6,$D14,0)*(1+$B$3)^K$6 -> 0 | L14: =IF($E14=L$6,$D14,0)*(1+$B$3)^L$6 -> 0 | M14: =IF($E14=M$6,$D14,0)*(1+$B$3)^M$6 -> 0 | N14: =IF($E14=N$6,$D14,0)*(1+$B$3)^N$6 -> 0 | O14: =IF($E14=O$6,$D14,0)*(1+$B$3)^O$6 -> 0 | ... AN14: =IF($E14=AN$6,$D14,0)*(1+$B$3)^AN$6 -> 0
A15: Rangeview Fire Station | B15: 18000000 | C15: 0.86721009 | D15: =B15*C15 -> 15609782 | E15: 18 | H15: =IF($E15=H$6,$D15,0)*(1+$B$3)^H$6 -> 0 | I15: =IF($E15=I$6,$D15,0)*(1+$B$3)^I$6 -> 0 | J15: =IF($E15=J$6,$D15,0)*(1+$B$3)^J$6 -> 0 | K15: =IF($E15=K$6,$D15,0)*(1+$B$3)^K$6 -> 0 | L15: =IF($E15=L$6,$D15,0)*(1+$B$3)^L$6 -> 0 | M15: =IF($E15=M$6,$D15,0)*(1+$B$3)^M$6 -> 0 | N15: =IF($E15=N$6,$D15,0)*(1+$B$3)^N$6 -> 0 | O15: =IF($E15=O$6,$D15,0)*(1+$B$3)^O$6 -> 0 | ... AN15: =IF($E15=AN$6,$D15,0)*(1+$B$3)^AN$6 -> 0
A16: South Shepard Fire Station | B16: 18000000 | C16: 0.99369766 | D16: =B16*C16 -> 17886558 | E16: 20 | H16: =IF($E16=H$6,$D16,0)*(1+$B$3)^H$6 -> 0 | I16: =IF($E16=I$6,$D16,0)*(1+$B$3)^I$6 -> 0 | J16: =IF($E16=J$6,$D16,0)*(1+$B$3)^J$6 -> 0 | K16: =IF($E16=K$6,$D16,0)*(1+$B$3)^K$6 -> 0 | L16: =IF($E16=L$6,$D16,0)*(1+$B$3)^L$6 -> 0 | M16: =IF($E16=M$6,$D16,0)*(1+$B$3)^M$6 -> 0 | N16: =IF($E16=N$6,$D16,0)*(1+$B$3)^N$6 -> 0 | O16: =IF($E16=O$6,$D16,0)*(1+$B$3)^O$6 -> 0 | ... AN16: =IF($E16=AN$6,$D16,0)*(1+$B$3)^AN$6 -> 0
A17: Westview Fire Station | B17: 18000000 | C17: 0.9839542 | D17: =B17*C17 -> 17711176 | E17: 20 | H17: =IF($E17=H$6,$D17,0)*(1+$B$3)^H$6 -> 0 | I17: =IF($E17=I$6,$D17,0)*(1+$B$3)^I$6 -> 0 | J17: =IF($E17=J$6,$D17,0)*(1+$B$3)^J$6 -> 0 | K17: =IF($E17=K$6,$D17,0)*(1+$B$3)^K$6 -> 0 | L17: =IF($E17=L$6,$D17,0)*(1+$B$3)^L$6 -> 0 | M17: =IF($E17=M$6,$D17,0)*(1+$B$3)^M$6 -> 0 | N17: =IF($E17=N$6,$D17,0)*(1+$B$3)^N$6 -> 0 | O17: =IF($E17=O$6,$D17,0)*(1+$B$3)^O$6 -> 0 | ... AN17: =IF($E17=AN$6,$D17,0)*(1+$B$3)^AN$6 -> 0
A18: Future value of capital projects | E18: =SUM(G18:AN18) -> 2.58106e+08 | H18: =SUM(H8:H17) -> 0 | I18: =SUM(I8:I17) -> 0 | J18: =SUM(J8:J17) -> 0 | K18: =SUM(K8:K17) -> 16296379 | L18: =SUM(L8:L17) -> 16188472 | M18: =SUM(M8:M17) -> 21318156 | N18: =SUM(N8:N17) -> 0 | O18: =SUM(O8:O17) -> 0 | ... AN18: =SUM(AN8:AN17) -> 0
A19: Dicounted Amount | E19: =SUM(H19:AN19) -> 1.4943278e+08 | H19: =(SUM(H8:H17))/((1+$B$4)^H6) -> 0 | I19: =(SUM(I8:I17))/((1+$B$4)^I6) -> 0 | J19: =(SUM(J8:J17))/((1+$B$4)^J6) -> 0 | K19: =(SUM(K8:K17))/((1+$B$4)^K6) -> 13775915 | L19: =(SUM(L8:L17))/((1+$B$4)^L6) -> 13121773 | M19: =(SUM(M8:M17))/((1+$B$4)^M6) -> 16568898 | N19: =(SUM(N8:N17))/((1+$B$4)^N6) -> 0 | O19: =(SUM(O8:O17))/((1+$B$4)^O6) -> 0 | ... AN19: =(SUM(AN8:AN17))/((1+$B$4)^AN6) -> 0
E20: =SUM(H20:AN20) -> 10203 | H20: 361 | I20: 290 | J20: 309 | K20: 327 | L20: 321 | M20: 321 | N20: 321.5 | O20: 321.5 | P20: 321.5 | Q20: 321.5 | R20: 321.5 | S20: 321.5 | T20: 321.5 | U20: 321.5 | V20: 321.5 | W20: 321.5 | X20: 321.5 | Y20: 321.5 | Z20: 321.5 | AA20: 321.5 | AB20: 321.5 | AC20: 321.5 | AD20: 321.5 | AE20: 321.5 | AF20: 321.5 | AG20: 321.5 | AH20: 321.5 | AI20: 321.5 | AJ20: 321.5 | AK20: 321.5 | AL20: 321.5 | AM20: =321.5-85 -> 236.5
E21: =E19/E20 -> 14645.965 | F21: Contribution | G21: =SUM(H21:AN21) -> 3.0656196e+08 | H21: =(($E$25*H20)*(1+$B$4)^0) -> 5287193.4 | I21: =(($E$25*I20)*(1+$B$4)^H6) -> 4429540.3 | J21: =(($E$25*J20)*(1+$B$4)^I6) -> 4922228.9 | K21: =(($E$25*K20)*(1+$B$4)^J6) -> 5432425.1 | L21: =(($E$25*L20)*(1+$B$4)^K6) -> 5561522.5 | M21: =(($E$25*M20)*(1+$B$4)^L6) -> 5800111.8 | N21: =(($E$25*N20)*(1+$B$4)^M6) -> 6058358.6 | O21: =(($E$25*O20)*(1+$B$4)^N6) -> 6318262.2 | P21: =(($E$25*P20)*(1+$B$4)^O6) -> 6589315.6 | ... AN21: =(($E$25*AN20)*(1+$B$4)^AM6) -> 0
F22: Income | G22: =SUM(H22:AN22) -> -48455958 | H22: =(F25+H21)*$B$4 -> 226820.6 | I22: =(H25+I21)*$B$4 -> 426578.48 | J22: =(I25+J21)*$B$4 -> 656042.32 | K22: =(J25+K21)*$B$4 -> 917237.57 | L22: =(K25+L21)*$B$4 -> 496061.71 | M22: =(L25+M21)*$B$4 -> 71682.124 | N22: =(M25+N21)*$B$4 -> -579888 | O22: =(N25+O21)*$B$4 -> -333711.75 | P22: =(O25+P21)*$B$4 -> -65346.338 | ... AN22: =(AM25+AN21)*$B$4 -> 3.0834138e-09
E25: 14645.965 | H25: =H21+H22 -> 5514014 | I25: =H25+I21+I22-I18 -> 10370133 | J25: =I25+J21+J22-J18 -> 15948404 | K25: =J25+K21+K22-K18 -> 6001687.6 | L25: =K25+L21+L22-L18 -> -4129199.8 | M25: =L25+M21+M22-M18 -> -19575561 | N25: =M25+N21+N22-N18 -> -14097091 | O25: =N25+O21+O22-O18 -> -8112540.3 | P25: =O25+P21+P22-P18 -> -1588571 | ... AN25: =AM25+AN21+AN22-AN18 -> 7.4957861e-08
F28: Rate/Ha | H28: =H21/H20 -> 14645.965 | I28: =I21/I20 -> 15274.277 | J28: =J21/J20 -> 15929.543 | K28: =K21/K20 -> 16612.921 | L28: =L21/L20 -> 17325.615 | M28: =M21/M20 -> 18068.884 | N28: =N21/N20 -> 18844.039 | O28: =O21/O20 -> 19652.449 | ... AM28: =AM21/AM20 -> 53856.817
F30: % increase | I30: =(I28-H28)/H28 -> 0.0429 | J30: =(J28-I28)/I28 -> 0.0429 | K30: =(K28-J28)/J28 -> 0.0429 | L30: =(L28-K28)/K28 -> 0.0429

Sheet Tab 3 - Unlevied Land
A1: Fire - Unlevied Land
A2: This tab provides background on different benefiting areas: the Established Area, unlevied land, and land that has already been levied. | Q2: Map 1. Off-Site levy Established Area boundary and Greenfield Area as of the end of 2022
A5: Map 1 to the right illustrates The City's Established Area, and Greenfield Area. The Established Area boundary was identified in the 2016 Off-site Levy Bylaw and contains lands that are fully developed, or have executed development agreement to allow future development. The purpose of the boundary is to determine benefiting areas in support of levy rate calculations (established or greenfield) for different parts of the city. Land shown in green includes both greenfield lands that have already been levied, unlevied, and non-developable land. Non-developable land is excluded from the determination of the number of hectares that have been levied or unlevied. This includes, for example: • The Transportation Utility Corridor (TUC), or road right-of-way for provincial expressways. • Environmental Reserve (slopes with a grade greater than 15%, natural water bodies, areas impacted by a 1:100 year flood). • Landfills. • Cemeteries.

Sheet Tab 4 - Infrastructure
B1: Fire - Infrastructure
B3: This tab shows the basis of the calculation and assumptions used in assessing infrastructure allocation.
B5: Per facility capacity | C5: Number of emergency response stations and their location are determined to meet response time requirement of the City.
B6: Capacity allocation | C6: Future greenfield population will be 100% benefitting with existing and future Fire infrastructure in the green area
B7: Construction year | C7: Determined based on when the new facility will be required as related to the pace of population growth
B9: Future need of facility and cost analysis
B11: Facility | C11: Number of facilities needed | D11: Per facility cost | E11: Year Built - Estimate | F11: Year in numbers
B12: Belvedere Fire Station | C12: 1 | D12: 27300000 | E12: 2031 | F12: =E12-2024+1 -> 8
B13: Glacier Ridge Fire station | C13: 1 | D13: 22100000 | E13: 2045 | F13: =E13-2024+1 -> 22
B14: Nose Creek Fire Station | C14: 1 | D14: 17750000 | E14: 2043 | F14: =E14-2024+1 -> 20
B15: Providence Fire Station | C15: 1 | D15: 17750000 | E15: 2040 | F15: =E15-2024+1 -> 17
B16: Rangeview Fire Station | C16: 1 | D16: 22100000 | E16: 2037 | F16: =E16-2024+1 -> 14
B17: South Shepard Fire Station | C17: 1 | D17: 17750000 | E17: 2033 | F17: =E17-2024+1 -> 10
B18: West View Fire Station | C18: 1 | D18: 17750000 | E18: 2048 | F18: =E18-2024+1 -> 25
B19: Shepard Industrial Station | C19: 1 | D19: 17750000 | E19: 2053 | F19: =E19-2024+1 -> 30
B21: Fire Infrastructure Cost Estimates, 2023
B22: 2 Bay Station | D22: Cost | E22: Notes
B23: Building Construction | D23: =1100*13000 -> 14300000 | E23: 13000 square feet
B24: Land (Serviced) | D24: =1300000*1.5 -> 1950000 | E24: 1.5 Acres
B25: Apparatus | D25: 1100000
B26: Equipment | D26: 400000
B27: Total Costs | D27: =SUM(D23:D26) -> 17750000
B29: 3 Bay Station | D29: Cost | E29: Notes
B30: Building Construction | D30: =1100*15000 -> 16500000 | E30: 15000 square feet
B31: Land (Serviced) | D31: =1300000*2 -> 2600000 | E31: 2 Acres
B32: Two Apparatus | D32: 2200000
B33: Equipment | D33: 800000
B34: Total Costs | D34: =SUM(D30:D33) -> 22100000
B36: 4 Bay Station | D36: Cost | E36: Notes
B37: Building Construction | D37: =1100*17500 -> 19250000 | E37: 17500 square feet
B38: Land (Serviced) | D38: =1300000*2.5 -> 3250000 | E38: 2.5 Acres
B39: Three Apparatus | D39: 3600000
B40: Equipment | D40: =400000*3 -> 1200000
B41: Total Costs | D41: =SUM(D37:D40) -> 27300000

Sheet Tab 5 - Benefit Allocation
A1: Fire - Benefit Allocation
A3: Benefit measurement: | B3: Recreation facilities benefit is measured using the share of population in benefiting areas.
A4: Benefiting Areas include: | B4: Greenfield only: projects that support Area Structure Plans (ASPs) outside the established area boundary. The service level for the greenfield is comparable with the service level in the established area. 100% of benefit is assigned to the greenfield ASP lands, and is split based on the forecast population in lands that have already signed development agreements and paid off-site levies (levied lands), and lands that have not yet signed development agreements and paid off-site levies (unlevied lands).
A5: Data Source: | B5: Source: Calgary Next 20: Population, Employment and Housing Projections, 2021, by Applications Management Consulting Ltd. A buildout forecast of population based on current growth trends.
A6: Source Data Details and Assumptions | B6: • The forecast period for population and jobs ends in 2076. • All the unlevied ASP land absorbed (development agreement executed) by 2055. • Population and job forecasts are assessed by Transportation Zones (TZ's). Transportation Zones provide a useful and reasonable geographic division for forecasting. • Population densities are assumed to be even throughout transportation zones, e.g. where part of a TZ has paid levies, and part has not.
A7: Benefit Allocation Calculation | B7: Benefit = (Sum of forecast population and jobs in all unlevied lands within future emergency response station coverage area/ (Sum of forecast population and jobs in the coverage area of emergency response station)
A13: # | B13: Project Name / Greenfield Fire Stations | C13: Primary Benefitting Area (by Planning Policy) | D13: Future Population/Jobs (Dispersed/full build out in 60 years) | E13: Previously Levied Land | G13: Unlevied Land (ASP)
E14: Population | F14: % | G14: Population | H14: %
A15: 1 | B15: Belvedere Fire Station | C15: Belvedere ASP | D15: 67208.306 | E15: 3221.7082 | F15: =ROUND(E15/D15,2) -> 0.05 | G15: 63986.598 | H15: =ROUND(G15/D15,2) -> 0.95
A16: 2 | B16: Glacier Ridge Fire Station | C16: Glacier Ridge ASP | D16: 55420.314 | E16: ='[1]Glacier Ridge'!D7 -> 0 | F16: =ROUND(E16/D16,2) -> 0 | G16: 52735.607 | H16: =ROUND(G16/D16,2) -> 0.95
A17: 3 | B17: Nose Creek Fire Station | C17: Nose Creek ASP / Keystone Hills ASP | D17: 24442.448 | E17: 239.77783 | F17: =ROUND(E17/D17,2) -> 0.01 | G17: 24202.67 | H17: =ROUND(G17/D17,2) -> 0.99
A18: 4 | B18: Providence Fire Station | C18: Providence ASP | D18: 41086.661 | E18: 3052.0692 | F18: =ROUND(E18/D18,2) -> 0.07 | G18: 38034.592 | H18: =ROUND(G18/D18,2) -> 0.93
A19: 5 | B19: Rangeview Fire Station | C19: Rangeview ASP / Ricardo Ranch ASP | D19: 61487.015 | E19: 12290.918 | F19: =ROUND(E19/D19,2) -> 0.2 | G19: 49196.098 | H19: =ROUND(G19/D19,2) -> 0.8
A20: 6 | B20: South Shepard Fire Station | C20: South Shepard ASP | D20: 29088.029 | E20: 872.29003 | F20: =ROUND(E20/D20,2) -> 0.03 | G20: 28215.739 | H20: =ROUND(G20/D20,2) -> 0.97
A21: 7 | B21: West View Fire Station | C21: West View ASP | D21: 5397.4503 | E21: 27.686859 | F21: =ROUND(E21/D21,2) -> 0.01 | G21: 5369.7634 | H21: =ROUND(G21/D21,2) -> 0.99
A22: 8 | B22: Shepard Industrial Station | C22: Shepard Industrial ASP | D22: 5575.6641 | E22: 1159.336 | F22: =ROUND(E22/D22,2) -> 0.21 | G22: 4416.3281 | H22: =ROUND(G22/D22,2) -> 0.79

Sheet Tab 6 - Financial Model
A1: Fire OSL Financial Rate Model
J2: 0 | K2: 1 | L2: 2 | M2: 3 | N2: 4 | O2: 5 | P2: 6 | Q2: 7 | R2: 8 | S2: 9 | T2: 10 | U2: 11 | V2: 12 | W2: 13 | X2: 14 | Y2: 15 | Z2: 16 | AA2: 17 | AB2: 18 | AC2: 19 | AD2: 20 | AE2: 21 | AF2: 22 | AG2: 23 | AH2: 24 | AI2: 25 | AJ2: 26 | AK2: 27 | AL2: 28 | AM2: 29 | AN2: 30 | AO2: 31 | AP2: 32 | AQ2: 33 | AR2: 34 | AS2: 35
A3: Fire Levy Rate | C3: 17091.51 | H3: End Value (CELL AS42): | I3: =AS42 -> 3.5506673e-09 | J3: 2023 | K3: 2024 | L3: 2025 | M3: 2026 | N3: 2027 | O3: 2028 | P3: 2029 | Q3: 2030 | R3: 2031 | S3: 2032 | T3: 2033 | U3: 2034 | V3: 2035 | W3: 2036 | X3: 2037 | Y3: 2038 | Z3: 2039 | AA3: 2040 | AB3: 2041 | AC3: 2042 | AD3: 2043 | AE3: 2044 | AF3: 2045 | AG3: 2046 | AH3: 2047 | AI3: 2048 | AJ3: 2049 | AK3: 2050 | AL3: 2051 | AM3: 2052 | AN3: 2053 | AO3: 2054 | AP3: 2055 | AQ3: 2056 | AR3: 2057 | AS3: 2058
B4: How to calculate the levy rate: Once all variables have been set, the levy rate can be recalculated by entering running Excel's Goal Seek function (Data --> What-If Analysis --> Goal Seek) to calculate the levy rate in cell C3 by setting cell AS42 to 0 by changing the levy rate in cell C3. The model applies the value in cell C3 to the land absorption in row 29 to ensure that contributions from Development Agreements (in row 34) plus earned investment income offset total spending and ensure that the ending balance is zero (cell AS42), i.e. all revenues and spending have balanced. Variables impacting this calculation include: annual expenditures, land absorption rate (row 29), payment schedule (cells I36 to I39), and the escalation and discount rates (cells E25 and E26).
A10: Section 1: Expenditures
A12: # | B12: Project Name | D12: Capital Cost | E12: Benefit Type | F12: Benefit % | G12: Unlevied cost | H12: Previously Levied/ City Share of Cost | I12: Year Projected project start
A14: 1 | B14: ='Tab 4 - Infrastructure'!B12 -> Belvedere Fire Station | D14: ='Tab 4 - Infrastructure'!D12 -> 27300000 | E14: Greenfield | F14: ='Tab 5 - Benefit Allocation'!H15 -> 0.95 | G14: =D14*F14 -> 25935000 | H14: =D14-G14 -> 1365000 | I14: ='Tab 4 - Infrastructure'!F12 -> 8 | K14: =IF($I14=K$2,$G14,0)*(1+$E$25)^K$2 -> 0 | L14: =IF($I14=L$2,$G14,0)*(1+$E$25)^L$2 -> 0 | M14: =IF($I14=M$2,$G14,0)*(1+$E$25)^M$2 -> 0 | N14: =IF($I14=N$2,$G14,0)*(1+$E$25)^N$2 -> 0 | O14: =IF($I14=O$2,$G14,0)*(1+$E$25)^O$2 -> 0 | P14: =IF($I14=P$2,$G14,0)*(1+$E$25)^P$2 -> 0 | Q14: =IF($I14=Q$2,$G14,0)*(1+$E$25)^Q$2 -> 0 | R14: =IF($I14=R$2,$G14,0)*(1+$E$25)^R$2 -> 34363193 | ... AS14: =IF($I14=AS$2,$G14,0)*(1+$E$25)^AS$2 -> 0
A15: 2 | B15: ='Tab 4 - Infrastructure'!B13 -> Glacier Ridge Fire station | D15: ='Tab 4 - Infrastructure'!D13 -> 22100000 | E15: Greenfield | F15: ='Tab 5 - Benefit Allocation'!H16 -> 0.95 | G15: =D15*F15 -> 20995000 | H15: =D15-G15 -> 1105000 | I15: ='Tab 4 - Infrastructure'!F13 -> 22 | K15: =IF($I15=K$2,$G15,0)*(1+$E$25)^K$2 -> 0 | L15: =IF($I15=L$2,$G15,0)*(1+$E$25)^L$2 -> 0 | M15: =IF($I15=M$2,$G15,0)*(1+$E$25)^M$2 -> 0 | N15: =IF($I15=N$2,$G15,0)*(1+$E$25)^N$2 -> 0 | O15: =IF($I15=O$2,$G15,0)*(1+$E$25)^O$2 -> 0 | P15: =IF($I15=P$2,$G15,0)*(1+$E$25)^P$2 -> 0 | Q15: =IF($I15=Q$2,$G15,0)*(1+$E$25)^Q$2 -> 0 | R15: =IF($I15=R$2,$G15,0)*(1+$E$25)^R$2 -> 0 | ... AS15: =IF($I15=AS$2,$G15,0)*(1+$E$25)^AS$2 -> 0
A16: 3 | B16: ='Tab 4 - Infrastructure'!B14 -> Nose Creek Fire Station | D16: ='Tab 4 - Infrastructure'!D14 -> 17750000 | E16: Greenfield | F16: ='Tab 5 - Benefit Allocation'!H17 -> 0.99 | G16: =D16*F16 -> 17572500 | H16: =D16-G16 -> 177500 | I16: ='Tab 4 - Infrastructure'!F14 -> 20 | K16: =IF($I16=K$2,$G16,0)*(1+$E$25)^K$2 -> 0 | L16: =IF($I16=L$2,$G16,0)*(1+$E$25)^L$2 -> 0 | M16: =IF($I16=M$2,$G16,0)*(1+$E$25)^M$2 -> 0 | N16: =IF($I16=N$2,$G16,0)*(1+$E$25)^N$2 -> 0 | O16: =IF($I16=O$2,$G16,0)*(1+$E$25)^O$2 -> 0 | P16: =IF($I16=P$2,$G16,0)*(1+$E$25)^P$2 -> 0 | Q16: =IF($I16=Q$2,$G16,0)*(1+$E$25)^Q$2 -> 0 | R16: =IF($I16=R$2,$G16,0)*(1+$E$25)^R$2 -> 0 | ... AS16: =IF($I16=AS$2,$G16,0)*(1+$E$25)^AS$2 -> 0
A17: 4 | B17: ='Tab 4 - Infrastructure'!B15 -> Providence Fire Station | D17: ='Tab 4 - Infrastructure'!D15 -> 17750000 | E17: Greenfield | F17: ='Tab 5 - Benefit Allocation'!H18 -> 0.93 | G17: =D17*F17 -> 16507500 | H17: =D17-G17 -> 1242500 | I17: ='Tab 4 - Infrastructure'!F15 -> 17 | K17: =IF($I17=K$2,$G17,0)*(1+$E$25)^K$2 -> 0 | L17: =IF($I17=L$2,$G17,0)*(1+$E$25)^L$2 -> 0 | M17: =IF($I17=M$2,$G17,0)*(1+$E$25)^M$2 -> 0 | N17: =IF($I17=N$2,$G17,0)*(1+$E$25)^N$2 -> 0 | O17: =IF($I17=O$2,$G17,0)*(1+$E$25)^O$2 -> 0 | P17: =IF($I17=P$2,$G17,0)*(1+$E$25)^P$2 -> 0 | Q17: =IF($I17=Q$2,$G17,0)*(1+$E$25)^Q$2 -> 0 | R17: =IF($I17=R$2,$G17,0)*(1+$E$25)^R$2 -> 0 | ... AS17: =IF($I17=AS$2,$G17,0)*(1+$E$25)^AS$2 -> 0
A18: 5 | B18: ='Tab 4 - Infrastructure'!B16 -> Rangeview Fire Station | D18: ='Tab 4 - Infrastructure'!D16 -> 22100000 | E18: Greenfield | F18: ='Tab 5 - Benefit Allocation'!H19 -> 0.8 | G18: =D18*F18 -> 17680000 | H18: =D18-G18 -> 4420000 | I18: ='Tab 4 - Infrastructure'!F16 -> 14 | K18: =IF($I18=K$2,$G18,0)*(1+$E$25)^K$2 -> 0 | L18: =IF($I18=L$2,$G18,0)*(1+$E$25)^L$2 -> 0 | M18: =IF($I18=M$2,$G18,0)*(1+$E$25)^M$2 -> 0 | N18: =IF($I18=N$2,$G18,0)*(1+$E$25)^N$2 -> 0 | O18: =IF($I18=O$2,$G18,0)*(1+$E$25)^O$2 -> 0 | P18: =IF($I18=P$2,$G18,0)*(1+$E$25)^P$2 -> 0 | Q18: =IF($I18=Q$2,$G18,0)*(1+$E$25)^Q$2 -> 0 | R18: =IF($I18=R$2,$G18,0)*(1+$E$25)^R$2 -> 0 | ... AS18: =IF($I18=AS$2,$G18,0)*(1+$E$25)^AS$2 -> 0
A19: 6 | B19: ='Tab 4 - Infrastructure'!B17 -> South Shepard Fire Station | D19: ='Tab 4 - Infrastructure'!D17 -> 17750000 | E19: Greenfield | F19: ='Tab 5 - Benefit Allocation'!H20 -> 0.97 | G19: =D19*F19 -> 17217500 | H19: =D19-G19 -> 532500 | I19: ='Tab 4 - Infrastructure'!F17 -> 10 | K19: =IF($I19=K$2,$G19,0)*(1+$E$25)^K$2 -> 0 | L19: =IF($I19=L$2,$G19,0)*(1+$E$25)^L$2 -> 0 | M19: =IF($I19=M$2,$G19,0)*(1+$E$25)^M$2 -> 0 | N19: =IF($I19=N$2,$G19,0)*(1+$E$25)^N$2 -> 0 | O19: =IF($I19=O$2,$G19,0)*(1+$E$25)^O$2 -> 0 | P19: =IF($I19=P$2,$G19,0)*(1+$E$25)^P$2 -> 0 | Q19: =IF($I19=Q$2,$G19,0)*(1+$E$25)^Q$2 -> 0 | R19: =IF($I19=R$2,$G19,0)*(1+$E$25)^R$2 -> 0 | ... AS19: =IF($I19=AS$2,$G19,0)*(1+$E$25)^AS$2 -> 0
A20: 7 | B20: ='Tab 4 - Infrastructure'!B18 -> West View Fire Station | D20: ='Tab 4 - Infrastructure'!D18 -> 17750000 | E20: Greenfield | F20: ='Tab 5 - Benefit Allocation'!H21 -> 0.99 | G20: =D20*F20 -> 17572500 | H20: =D20-G20 -> 177500 | I20: ='Tab 4 - Infrastructure'!F18 -> 25 | K20: =IF($I20=K$2,$G20,0)*(1+$E$25)^K$2 -> 0 | L20: =IF($I20=L$2,$G20,0)*(1+$E$25)^L$2 -> 0 | M20: =IF($I20=M$2,$G20,0)*(1+$E$25)^M$2 -> 0 | N20: =IF($I20=N$2,$G20,0)*(1+$E$25)^N$2 -> 0 | O20: =IF($I20=O$2,$G20,0)*(1+$E$25)^O$2 -> 0 | P20: =IF($I20=P$2,$G20,0)*(1+$E$25)^P$2 -> 0 | Q20: =IF($I20=Q$2,$G20,0)*(1+$E$25)^Q$2 -> 0 | R20: =IF($I20=R$2,$G20,0)*(1+$E$25)^R$2 -> 0 | ... AS20: =IF($I20=AS$2,$G20,0)*(1+$E$25)^AS$2 -> 0
A21: 8 | B21: ='Tab 4 - Infrastructure'!B19 -> Shepard Industrial Station | D21: ='Tab 4 - Infrastructure'!D19 -> 17750000 | E21: Greenfield | F21: ='Tab 5 - Benefit Allocation'!H22 -> 0.79 | G21: =D21*F21 -> 14022500 | H21: =D21-G21 -> 3727500 | I21: ='Tab 4 - Infrastructure'!F19 -> 30 | K21: =IF($I21=K$2,$G21,0)*(1+$E$25)^K$2 -> 0 | L21: =IF($I21=L$2,$G21,0)*(1+$E$25)^L$2 -> 0 | M21: =IF($I21=M$2,$G21,0)*(1+$E$25)^M$2 -> 0 | N21: =IF($I21=N$2,$G21,0)*(1+$E$25)^N$2 -> 0 | O21: =IF($I21=O$2,$G21,0)*(1+$E$25)^O$2 -> 0 | P21: =IF($I21=P$2,$G21,0)*(1+$E$25)^P$2 -> 0 | Q21: =IF($I21=Q$2,$G21,0)*(1+$E$25)^Q$2 -> 0 | R21: =IF($I21=R$2,$G21,0)*(1+$E$25)^R$2 -> 0 | ... AS21: =IF($I21=AS$2,$G21,0)*(1+$E$25)^AS$2 -> 0
B24: Rates used to calculate Future Value and Present Value of Unlevied Cost:
B25: Table: Escalation and Discount Rates. Source: City Treasury, March 2023 | D25: Escalation Rate | E25: 0.0358 | H25: Future value of Unlevied Cost | I25: =SUM(L25:AS25) -> 2.814333e+08 | J25: =SUM(J14:J22) -> 0 | K25: =SUM(K14:K22) -> 0 | L25: =SUM(L14:L22) -> 0 | M25: =SUM(M14:M22) -> 0 | N25: =SUM(N14:N22) -> 0 | O25: =SUM(O14:O22) -> 0 | P25: =SUM(P14:P22) -> 0 | Q25: =SUM(Q14:Q22) -> 0 | ... AS25: =SUM(AS14:AS22) -> 0
D26: Discount Rate | E26: 0.0429 | H26: Discounted value of Unlevied Cost | I26: =SUM(L26:AS26) -> 1.3103306e+08 | J26: =(SUM(J14:J22))/((1+$E$26)^J2) -> 0 | K26: =(SUM(K14:K22))/((1+$E$26)^K2) -> 0 | L26: =(SUM(L14:L22))/((1+$E$26)^L2) -> 0 | M26: =(SUM(M14:M22))/((1+$E$26)^M2) -> 0 | N26: =(SUM(N14:N22))/((1+$E$26)^N2) -> 0 | O26: =(SUM(O14:O22))/((1+$E$26)^O2) -> 0 | P26: =(SUM(P14:P22))/((1+$E$26)^P2) -> 0 | Q26: =(SUM(Q14:Q22))/((1+$E$26)^Q2) -> 0 | ... AS26: =(SUM(AS14:AS22))/((1+$E$26)^AS2) -> 0
A28: Section 2: Land Absorption and Yearly Cash Flows
I29: Hectares that sign development agreements (DA's) | J29: 290 | K29: 309 | L29: 327 | M29: 321 | N29: 321 | O29: 318.4809 | P29: 315.9618 | Q29: 313.44269 | R29: 310.92359 | S29: 308.40449 | T29: 305.88539 | U29: 303.36629 | V29: 300.84718 | W29: 298.32808 | X29: 295.80898 | Y29: 293.28988 | Z29: 290.77078 | AA29: 288.25167 | AB29: 285.73257 | AC29: 283.21347 | AD29: 280.69437 | AE29: 278.17527 | AF29: 275.65616 | AG29: 273.13706 | AH29: 270.61796 | AI29: 268.09886 | AJ29: 265.57976 | AK29: 263.06065 | AL29: =260.541551020408-34.8 -> 225.74155 | AM29: =258.022448979592-34.8 -> 223.22245 | AN29: =255.503346938775-34.8 -> 220.70335 | AO29: =252.984244897959-34.8 -> 218.18424 | AP29: =250.465142857143-34.8 -> 215.66514
D30: Year | E30: Unlevied Hectares | I30: Cumulative Hectares | K30: =SUM($K29:K29) -> 309 | L30: =SUM($K29:L29) -> 636 | M30: =SUM($K29:M29) -> 957 | N30: =SUM($K29:N29) -> 1278 | O30: =SUM($K29:O29) -> 1596.4809 | P30: =SUM($K29:P29) -> 1912.4427 | Q30: =SUM($K29:Q29) -> 2225.8854 | R30: =SUM($K29:R29) -> 2536.809 | ... AS30: =SUM($K29:AS29) -> 9069.2446
B31: Planned Unlevied Hectares at Jan 1, 2023 | D31: Subtotal | E31: =9069+290 -> 9359
B32: Forecast hectares in executed DA's | D32: 2023 | E32: 290
B33: Denominator: Unlevied Hectares at Jan 1, 2024 | D33: Subtotal | E33: =E31-E32 -> 9069 | G33: Yearly Cash-flow Analysis ($):
B34: Hectares in executed DA's from 2023 to 2027 are per Corporate Economics Fall 2022 forecast. The remaining 7,791 hectares of unlevied land are assumed to be absorbed in a slowly decreasing trend, with approximately 2.54 ha fewer per year. | D34: 2024 | E34: 309 | H34: Contributions from signed DA's | I34: =SUM(K34:AS34) -> 3.0666475e+08 | K34: =(($C$3*K29)*(1+$E$26)^J2) -> 5281276.6 | L34: =(($C$3*L29)*(1+$E$26)^K2) -> 5828688.6 | M34: =(($C$3*M29)*(1+$E$26)^L2) -> 5967202.8 | N34: =(($C$3*N29)*(1+$E$26)^M2) -> 6223195.8 | O34: =(($C$3*O29)*(1+$E$26)^N2) -> 6439238.2 | P34: =(($C$3*P29)*(1+$E$26)^O2) -> 6662363.8 | Q34: =(($C$3*Q29)*(1+$E$26)^P2) -> 6892782.7 | R34: =(($C$3*R29)*(1+$E$26)^Q2) -> 7130710.1 | ... AS34: =(($C$3*AS29)*(1+$E$26)^AR2) -> 0
D35: 2025 | E35: 327 | H35: Beginning Account Balance, $ | K35: =J42 -> 0 | L35: =K42 -> 0 | M35: =L42 -> 0 | N35: =M42 -> 0 | O35: =N42 -> 5394560 | P35: =O42 -> 11579701 | Q35: =P42 -> 18171669 | R35: =Q42 -> 25307917 | ... AS35: =AR42 -> -13275703
D36: 2026 & 2027 | E36: 321 | G36: Levy payment schedule after a DA is signed. | H36: Year 0 | I36: 0 | K36: =K34*$I$36 -> 0 | L36: =L34*$I$36 -> 0 | M36: =M34*$I$36 -> 0 | N36: =N34*$I$36 -> 0 | O36: =O34*$I$36 -> 0 | P36: =P34*$I$36 -> 0 | Q36: =Q34*$I$36 -> 0 | R36: =R34*$I$36 -> 0 | ... AS36: =AS34*$I$36 -> 0
D37: 2028 - 2055 | E37: Declining | H37: Year 1 | I37: 0 | L37: =K34*$I$37 -> 0 | M37: =L34*$I$37 -> 0 | N37: =M34*$I$37 -> 0 | O37: =N34*$I$37 -> 0 | P37: =O34*$I$37 -> 0 | Q37: =P34*$I$37 -> 0 | R37: =Q34*$I$37 -> 0 | S37: =R34*$I$37 -> 0 | ... AS37: =AR34*$I$37 -> 0
H38: Year 2 | I38: 0 | M38: =K34*$I$38 -> 0 | N38: =L34*$I$38 -> 0 | O38: =M34*$I$38 -> 0 | P38: =N34*$I$38 -> 0 | Q38: =O34*$I$38 -> 0 | R38: =P34*$I$38 -> 0 | S38: =Q34*$I$38 -> 0 | T38: =R34*$I$38 -> 0 | ... AS38: =AQ34*$I$38 -> 0
H39: Year 3 | I39: 1 | N39: =K34*$I$39 -> 5281276.6 | O39: =L34*$I$39 -> 5828688.6 | P39: =M34*$I$39 -> 5967202.8 | Q39: =N34*$I$39 -> 6223195.8 | R39: =O34*$I$39 -> 6439238.2 | S39: =P34*$I$39 -> 6662363.8 | T39: =Q34*$I$39 -> 6892782.7 | U39: =R34*$I$39 -> 7130710.1 | ... AS39: =AP34*$I$39 -> 13554487
H40: Investment Income (Interest Expense), $ | I40: =SUM(K40:AS40) -> -25231449 | M40: =(((M35+((M36+M37+M38+M39)*$E$48)))-(M25*0.5))*$E$26 -> 0 | N40: =(((N35+((N36+N37+N38+N39)*$E$48)))-(N25*0.5))*$E$26 -> 113283.38 | O40: =(((O35+((O36+O37+O38+O39)*$E$48)))-(O25*0.5))*$E$26 -> 356451.99 | P40: =(((P35+((P36+P37+P38+P39)*$E$48)))-(P25*0.5))*$E$26 -> 624765.65 | Q40: =(((Q35+((Q36+Q37+Q38+Q39)*$E$48)))-(Q25*0.5))*$E$26 -> 913052.15 | R40: =(((R35+((R36+R37+R38+R39)*$E$48)))-(R25*0.5))*$E$26 -> 486740.82 | S40: =(((S35+((S36+S37+S38+S39)*$E$48)))-(S25*0.5))*$E$26 -> 51560.88 | T40: =(((T35+((T36+T37+T38+T39)*$E$48)))-(T25*0.5))*$E$26 -> -180465.82 | ... AS40: =(((AS35+((AS36+AS37+AS38+AS39)*$E$48)))-(AS25*0.5))*$E$26 -> -278783.91
H41: Future value of cash inflows, $ | I41: =SUM(I34:I40) -> 2.814333e+08
H42: Ending account balance, $ | M42: =M35+M36+M37+M38+M39+M40-M25 -> 0 | N42: =N35+N36+N37+N38+N39+N40-N25 -> 5394560 | O42: =O35+O36+O37+O38+O39+O40-O25 -> 11579701 | P42: =P35+P36+P37+P38+P39+P40-P25 -> 18171669 | Q42: =Q35+Q36+Q37+Q38+Q39+Q40-Q25 -> 25307917 | R42: =R35+R36+R37+R38+R39+R40-R25 -> -2129296.6 | S42: =S35+S36+S37+S38+S39+S40-S25 -> 4584628.1 | T42: =T35+T36+T37+T38+T39+T40-T25 -> -13178419 | ... AS42: =AS35+AS36+AS37+AS38+AS39+AS40-AS25 -> 3.5506673e-09
B45: Note: Cash flow timing is for inflows, 1=beginning of year; 0.5 is straight line; 0.0 is end of year. This is used to calculate investment income on expenditures within a given year.
B48: Cashflow Timing Factor | E48: 0.5
A50: End of WP

Sheet Tab 7 - Bylaw Continuity
A1: Fire OSL Continuity
A3: This sheet is for information purposes only. It shows the continuity of expenditures, developer contributions, investment income, and fund balances for both the 2016 and 2024 Off-site Levies bylaws. Any final investment income earned in the final year will be applied to expenditures in that year.
A6: Light green references the 2016 bylaw
A7: Light orange references the 2024 bylaw
A9: 2024 Levy Rate | D9: Year # | H9: 0 | I9: 1 | J9: 2 | K9: 3 | L9: 4 | M9: 5 | N9: 6 | O9: 7 | P9: 8 | Q9: 9 | R9: 10 | S9: 11 | T9: 12 | U9: 13 | V9: 14 | W9: 15 | X9: 16 | Y9: 17 | Z9: 18 | AA9: 19 | AB9: 20 | AC9: 21 | AD9: 22 | AE9: 23 | AF9: 24 | AG9: 25 | AH9: 26 | AI9: 27 | AJ9: 28 | AK9: 29 | AL9: 30 | AM9: 31 | AN9: 32 | AO9: 33 | AP9: 34 | AQ9: 35
A10: ='Tab 6 - Financial Model'!C3 -> 17091.51 | D10: Year | E10: 2020 | F10: 2021 | G10: 2022 | H10: 2023 | I10: 2024 | J10: 2025 | K10: 2026 | L10: 2027 | M10: 2028 | N10: 2029 | O10: 2030 | P10: 2031 | Q10: 2032 | R10: 2033 | S10: 2034 | T10: 2035 | U10: 2036 | V10: 2037 | W10: 2038 | X10: 2039 | Y10: 2040 | Z10: 2041 | AA10: 2042 | AB10: 2043 | AC10: 2044 | AD10: 2045 | AE10: 2046 | AF10: 2047 | AG10: 2048 | AH10: 2049 | AI10: 2050 | AJ10: 2051 | AK10: 2052 | AL10: 2053 | AM10: 2054 | AN10: 2055 | AO10: 2056 | AP10: 2057 | AQ10: 2058
A12: Expenditures ($)
A13: Supports projects in progress. | B13: Committed/Future OSL Expenditures (2016 Bylaw) | H13: 21905626 | I13: 22962727 | J13: 16268586 | K13: 6012101 | L13: =(17750000-17000000)*(1+'Tab 6 - Financial Model'!$E$25)^'Tab 7 - Bylaw Continuity'!L9 -> 863306.26 | O13: =17750000*(1+'Tab 6 - Financial Model'!$E$25)^'Tab 7 - Bylaw Continuity'!O9 -> 22705429 | P13: =(22100000-3500000)*(1+'Tab 6 - Financial Model'!$E$25)^P9 -> 24644511
A15: 1 | B15: ='Tab 6 - Financial Model'!B14 -> Belvedere Fire Station | D15: ='Tab 6 - Financial Model'!I14 -> 8 | E15: =IF(AND($D15=E$9,$B15='Tab 6 - Financial Model'!$B14),('Tab 6 - Financial Model'!$D14*(1+'Tab 6 - Financial Model'!$E$25)^'Tab 7 - Bylaw Continuity'!E$9),0) -> 0 | F15: =IF(AND($D15=F$9,$B15='Tab 6 - Financial Model'!$B14),('Tab 6 - Financial Model'!$D14*(1+'Tab 6 - Financial Model'!$E$25)^'Tab 7 - Bylaw Continuity'!F$9),0) -> 0 | G15: =IF(AND($D15=G$9,$B15='Tab 6 - Financial Model'!$B14),('Tab 6 - Financial Model'!$D14*(1+'Tab 6 - Financial Model'!$E$25)^'Tab 7 - Bylaw Continuity'!G$9),0) -> 0 | H15: =IF(AND($D15=H$9,$B15='Tab 6 - Financial Model'!$B14),('Tab 6 - Financial Model'!$D14*(1+'Tab 6 - Financial Model'!$E$25)^'Tab 7 - Bylaw Continuity'!H$9),0) -> 0 | I15: =IF(AND($D15=I$9,$B15='Tab 6 - Financial Model'!$B14),('Tab 6 - Financial Model'!$D14*(1+'Tab 6 - Financial Model'!$E$25)^'Tab 7 - Bylaw Continuity'!I$9),0) -> 0 | J15: =IF(AND($D15=J$9,$B15='Tab 6 - Financial Model'!$B14),('Tab 6 - Financial Model'!$D14*(1+'Tab 6 - Financial Model'!$E$25)^'Tab 7 - Bylaw Continuity'!J$9),0) -> 0 | K15: =IF(AND($D15=K$9,$B15='Tab 6 - Financial Model'!$B14),('Tab 6 - Financial Model'!$D14*(1+'Tab 6 - Financial Model'!$E$25)^'Tab 7 - Bylaw Continuity'!K$9),0) -> 0 | L15: =IF(AND($D15=L$9,$B15='Tab 6 - Financial Model'!$B14),('Tab 6 - Financial Model'!$D14*(1+'Tab 6 - Financial Model'!$E$25)^'Tab 7 - Bylaw Continuity'!L$9),0) -> 0 | ... AQ15: =IF(AND($D15=AQ$9,$B15='Tab 6 - Financial Model'!$B14),('Tab 6 - Financial Model'!$D14*(1+'Tab 6 - Financial Model'!$E$25)^'Tab 7 - Bylaw Continuity'!AQ$9),0) -> 0
B16: Expenditures from 2024 Bylaw | D16: =SUMIF('Tab 6 - Financial Model'!$B$14:$B$21,'Tab 7 - Bylaw Continuity'!B15,'Tab 6 - Financial Model'!$F$14:$F$21) -> 0.95 | E16: =E15*$D16 -> 0 | F16: =F15*$D16 -> 0 | G16: =G15*$D16 -> 0 | H16: =H15*$D16 -> 0 | I16: =I15*$D16 -> 0 | J16: =J15*$D16 -> 0 | K16: =K15*$D16 -> 0 | L16: =L15*$D16 -> 0 | ... AQ16: =AQ15*$D16 -> 0
B17: Remainder: needed from other sources | E17: =E15-E16 -> 0 | F17: =F15-F16 -> 0 | G17: =G15-G16 -> 0 | H17: =H15-H16 -> 0 | I17: =I15-I16 -> 0 | J17: =J15-J16 -> 0 | K17: =K15-K16 -> 0 | L17: =L15-L16 -> 0 | ... AQ17: =AQ15-AQ16 -> 0
A18: 2 | B18: ='Tab 6 - Financial Model'!B15 -> Glacier Ridge Fire station | D18: ='Tab 6 - Financial Model'!I15 -> 22 | E18: =IF(AND($D18=E$9,$B18='Tab 6 - Financial Model'!$B15),('Tab 6 - Financial Model'!$D15*(1+'Tab 6 - Financial Model'!$E$25)^'Tab 7 - Bylaw Continuity'!E$9),0) -> 0 | F18: =IF(AND($D18=F$9,$B18='Tab 6 - Financial Model'!$B15),('Tab 6 - Financial Model'!$D15*(1+'Tab 6 - Financial Model'!$E$25)^'Tab 7 - Bylaw Continuity'!F$9),0) -> 0 | G18: =IF(AND($D18=G$9,$B18='Tab 6 - Financial Model'!$B15),('Tab 6 - Financial Model'!$D15*(1+'Tab 6 - Financial Model'!$E$25)^'Tab 7 - Bylaw Continuity'!G$9),0) -> 0 | H18: =IF(AND($D18=H$9,$B18='Tab 6 - Financial Model'!$B15),('Tab 6 - Financial Model'!$D15*(1+'Tab 6 - Financial Model'!$E$25)^'Tab 7 - Bylaw Continuity'!H$9),0) -> 0 | I18: =IF(AND($D18=I$9,$B18='Tab 6 - Financial Model'!$B15),('Tab 6 - Financial Model'!$D15*(1+'Tab 6 - Financial Model'!$E$25)^'Tab 7 - Bylaw Continuity'!I$9),0) -> 0 | J18: =IF(AND($D18=J$9,$B18='Tab 6 - Financial Model'!$B15),('Tab 6 - Financial Model'!$D15*(1+'Tab 6 - Financial Model'!$E$25)^'Tab 7 - Bylaw Continuity'!J$9),0) -> 0 | K18: =IF(AND($D18=K$9,$B18='Tab 6 - Financial Model'!$B15),('Tab 6 - Financial Model'!$D15*(1+'Tab 6 - Financial Model'!$E$25)^'Tab 7 - Bylaw Continuity'!K$9),0) -> 0 | L18: =IF(AND($D18=L$9,$B18='Tab 6 - Financial Model'!$B15),('Tab 6 - Financial Model'!$D15*(1+'Tab 6 - Financial Model'!$E$25)^'Tab 7 - Bylaw Continuity'!L$9),0) -> 0 | ... AQ18: =IF(AND($D18=AQ$9,$B18='Tab 6 - Financial Model'!$B15),('Tab 6 - Financial Model'!$D15*(1+'Tab 6 - Financial Model'!$E$25)^'Tab 7 - Bylaw Continuity'!AQ$9),0) -> 0
B19: Expenditures from 2024 Bylaw | D19: =SUMIF('Tab 6 - Financial Model'!$B$14:$B$21,'Tab 7 - Bylaw Continuity'!B18,'Tab 6 - Financial Model'!$F$14:$F$21) -> 0.95 | E19: =E18*$D19 -> 0 | F19: =F18*$D19 -> 0 | G19: =G18*$D19 -> 0 | H19: =H18*$D19 -> 0 | I19: =I18*$D19 -> 0 | J19: =J18*$D19 -> 0 | K19: =K18*$D19 -> 0 | L19: =L18*$D19 -> 0 | ... AQ19: =AQ18*$D19 -> 0
B20: Remainder: needed from other sources | E20: =E18-E19 -> 0 | F20: =F18-F19 -> 0 | G20: =G18-G19 -> 0 | H20: =H18-H19 -> 0 | I20: =I18-I19 -> 0 | J20: =J18-J19 -> 0 | K20: =K18-K19 -> 0 | L20: =L18-L19 -> 0 | ... AQ20: =AQ18-AQ19 -> 0
A21: 3 | B21: ='Tab 6 - Financial Model'!B16 -> Nose Creek Fire Station | D21: ='Tab 6 - Financial Model'!I16 -> 20 | E21: =IF(AND($D21=E$9,$B21='Tab 6 - Financial Model'!$B16),('Tab 6 - Financial Model'!$D16*(1+'Tab 6 - Financial Model'!$E$25)^'Tab 7 - Bylaw Continuity'!E$9),0) -> 0 | F21: =IF(AND($D21=F$9,$B21='Tab 6 - Financial Model'!$B16),('Tab 6 - Financial Model'!$D16*(1+'Tab 6 - Financial Model'!$E$25)^'Tab 7 - Bylaw Continuity'!F$9),0) -> 0 | G21: =IF(AND($D21=G$9,$B21='Tab 6 - Financial Model'!$B16),('Tab 6 - Financial Model'!$D16*(1+'Tab 6 - Financial Model'!$E$25)^'Tab 7 - Bylaw Continuity'!G$9),0) -> 0 | H21: =IF(AND($D21=H$9,$B21='Tab 6 - Financial Model'!$B16),('Tab 6 - Financial Model'!$D16*(1+'Tab 6 - Financial Model'!$E$25)^'Tab 7 - Bylaw Continuity'!H$9),0) -> 0 | I21: =IF(AND($D21=I$9,$B21='Tab 6 - Financial Model'!$B16),('Tab 6 - Financial Model'!$D16*(1+'Tab 6 - Financial Model'!$E$25)^'Tab 7 - Bylaw Continuity'!I$9),0) -> 0 | J21: =IF(AND($D21=J$9,$B21='Tab 6 - Financial Model'!$B16),('Tab 6 - Financial Model'!$D16*(1+'Tab 6 - Financial Model'!$E$25)^'Tab 7 - Bylaw Continuity'!J$9),0) -> 0 | K21: =IF(AND($D21=K$9,$B21='Tab 6 - Financial Model'!$B16),('Tab 6 - Financial Model'!$D16*(1+'Tab 6 - Financial Model'!$E$25)^'Tab 7 - Bylaw Continuity'!K$9),0) -> 0 | L21: =IF(AND($D21=L$9,$B21='Tab 6 - Financial Model'!$B16),('Tab 6 - Financial Model'!$D16*(1+'Tab 6 - Financial Model'!$E$25)^'Tab 7 - Bylaw Continuity'!L$9),0) -> 0 | ... AQ21: =IF(AND($D21=AQ$9,$B21='Tab 6 - Financial Model'!$B16),('Tab 6 - Financial Model'!$D16*(1+'Tab 6 - Financial Model'!$E$25)^'Tab 7 - Bylaw Continuity'!AQ$9),0) -> 0
B22: Expenditures from 2024 Bylaw | D22: =SUMIF('Tab 6 - Financial Model'!$B$14:$B$21,'Tab 7 - Bylaw Continuity'!B21,'Tab 6 - Financial Model'!$F$14:$F$21) -> 0.99 | E22: =E21*$D22 -> 0 | F22: =F21*$D22 -> 0 | G22: =G21*$D22 -> 0 | H22: =H21*$D22 -> 0 | I22: =I21*$D22 -> 0 | J22: =J21*$D22 -> 0 | K22: =K21*$D22 -> 0 | L22: =L21*$D22 -> 0 | ... AQ22: =AQ21*$D22 -> 0
B23: Remainder: needed from other sources | E23: =E21-E22 -> 0 | F23: =F21-F22 -> 0 | G23: =G21-G22 -> 0 | H23: =H21-H22 -> 0 | I23: =I21-I22 -> 0 | J23: =J21-J22 -> 0 | K23: =K21-K22 -> 0 | L23: =L21-L22 -> 0 | ... AQ23: =AQ21-AQ22 -> 0
A24: 4 | B24: ='Tab 6 - Financial Model'!B17 -> Providence Fire Station | D24: ='Tab 6 - Financial Model'!I17 -> 17 | E24: =IF(AND($D24=E$9,$B24='Tab 6 - Financial Model'!$B17),('Tab 6 - Financial Model'!$D17*(1+'Tab 6 - Financial Model'!$E$25)^'Tab 7 - Bylaw Continuity'!E$9),0) -> 0 | F24: =IF(AND($D24=F$9,$B24='Tab 6 - Financial Model'!$B17),('Tab 6 - Financial Model'!$D17*(1+'Tab 6 - Financial Model'!$E$25)^'Tab 7 - Bylaw Continuity'!F$9),0) -> 0 | G24: =IF(AND($D24=G$9,$B24='Tab 6 - Financial Model'!$B17),('Tab 6 - Financial Model'!$D17*(1+'Tab 6 - Financial Model'!$E$25)^'Tab 7 - Bylaw Continuity'!G$9),0) -> 0 | H24: =IF(AND($D24=H$9,$B24='Tab 6 - Financial Model'!$B17),('Tab 6 - Financial Model'!$D17*(1+'Tab 6 - Financial Model'!$E$25)^'Tab 7 - Bylaw Continuity'!H$9),0) -> 0 | I24: =IF(AND($D24=I$9,$B24='Tab 6 - Financial Model'!$B17),('Tab 6 - Financial Model'!$D17*(1+'Tab 6 - Financial Model'!$E$25)^'Tab 7 - Bylaw Continuity'!I$9),0) -> 0 | J24: =IF(AND($D24=J$9,$B24='Tab 6 - Financial Model'!$B17),('Tab 6 - Financial Model'!$D17*(1+'Tab 6 - Financial Model'!$E$25)^'Tab 7 - Bylaw Continuity'!J$9),0) -> 0 | K24: =IF(AND($D24=K$9,$B24='Tab 6 - Financial Model'!$B17),('Tab 6 - Financial Model'!$D17*(1+'Tab 6 - Financial Model'!$E$25)^'Tab 7 - Bylaw Continuity'!K$9),0) -> 0 | L24: =IF(AND($D24=L$9,$B24='Tab 6 - Financial Model'!$B17),('Tab 6 - Financial Model'!$D17*(1+'Tab 6 - Financial Model'!$E$25)^'Tab 7 - Bylaw Continuity'!L$9),0) -> 0 | ... AQ24: =IF(AND($D24=AQ$9,$B24='Tab 6 - Financial Model'!$B17),('Tab 6 - Financial Model'!$D17*(1+'Tab 6 - Financial Model'!$E$25)^'Tab 7 - Bylaw Continuity'!AQ$9),0) -> 0
B25: Expenditures from 2024 Bylaw | D25: =SUMIF('Tab 6 - Financial Model'!$B$14:$B$21,'Tab 7 - Bylaw Continuity'!B24,'Tab 6 - Financial Model'!$F$14:$F$21) -> 0.93 | E25: =E24*$D25 -> 0 | F25: =F24*$D25 -> 0 | G25: =G24*$D25 -> 0 | H25: =H24*$D25 -> 0 | I25: =I24*$D25 -> 0 | J25: =J24*$D25 -> 0 | K25: =K24*$D25 -> 0 | L25: =L24*$D25 -> 0 | ... AQ25: =AQ24*$D25 -> 0
B26: Remainder: needed from other sources | E26: =E24-E25 -> 0 | F26: =F24-F25 -> 0 | G26: =G24-G25 -> 0 | H26: =H24-H25 -> 0 | I26: =I24-I25 -> 0 | J26: =J24-J25 -> 0 | K26: =K24-K25 -> 0 | L26: =L24-L25 -> 0 | ... AQ26: =AQ24-AQ25 -> 0
A27: 5 | B27: ='Tab 6 - Financial Model'!B18 -> Rangeview Fire Station | D27: ='Tab 6 - Financial Model'!I18 -> 14 | E27: =IF(AND($D27=E$9,$B27='Tab 6 - Financial Model'!$B18),('Tab 6 - Financial Model'!$D18*(1+'Tab 6 - Financial Model'!$E$25)^'Tab 7 - Bylaw Continuity'!E$9),0) -> 0 | F27: =IF(AND($D27=F$9,$B27='Tab 6 - Financial Model'!$B18),('Tab 6 - Financial Model'!$D18*(1+'Tab 6 - Financial Model'!$E$25)^'Tab 7 - Bylaw Continuity'!F$9),0) -> 0 | G27: =IF(AND($D27=G$9,$B27='Tab 6 - Financial Model'!$B18),('Tab 6 - Financial Model'!$D18*(1+'Tab 6 - Financial Model'!$E$25)^'Tab 7 - Bylaw Continuity'!G$9),0) -> 0 | H27: =IF(AND($D27=H$9,$B27='Tab 6 - Financial Model'!$B18),('Tab 6 - Financial Model'!$D18*(1+'Tab 6 - Financial Model'!$E$25)^'Tab 7 - Bylaw Continuity'!H$9),0) -> 0 | I27: =IF(AND($D27=I$9,$B27='Tab 6 - Financial Model'!$B18),('Tab 6 - Financial Model'!$D18*(1+'Tab 6 - Financial Model'!$E$25)^'Tab 7 - Bylaw Continuity'!I$9),0) -> 0 | J27: =IF(AND($D27=J$9,$B27='Tab 6 - Financial Model'!$B18),('Tab 6 - Financial Model'!$D18*(1+'Tab 6 - Financial Model'!$E$25)^'Tab 7 - Bylaw Continuity'!J$9),0) -> 0 | K27: =IF(AND($D27=K$9,$B27='Tab 6 - Financial Model'!$B18),('Tab 6 - Financial Model'!$D18*(1+'Tab 6 - Financial Model'!$E$25)^'Tab 7 - Bylaw Continuity'!K$9),0) -> 0 | L27: =IF(AND($D27=L$9,$B27='Tab 6 - Financial Model'!$B18),('Tab 6 - Financial Model'!$D18*(1+'Tab 6 - Financial Model'!$E$25)^'Tab 7 - Bylaw Continuity'!L$9),0) -> 0 | ... AQ27: =IF(AND($D27=AQ$9,$B27='Tab 6 - Financial Model'!$B18),('Tab 6 - Financial Model'!$D18*(1+'Tab 6 - Financial Model'!$E$25)^'Tab 7 - Bylaw Continuity'!AQ$9),0) -> 0
B28: Expenditures from 2024 Bylaw | D28: =SUMIF('Tab 6 - Financial Model'!$B$14:$B$21,'Tab 7 - Bylaw Continuity'!B27,'Tab 6 - Financial Model'!$F$14:$F$21) -> 0.8 | E28: =E27*$D28 -> 0 | F28: =F27*$D28 -> 0 | G28: =G27*$D28 -> 0 | H28: =H27*$D28 -> 0 | I28: =I27*$D28 -> 0 | J28: =J27*$D28 -> 0 | K28: =K27*$D28 -> 0 | L28: =L27*$D28 -> 0 | ... AQ28: =AQ27*$D28 -> 0
B29: Remainder: needed from other sources | E29: =E27-E28 -> 0 | F29: =F27-F28 -> 0 | G29: =G27-G28 -> 0 | H29: =H27-H28 -> 0 | I29: =I27-I28 -> 0 | J29: =J27-J28 -> 0 | K29: =K27-K28 -> 0 | L29: =L27-L28 -> 0 | ... AQ29: =AQ27-AQ28 -> 0
A30: 6 | B30: ='Tab 6 - Financial Model'!B19 -> South Shepard Fire Station | D30: ='Tab 6 - Financial Model'!I19 -> 10 | E30: =IF(AND($D30=E$9,$B30='Tab 6 - Financial Model'!$B19),('Tab 6 - Financial Model'!$D19*(1+'Tab 6 - Financial Model'!$E$25)^'Tab 7 - Bylaw Continuity'!E$9),0) -> 0 | F30: =IF(AND($D30=F$9,$B30='Tab 6 - Financial Model'!$B19),('Tab 6 - Financial Model'!$D19*(1+'Tab 6 - Financial Model'!$E$25)^'Tab 7 - Bylaw Continuity'!F$9),0) -> 0 | G30: =IF(AND($D30=G$9,$B30='Tab 6 - Financial Model'!$B19),('Tab 6 - Financial Model'!$D19*(1+'Tab 6 - Financial Model'!$E$25)^'Tab 7 - Bylaw Continuity'!G$9),0) -> 0 | H30: =IF(AND($D30=H$9,$B30='Tab 6 - Financial Model'!$B19),('Tab 6 - Financial Model'!$D19*(1+'Tab 6 - Financial Model'!$E$25)^'Tab 7 - Bylaw Continuity'!H$9),0) -> 0 | I30: =IF(AND($D30=I$9,$B30='Tab 6 - Financial Model'!$B19),('Tab 6 - Financial Model'!$D19*(1+'Tab 6 - Financial Model'!$E$25)^'Tab 7 - Bylaw Continuity'!I$9),0) -> 0 | J30: =IF(AND($D30=J$9,$B30='Tab 6 - Financial Model'!$B19),('Tab 6 - Financial Model'!$D19*(1+'Tab 6 - Financial Model'!$E$25)^'Tab 7 - Bylaw Continuity'!J$9),0) -> 0 | K30: =IF(AND($D30=K$9,$B30='Tab 6 - Financial Model'!$B19),('Tab 6 - Financial Model'!$D19*(1+'Tab 6 - Financial Model'!$E$25)^'Tab 7 - Bylaw Continuity'!K$9),0) -> 0 | L30: =IF(AND($D30=L$9,$B30='Tab 6 - Financial Model'!$B19),('Tab 6 - Financial Model'!$D19*(1+'Tab 6 - Financial Model'!$E$25)^'Tab 7 - Bylaw Continuity'!L$9),0) -> 0 | ... AQ30: =IF(AND($D30=AQ$9,$B30='Tab 6 - Financial Model'!$B19),('Tab 6 - Financial Model'!$D19*(1+'Tab 6 - Financial Model'!$E$25)^'Tab 7 - Bylaw Continuity'!AQ$9),0) -> 0
B31: Expenditures from 2024 Bylaw | D31: =SUMIF('Tab 6 - Financial Model'!$B$14:$B$21,'Tab 7 - Bylaw Continuity'!B30,'Tab 6 - Financial Model'!$F$14:$F$21) -> 0.97 | E31: =E30*$D31 -> 0 | F31: =F30*$D31 -> 0 | G31: =G30*$D31 -> 0 | H31: =H30*$D31 -> 0 | I31: =I30*$D31 -> 0 | J31: =J30*$D31 -> 0 | K31: =K30*$D31 -> 0 | L31: =L30*$D31 -> 0 | ... AQ31: =AQ30*$D31 -> 0
B32: Remainder: needed from other sources | E32: =E30-E31 -> 0 | F32: =F30-F31 -> 0 | G32: =G30-G31 -> 0 | H32: =H30-H31 -> 0 | I32: =I30-I31 -> 0 | J32: =J30-J31 -> 0 | K32: =K30-K31 -> 0 | L32: =L30-L31 -> 0 | ... AQ32: =AQ30-AQ31 -> 0
A33: 7 | B33: ='Tab 6 - Financial Model'!B20 -> West View Fire Station | D33: ='Tab 6 - Financial Model'!I20 -> 25 | E33: =IF(AND($D33=E$9,$B33='Tab 6 - Financial Model'!$B20),('Tab 6 - Financial Model'!$D20*(1+'Tab 6 - Financial Model'!$E$25)^'Tab 7 - Bylaw Continuity'!E$9),0) -> 0 | F33: =IF(AND($D33=F$9,$B33='Tab 6 - Financial Model'!$B20),('Tab 6 - Financial Model'!$D20*(1+'Tab 6 - Financial Model'!$E$25)^'Tab 7 - Bylaw Continuity'!F$9),0) -> 0 | G33: =IF(AND($D33=G$9,$B33='Tab 6 - Financial Model'!$B20),('Tab 6 - Financial Model'!$D20*(1+'Tab 6 - Financial Model'!$E$25)^'Tab 7 - Bylaw Continuity'!G$9),0) -> 0 | H33: =IF(AND($D33=H$9,$B33='Tab 6 - Financial Model'!$B20),('Tab 6 - Financial Model'!$D20*(1+'Tab 6 - Financial Model'!$E$25)^'Tab 7 - Bylaw Continuity'!H$9),0) -> 0 | I33: =IF(AND($D33=I$9,$B33='Tab 6 - Financial Model'!$B20),('Tab 6 - Financial Model'!$D20*(1+'Tab 6 - Financial Model'!$E$25)^'Tab 7 - Bylaw Continuity'!I$9),0) -> 0 | J33: =IF(AND($D33=J$9,$B33='Tab 6 - Financial Model'!$B20),('Tab 6 - Financial Model'!$D20*(1+'Tab 6 - Financial Model'!$E$25)^'Tab 7 - Bylaw Continuity'!J$9),0) -> 0 | K33: =IF(AND($D33=K$9,$B33='Tab 6 - Financial Model'!$B20),('Tab 6 - Financial Model'!$D20*(1+'Tab 6 - Financial Model'!$E$25)^'Tab 7 - Bylaw Continuity'!K$9),0) -> 0 | L33: =IF(AND($D33=L$9,$B33='Tab 6 - Financial Model'!$B20),('Tab 6 - Financial Model'!$D20*(1+'Tab 6 - Financial Model'!$E$25)^'Tab 7 - Bylaw Continuity'!L$9),0) -> 0 | ... AQ33: =IF(AND($D33=AQ$9,$B33='Tab 6 - Financial Model'!$B20),('Tab 6 - Financial Model'!$D20*(1+'Tab 6 - Financial Model'!$E$25)^'Tab 7 - Bylaw Continuity'!AQ$9),0) -> 0
B34: Expenditures from 2024 Bylaw | D34: =SUMIF('Tab 6 - Financial Model'!$B$14:$B$21,'Tab 7 - Bylaw Continuity'!B33,'Tab 6 - Financial Model'!$F$14:$F$21) -> 0.99 | E34: =E33*$D34 -> 0 | F34: =F33*$D34 -> 0 | G34: =G33*$D34 -> 0 | H34: =H33*$D34 -> 0 | I34: =I33*$D34 -> 0 | J34: =J33*$D34 -> 0 | K34: =K33*$D34 -> 0 | L34: =L33*$D34 -> 0 | ... AQ34: =AQ33*$D34 -> 0
B35: Remainder: needed from other sources | E35: =E33-E34 -> 0 | F35: =F33-F34 -> 0 | G35: =G33-G34 -> 0 | H35: =H33-H34 -> 0 | I35: =I33-I34 -> 0 | J35: =J33-J34 -> 0 | K35: =K33-K34 -> 0 | L35: =L33-L34 -> 0 | ... AQ35: =AQ33-AQ34 -> 0
A36: 8 | B36: ='Tab 6 - Financial Model'!B21 -> Shepard Industrial Station | D36: ='Tab 6 - Financial Model'!I21 -> 30 | E36: =IF(AND($D36=E$9,$B36='Tab 6 - Financial Model'!$B21),('Tab 6 - Financial Model'!$D21*(1+'Tab 6 - Financial Model'!$E$25)^'Tab 7 - Bylaw Continuity'!E$9),0) -> 0 | F36: =IF(AND($D36=F$9,$B36='Tab 6 - Financial Model'!$B21),('Tab 6 - Financial Model'!$D21*(1+'Tab 6 - Financial Model'!$E$25)^'Tab 7 - Bylaw Continuity'!F$9),0) -> 0 | G36: =IF(AND($D36=G$9,$B36='Tab 6 - Financial Model'!$B21),('Tab 6 - Financial Model'!$D21*(1+'Tab 6 - Financial Model'!$E$25)^'Tab 7 - Bylaw Continuity'!G$9),0) -> 0 | H36: =IF(AND($D36=H$9,$B36='Tab 6 - Financial Model'!$B21),('Tab 6 - Financial Model'!$D21*(1+'Tab 6 - Financial Model'!$E$25)^'Tab 7 - Bylaw Continuity'!H$9),0) -> 0 | I36: =IF(AND($D36=I$9,$B36='Tab 6 - Financial Model'!$B21),('Tab 6 - Financial Model'!$D21*(1+'Tab 6 - Financial Model'!$E$25)^'Tab 7 - Bylaw Continuity'!I$9),0) -> 0 | J36: =IF(AND($D36=J$9,$B36='Tab 6 - Financial Model'!$B21),('Tab 6 - Financial Model'!$D21*(1+'Tab 6 - Financial Model'!$E$25)^'Tab 7 - Bylaw Continuity'!J$9),0) -> 0 | K36: =IF(AND($D36=K$9,$B36='Tab 6 - Financial Model'!$B21),('Tab 6 - Financial Model'!$D21*(1+'Tab 6 - Financial Model'!$E$25)^'Tab 7 - Bylaw Continuity'!K$9),0) -> 0 | L36: =IF(AND($D36=L$9,$B36='Tab 6 - Financial Model'!$B21),('Tab 6 - Financial Model'!$D21*(1+'Tab 6 - Financial Model'!$E$25)^'Tab 7 - Bylaw Continuity'!L$9),0) -> 0 | ... AQ36: =IF(AND($D36=AQ$9,$B36='Tab 6 - Financial Model'!$B21),('Tab 6 - Financial Model'!$D21*(1+'Tab 6 - Financial Model'!$E$25)^'Tab 7 - Bylaw Continuity'!AQ$9),0) -> 0
B37: Expenditures from 2024 Bylaw | D37: =SUMIF('Tab 6 - Financial Model'!$B$14:$B$21,'Tab 7 - Bylaw Continuity'!B36,'Tab 6 - Financial Model'!$F$14:$F$21) -> 0.79 | E37: =E36*$D37 -> 0 | F37: =F36*$D37 -> 0 | G37: =G36*$D37 -> 0 | H37: =H36*$D37 -> 0 | I37: =I36*$D37 -> 0 | J37: =J36*$D37 -> 0 | K37: =K36*$D37 -> 0 | L37: =L36*$D37 -> 0 | ... AQ37: =AQ36*$D37 -> 0
B38: Remainder: needed from other sources | E38: =E36-E37 -> 0 | F38: =F36-F37 -> 0 | G38: =G36-G37 -> 0 | H38: =H36-H37 -> 0 | I38: =I36-I37 -> 0 | J38: =J36-J37 -> 0 | K38: =K36-K37 -> 0 | L38: =L36-L37 -> 0 | ... AQ38: =AQ36-AQ37 -> 0
B39: TOTAL:
B40: Expenditures from 2024 Bylaw | E40: =E16+E19+E22+E25+E28+E31+E34+E37 -> 0 | F40: =F16+F19+F22+F25+F28+F31+F34+F37 -> 0 | G40: =G16+G19+G22+G25+G28+G31+G34+G37 -> 0 | H40: =H16+H19+H22+H25+H28+H31+H34+H37 -> 0 | I40: =I16+I19+I22+I25+I28+I31+I34+I37 -> 0 | J40: =J16+J19+J22+J25+J28+J31+J34+J37 -> 0 | K40: =K16+K19+K22+K25+K28+K31+K34+K37 -> 0 | L40: =L16+L19+L22+L25+L28+L31+L34+L37 -> 0 | ... AQ40: =AQ16+AQ19+AQ22+AQ25+AQ28+AQ31+AQ34+AQ37 -> 0
B41: Remainder: needed from other sources | E41: =E17+E20+E23+E26+E29+E32+E35+E38 -> 0 | F41: =F17+F20+F23+F26+F29+F32+F35+F38 -> 0 | G41: =G17+G20+G23+G26+G29+G32+G35+G38 -> 0 | H41: =H17+H20+H23+H26+H29+H32+H35+H38 -> 0 | I41: =I17+I20+I23+I26+I29+I32+I35+I38 -> 0 | J41: =J17+J20+J23+J26+J29+J32+J35+J38 -> 0 | K41: =K17+K20+K23+K26+K29+K32+K35+K38 -> 0 | L41: =L17+L20+L23+L26+L29+L32+L35+L38 -> 0 | ... AQ41: =AQ17+AQ20+AQ23+AQ26+AQ29+AQ32+AQ35+AQ38 -> 0
B42: Expenditures from 2M2016 Bylaw Balance | E42: =E13 -> 0 | F42: =F13 -> 0 | G42: =G13 -> 0 | H42: =IF(H52=0,0,IF(G63>H41,H41,G63)) -> 0 | I42: =IF(I52=0,0,IF(H63>I41,I41,H63)) -> 0 | J42: =IF(J52=0,0,IF(I63>J41,J41,I63)) -> 0 | K42: =IF(K52=0,0,IF(J63>K41,K41,J63)) -> 0 | L42: =IF(L52=0,0,IF(K63>L41,L41,K63)) -> 0 | M42: =IF(M52=0,0,IF(L63>M41,M41,L63)) -> 0 | N42: =IF(N52=0,0,IF(M63>N41,N41,M63)) -> 0 | O42: =IF(O52=0,0,IF(N63>O41,O41,N63)) -> 0 | ... AK42: =IF(AK52=0,0,IF(AJ63>AK41,AK41,AJ63)) -> 0 | AL42: =IF(AL52=0,0,IF(AK63>AL41,AL41,AK63+AL60)) -> 691339.29 | AM42: =IF(AM52=0,0,IF(AL63>AM41,AM41,AL63)) -> 0 | AN42: =IF(AN52=0,0,IF(AM63>AN41,AN41,AM63)) -> 0 | AO42: =IF(AO52=0,0,IF(AN63>AO41,AO41,AN63)) -> 0 | AP42: =IF(AP52=0,0,IF(AO63>AP41,AP41,AO63)) -> 0 | AQ42: =IF(AQ52=0,0,IF(AP63>AQ41,AQ41,AP63)) -> 0
B43: Expenditures from Non-OSL City Funding Sources | E43: 0 | F43: 0 | G43: 0 | H43: 0 | I43: 0 | J43: 0 | K43: 0 | L43: =(L40+L41)-L40-L42 -> 0 | M43: =(M40+M41)-M40-M42 -> 0 | N43: =(N40+N41)-N40-N42 -> 0 | O43: =(O40+O41)-O40-O42 -> 0 | P43: =(P40+P41)-P40-P42 -> 0 | Q43: =(Q40+Q41)-Q40-Q42 -> 0 | R43: =(R40+R41)-R40-R42 -> 0 | S43: =(S40+S41)-S40-S42 -> 0 | ... AQ43: =(AQ40+AQ41)-AQ40-AQ42 -> 0
A45: Land Absorption (hectares) and DA Contributions ($)
